BEGIN:VCALENDAR
VERSION:2.0
PRODID:-//Christ Presbyterian Church of Houston - ECPv6.15.20//NONSGML v1.0//EN
CALSCALE:GREGORIAN
METHOD:PUBLISH
X-WR-CALNAME:Christ Presbyterian Church of Houston
X-ORIGINAL-URL:https://cpchouston.org
X-WR-CALDESC:Events for Christ Presbyterian Church of Houston
REFRESH-INTERVAL;VALUE=DURATION:PT1H
X-Robots-Tag:noindex
X-PUBLISHED-TTL:PT1H
BEGIN:VTIMEZONE
TZID:America/Chicago
BEGIN:DAYLIGHT
TZOFFSETFROM:-0600
TZOFFSETTO:-0500
TZNAME:CDT
DTSTART:20240310T080000
END:DAYLIGHT
BEGIN:STANDARD
TZOFFSETFROM:-0500
TZOFFSETTO:-0600
TZNAME:CST
DTSTART:20241103T070000
END:STANDARD
BEGIN:DAYLIGHT
TZOFFSETFROM:-0600
TZOFFSETTO:-0500
TZNAME:CDT
DTSTART:20250309T080000
END:DAYLIGHT
BEGIN:STANDARD
TZOFFSETFROM:-0500
TZOFFSETTO:-0600
TZNAME:CST
DTSTART:20251102T070000
END:STANDARD
BEGIN:DAYLIGHT
TZOFFSETFROM:-0600
TZOFFSETTO:-0500
TZNAME:CDT
DTSTART:20260308T080000
END:DAYLIGHT
BEGIN:STANDARD
TZOFFSETFROM:-0500
TZOFFSETTO:-0600
TZNAME:CST
DTSTART:20261101T070000
END:STANDARD
END:VTIMEZONE
BEGIN:VEVENT
DTSTART;TZID=America/Chicago:20250702T183000
DTEND;TZID=America/Chicago:20250702T200000
DTSTAMP:20260421T053558
CREATED:20250624T141417Z
LAST-MODIFIED:20250624T141417Z
UID:20544-1751481000-1751486400@cpchouston.org
SUMMARY:Women's Ministry Prayer Meeting
DESCRIPTION:Join us for an in-person Women’s Ministry prayer meeting on July 2\, 6:30–8:00 pm. We will meet on Main Street from 6:30–7:00 pm for fellowship and a $5 meal provided by the church. From 7:00–8:00 pm we will head upstairs to pray together. Childcare is provided\, as this prayer time coincides with Wacky Wednesday!
URL:https://cpchouston.org/event/womens-ministry-prayer-meeting-2/
LOCATION:CPC\, 8300 Katy Fwy\, Houston\, TX\, 77024\, United States
CATEGORIES:Featured Event,Women
ATTACH;FMTTYPE=image/png:https://cpchouston.org/wp-content/uploads/2025/06/WIM-Prayer-Meeting-Event.png
END:VEVENT
BEGIN:VEVENT
DTSTART;TZID=America/Chicago:20250706T083000
DTEND;TZID=America/Chicago:20250706T094500
DTSTAMP:20260421T053558
CREATED:20210916T150630Z
LAST-MODIFIED:20260128T214141Z
UID:17161-1751790600-1751795100@cpchouston.org
SUMMARY:Worship Service
DESCRIPTION:Sunday Morning Schedule\n8:30 am Worship Service in Sanctuary & livestreamed here: Worship Livestream\n10:00 am Sunday School\n11:00 am Worship Service in Sanctuary
URL:https://cpchouston.org/event/test-for-feature/2025-07-06/
LOCATION:CPC\, 8300 Katy Fwy\, Houston\, TX\, 77024\, United States
ATTACH;FMTTYPE=image/png:https://cpchouston.org/wp-content/uploads/2021/09/In-Person-Worship-Events-2020.png
END:VEVENT
BEGIN:VEVENT
DTSTART;TZID=America/Chicago:20250706T110000
DTEND;TZID=America/Chicago:20250706T121500
DTSTAMP:20260421T053558
CREATED:20210916T150630Z
LAST-MODIFIED:20260128T214142Z
UID:17162-1751799600-1751804100@cpchouston.org
SUMMARY:Worship Service
DESCRIPTION:Sunday Morning Schedule\n8:30 am Worship Service in Sanctuary & livestreamed here: Worship Livestream\n10:00 am Sunday School\n11:00 am Worship Service in Sanctuary
URL:https://cpchouston.org/event/test-for-feature/2025-07-06/
LOCATION:CPC\, 8300 Katy Fwy\, Houston\, TX\, 77024\, United States
ATTACH;FMTTYPE=image/png:https://cpchouston.org/wp-content/uploads/2021/09/In-Person-Worship-Events-2020.png
END:VEVENT
BEGIN:VEVENT
DTSTART;TZID=America/Chicago:20250713T083000
DTEND;TZID=America/Chicago:20250713T094500
DTSTAMP:20260421T053558
CREATED:20210916T150630Z
LAST-MODIFIED:20260128T214145Z
UID:17204-1752395400-1752399900@cpchouston.org
SUMMARY:Worship Service
DESCRIPTION:Sunday Morning Schedule\n8:30 am Worship Service in Sanctuary & livestreamed here: Worship Livestream\n10:00 am Sunday School\n11:00 am Worship Service in Sanctuary
URL:https://cpchouston.org/event/test-for-feature/2025-07-13/
LOCATION:CPC\, 8300 Katy Fwy\, Houston\, TX\, 77024\, United States
ATTACH;FMTTYPE=image/png:https://cpchouston.org/wp-content/uploads/2021/09/In-Person-Worship-Events-2020.png
END:VEVENT
BEGIN:VEVENT
DTSTART;TZID=America/Chicago:20250713T110000
DTEND;TZID=America/Chicago:20250713T121500
DTSTAMP:20260421T053558
CREATED:20210916T150630Z
LAST-MODIFIED:20260128T214146Z
UID:17205-1752404400-1752408900@cpchouston.org
SUMMARY:Worship Service
DESCRIPTION:Sunday Morning Schedule\n8:30 am Worship Service in Sanctuary & livestreamed here: Worship Livestream\n10:00 am Sunday School\n11:00 am Worship Service in Sanctuary
URL:https://cpchouston.org/event/test-for-feature/2025-07-13/
LOCATION:CPC\, 8300 Katy Fwy\, Houston\, TX\, 77024\, United States
ATTACH;FMTTYPE=image/png:https://cpchouston.org/wp-content/uploads/2021/09/In-Person-Worship-Events-2020.png
END:VEVENT
BEGIN:VEVENT
DTSTART;TZID=America/Chicago:20250720T083000
DTEND;TZID=America/Chicago:20250720T094500
DTSTAMP:20260421T053558
CREATED:20210916T150630Z
LAST-MODIFIED:20260128T214147Z
UID:17224-1753000200-1753004700@cpchouston.org
SUMMARY:Worship Service
DESCRIPTION:Sunday Morning Schedule\n8:30 am Worship Service in Sanctuary & livestreamed here: Worship Livestream\n10:00 am Sunday School\n11:00 am Worship Service in Sanctuary
URL:https://cpchouston.org/event/test-for-feature/2025-07-20/
LOCATION:CPC\, 8300 Katy Fwy\, Houston\, TX\, 77024\, United States
ATTACH;FMTTYPE=image/png:https://cpchouston.org/wp-content/uploads/2021/09/In-Person-Worship-Events-2020.png
END:VEVENT
BEGIN:VEVENT
DTSTART;TZID=America/Chicago:20250720T110000
DTEND;TZID=America/Chicago:20250720T121500
DTSTAMP:20260421T053558
CREATED:20210916T150630Z
LAST-MODIFIED:20260128T214148Z
UID:17225-1753009200-1753013700@cpchouston.org
SUMMARY:Worship Service
DESCRIPTION:Sunday Morning Schedule\n8:30 am Worship Service in Sanctuary & livestreamed here: Worship Livestream\n10:00 am Sunday School\n11:00 am Worship Service in Sanctuary
URL:https://cpchouston.org/event/test-for-feature/2025-07-20/
LOCATION:CPC\, 8300 Katy Fwy\, Houston\, TX\, 77024\, United States
ATTACH;FMTTYPE=image/png:https://cpchouston.org/wp-content/uploads/2021/09/In-Person-Worship-Events-2020.png
END:VEVENT
BEGIN:VEVENT
DTSTART;VALUE=DATE:20250724
DTEND;VALUE=DATE:20250728
DTSTAMP:20260421T053558
CREATED:20250127T140430Z
LAST-MODIFIED:20250501T173339Z
UID:19263-1753315200-1753660799@cpchouston.org
SUMMARY:Mo-Ranch All-Church Retreat
DESCRIPTION:We are excited to announce that we are heading back to Mo-Ranch in the beautiful Texas Hill Country\, July 24-27! This all-church retreat is the perfect opportunity for us to get to know each other better and form deeper friendships as a church family. Prayerfully consider joining us for a great time of refreshment\, games\, fellowship\, worship\, and rest. \nRegister through June 8 to be part of this special time with our church family! \n					\n									Mo-Ranch Registration
URL:https://cpchouston.org/event/mo-ranch-all-church-retreat-4/
LOCATION:Mo-Ranch\, 2229 FM 1340\, Hunt\, 78024
CATEGORIES:Featured Event
ATTACH;FMTTYPE=image/png:https://cpchouston.org/wp-content/uploads/2025/01/Mo-Ranch-2025-Events.png
END:VEVENT
BEGIN:VEVENT
DTSTART;TZID=America/Chicago:20250727T083000
DTEND;TZID=America/Chicago:20250727T094500
DTSTAMP:20260421T053558
CREATED:20210916T150630Z
LAST-MODIFIED:20260128T214149Z
UID:17249-1753605000-1753609500@cpchouston.org
SUMMARY:Worship Service
DESCRIPTION:Sunday Morning Schedule\n8:30 am Worship Service in Sanctuary & livestreamed here: Worship Livestream\n10:00 am Sunday School\n11:00 am Worship Service in Sanctuary
URL:https://cpchouston.org/event/test-for-feature/2025-07-27/
LOCATION:CPC\, 8300 Katy Fwy\, Houston\, TX\, 77024\, United States
ATTACH;FMTTYPE=image/png:https://cpchouston.org/wp-content/uploads/2021/09/In-Person-Worship-Events-2020.png
END:VEVENT
BEGIN:VEVENT
DTSTART;TZID=America/Chicago:20250727T100000
DTEND;TZID=America/Chicago:20250727T111500
DTSTAMP:20260421T053558
CREATED:20250721T201117Z
LAST-MODIFIED:20250721T201117Z
UID:20660-1753610400-1753614900@cpchouston.org
SUMMARY:One Worship Service
DESCRIPTION:One Worship Service July 27\nOn Sunday\, July 27\, while many members of our church family will be gathered for our all-church retreat at Mo-Ranch\, we will have one combined worship service at 10 am in the Sanctuary. Sunday school classes will not meet. Children’s Church for kindergarten and younger will be offered.
URL:https://cpchouston.org/event/one-worship-service-3/
LOCATION:CPC\, 8300 Katy Fwy\, Houston\, TX\, 77024\, United States
CATEGORIES:Featured Event
ATTACH;FMTTYPE=image/png:https://cpchouston.org/wp-content/uploads/2025/07/Modified-Schedule-July-27-Events.png
END:VEVENT
BEGIN:VEVENT
DTSTART;TZID=America/Chicago:20250727T110000
DTEND;TZID=America/Chicago:20250727T121500
DTSTAMP:20260421T053558
CREATED:20210916T150630Z
LAST-MODIFIED:20260128T214150Z
UID:17250-1753614000-1753618500@cpchouston.org
SUMMARY:Worship Service
DESCRIPTION:Sunday Morning Schedule\n8:30 am Worship Service in Sanctuary & livestreamed here: Worship Livestream\n10:00 am Sunday School\n11:00 am Worship Service in Sanctuary
URL:https://cpchouston.org/event/test-for-feature/2025-07-27/
LOCATION:CPC\, 8300 Katy Fwy\, Houston\, TX\, 77024\, United States
ATTACH;FMTTYPE=image/png:https://cpchouston.org/wp-content/uploads/2021/09/In-Person-Worship-Events-2020.png
END:VEVENT
END:VCALENDAR