BEGIN:VCALENDAR
VERSION:2.0
PRODID:-//Christ Presbyterian Church of Houston - ECPv6.15.20//NONSGML v1.0//EN
CALSCALE:GREGORIAN
METHOD:PUBLISH
X-ORIGINAL-URL:https://cpchouston.org
X-WR-CALDESC:Events for Christ Presbyterian Church of Houston
REFRESH-INTERVAL;VALUE=DURATION:PT1H
X-Robots-Tag:noindex
X-PUBLISHED-TTL:PT1H
BEGIN:VTIMEZONE
TZID:America/Chicago
BEGIN:DAYLIGHT
TZOFFSETFROM:-0600
TZOFFSETTO:-0500
TZNAME:CDT
DTSTART:20240310T080000
END:DAYLIGHT
BEGIN:STANDARD
TZOFFSETFROM:-0500
TZOFFSETTO:-0600
TZNAME:CST
DTSTART:20241103T070000
END:STANDARD
BEGIN:DAYLIGHT
TZOFFSETFROM:-0600
TZOFFSETTO:-0500
TZNAME:CDT
DTSTART:20250309T080000
END:DAYLIGHT
BEGIN:STANDARD
TZOFFSETFROM:-0500
TZOFFSETTO:-0600
TZNAME:CST
DTSTART:20251102T070000
END:STANDARD
BEGIN:DAYLIGHT
TZOFFSETFROM:-0600
TZOFFSETTO:-0500
TZNAME:CDT
DTSTART:20260308T080000
END:DAYLIGHT
BEGIN:STANDARD
TZOFFSETFROM:-0500
TZOFFSETTO:-0600
TZNAME:CST
DTSTART:20261101T070000
END:STANDARD
END:VTIMEZONE
BEGIN:VEVENT
DTSTART;TZID=America/Chicago:20250720T110000
DTEND;TZID=America/Chicago:20250720T121500
DTSTAMP:20260420T224808
CREATED:20210916T150630Z
LAST-MODIFIED:20260128T214148Z
UID:17225-1753009200-1753013700@cpchouston.org
SUMMARY:Worship Service
DESCRIPTION:Sunday Morning Schedule\n8:30 am Worship Service in Sanctuary & livestreamed here: Worship Livestream\n10:00 am Sunday School\n11:00 am Worship Service in Sanctuary
URL:https://cpchouston.org/event/test-for-feature/2025-07-20/
LOCATION:CPC\, 8300 Katy Fwy\, Houston\, TX\, 77024\, United States
ATTACH;FMTTYPE=image/png:https://cpchouston.org/wp-content/uploads/2021/09/In-Person-Worship-Events-2020.png
END:VEVENT
BEGIN:VEVENT
DTSTART;VALUE=DATE:20250724
DTEND;VALUE=DATE:20250728
DTSTAMP:20260420T224808
CREATED:20250127T140430Z
LAST-MODIFIED:20250501T173339Z
UID:19263-1753315200-1753660799@cpchouston.org
SUMMARY:Mo-Ranch All-Church Retreat
DESCRIPTION:We are excited to announce that we are heading back to Mo-Ranch in the beautiful Texas Hill Country\, July 24-27! This all-church retreat is the perfect opportunity for us to get to know each other better and form deeper friendships as a church family. Prayerfully consider joining us for a great time of refreshment\, games\, fellowship\, worship\, and rest. \nRegister through June 8 to be part of this special time with our church family! \n					\n									Mo-Ranch Registration
URL:https://cpchouston.org/event/mo-ranch-all-church-retreat-4/
LOCATION:Mo-Ranch\, 2229 FM 1340\, Hunt\, 78024
CATEGORIES:Featured Event
ATTACH;FMTTYPE=image/png:https://cpchouston.org/wp-content/uploads/2025/01/Mo-Ranch-2025-Events.png
END:VEVENT
BEGIN:VEVENT
DTSTART;TZID=America/Chicago:20250727T083000
DTEND;TZID=America/Chicago:20250727T094500
DTSTAMP:20260420T224808
CREATED:20210916T150630Z
LAST-MODIFIED:20260128T214149Z
UID:17249-1753605000-1753609500@cpchouston.org
SUMMARY:Worship Service
DESCRIPTION:Sunday Morning Schedule\n8:30 am Worship Service in Sanctuary & livestreamed here: Worship Livestream\n10:00 am Sunday School\n11:00 am Worship Service in Sanctuary
URL:https://cpchouston.org/event/test-for-feature/2025-07-27/
LOCATION:CPC\, 8300 Katy Fwy\, Houston\, TX\, 77024\, United States
ATTACH;FMTTYPE=image/png:https://cpchouston.org/wp-content/uploads/2021/09/In-Person-Worship-Events-2020.png
END:VEVENT
BEGIN:VEVENT
DTSTART;TZID=America/Chicago:20250727T100000
DTEND;TZID=America/Chicago:20250727T111500
DTSTAMP:20260420T224808
CREATED:20250721T201117Z
LAST-MODIFIED:20250721T201117Z
UID:20660-1753610400-1753614900@cpchouston.org
SUMMARY:One Worship Service
DESCRIPTION:One Worship Service July 27\nOn Sunday\, July 27\, while many members of our church family will be gathered for our all-church retreat at Mo-Ranch\, we will have one combined worship service at 10 am in the Sanctuary. Sunday school classes will not meet. Children’s Church for kindergarten and younger will be offered.
URL:https://cpchouston.org/event/one-worship-service-3/
LOCATION:CPC\, 8300 Katy Fwy\, Houston\, TX\, 77024\, United States
CATEGORIES:Featured Event
ATTACH;FMTTYPE=image/png:https://cpchouston.org/wp-content/uploads/2025/07/Modified-Schedule-July-27-Events.png
END:VEVENT
BEGIN:VEVENT
DTSTART;TZID=America/Chicago:20250727T110000
DTEND;TZID=America/Chicago:20250727T121500
DTSTAMP:20260420T224808
CREATED:20210916T150630Z
LAST-MODIFIED:20260128T214150Z
UID:17250-1753614000-1753618500@cpchouston.org
SUMMARY:Worship Service
DESCRIPTION:Sunday Morning Schedule\n8:30 am Worship Service in Sanctuary & livestreamed here: Worship Livestream\n10:00 am Sunday School\n11:00 am Worship Service in Sanctuary
URL:https://cpchouston.org/event/test-for-feature/2025-07-27/
LOCATION:CPC\, 8300 Katy Fwy\, Houston\, TX\, 77024\, United States
ATTACH;FMTTYPE=image/png:https://cpchouston.org/wp-content/uploads/2021/09/In-Person-Worship-Events-2020.png
END:VEVENT
BEGIN:VEVENT
DTSTART;TZID=America/Chicago:20250802T110000
DTEND;TZID=America/Chicago:20250802T123000
DTSTAMP:20260420T224808
CREATED:20250731T150038Z
LAST-MODIFIED:20250802T173626Z
UID:20712-1754132400-1754137800@cpchouston.org
SUMMARY:Memorial Service for Susan Dawson
DESCRIPTION:We extend our sympathy to Larry Dawson in the loss of his wife\, Susan\, on Tuesday\, July 8. May the comfort of Christ be with Larry and his family during this time. A memorial service will be held Saturday\, August 2\, at 11 am in the CPC Sanctuary. The service recording is below. \nhttps://vimeo.com/1104915199?share=copy#t=0
URL:https://cpchouston.org/event/memorial-service-for-susan-dawson/
LOCATION:CPC\, 8300 Katy Fwy\, Houston\, TX\, 77024\, United States
CATEGORIES:Featured Event
ATTACH;FMTTYPE=image/png:https://cpchouston.org/wp-content/uploads/2025/07/Susan-Dawson-Memorial-Service.png
END:VEVENT
BEGIN:VEVENT
DTSTART;TZID=America/Chicago:20250803T083000
DTEND;TZID=America/Chicago:20250803T094500
DTSTAMP:20260420T224808
CREATED:20210916T150630Z
LAST-MODIFIED:20260128T214151Z
UID:17288-1754209800-1754214300@cpchouston.org
SUMMARY:Worship Service
DESCRIPTION:Sunday Morning Schedule\n8:30 am Worship Service in Sanctuary & livestreamed here: Worship Livestream\n10:00 am Sunday School\n11:00 am Worship Service in Sanctuary
URL:https://cpchouston.org/event/test-for-feature/2025-08-03/
LOCATION:CPC\, 8300 Katy Fwy\, Houston\, TX\, 77024\, United States
ATTACH;FMTTYPE=image/png:https://cpchouston.org/wp-content/uploads/2021/09/In-Person-Worship-Events-2020.png
END:VEVENT
BEGIN:VEVENT
DTSTART;TZID=America/Chicago:20250803T110000
DTEND;TZID=America/Chicago:20250803T121500
DTSTAMP:20260420T224808
CREATED:20210916T150630Z
LAST-MODIFIED:20260128T214152Z
UID:17289-1754218800-1754223300@cpchouston.org
SUMMARY:Worship Service
DESCRIPTION:Sunday Morning Schedule\n8:30 am Worship Service in Sanctuary & livestreamed here: Worship Livestream\n10:00 am Sunday School\n11:00 am Worship Service in Sanctuary
URL:https://cpchouston.org/event/test-for-feature/2025-08-03/
LOCATION:CPC\, 8300 Katy Fwy\, Houston\, TX\, 77024\, United States
ATTACH;FMTTYPE=image/png:https://cpchouston.org/wp-content/uploads/2021/09/In-Person-Worship-Events-2020.png
END:VEVENT
BEGIN:VEVENT
DTSTART;TZID=America/Chicago:20250810T083000
DTEND;TZID=America/Chicago:20250810T094500
DTSTAMP:20260420T224808
CREATED:20210916T150630Z
LAST-MODIFIED:20260128T214153Z
UID:17356-1754814600-1754819100@cpchouston.org
SUMMARY:Worship Service
DESCRIPTION:Sunday Morning Schedule\n8:30 am Worship Service in Sanctuary & livestreamed here: Worship Livestream\n10:00 am Sunday School\n11:00 am Worship Service in Sanctuary
URL:https://cpchouston.org/event/test-for-feature/2025-08-10/
LOCATION:CPC\, 8300 Katy Fwy\, Houston\, TX\, 77024\, United States
ATTACH;FMTTYPE=image/png:https://cpchouston.org/wp-content/uploads/2021/09/In-Person-Worship-Events-2020.png
END:VEVENT
BEGIN:VEVENT
DTSTART;TZID=America/Chicago:20250810T110000
DTEND;TZID=America/Chicago:20250810T121500
DTSTAMP:20260420T224808
CREATED:20210916T150630Z
LAST-MODIFIED:20260128T214154Z
UID:17357-1754823600-1754828100@cpchouston.org
SUMMARY:Worship Service
DESCRIPTION:Sunday Morning Schedule\n8:30 am Worship Service in Sanctuary & livestreamed here: Worship Livestream\n10:00 am Sunday School\n11:00 am Worship Service in Sanctuary
URL:https://cpchouston.org/event/test-for-feature/2025-08-10/
LOCATION:CPC\, 8300 Katy Fwy\, Houston\, TX\, 77024\, United States
ATTACH;FMTTYPE=image/png:https://cpchouston.org/wp-content/uploads/2021/09/In-Person-Worship-Events-2020.png
END:VEVENT
BEGIN:VEVENT
DTSTART;TZID=America/Chicago:20250817T083000
DTEND;TZID=America/Chicago:20250817T094500
DTSTAMP:20260420T224808
CREATED:20210916T150630Z
LAST-MODIFIED:20260128T214158Z
UID:17603-1755419400-1755423900@cpchouston.org
SUMMARY:Worship Service
DESCRIPTION:Sunday Morning Schedule\n8:30 am Worship Service in Sanctuary & livestreamed here: Worship Livestream\n10:00 am Sunday School\n11:00 am Worship Service in Sanctuary
URL:https://cpchouston.org/event/test-for-feature/2025-08-17/
LOCATION:CPC\, 8300 Katy Fwy\, Houston\, TX\, 77024\, United States
ATTACH;FMTTYPE=image/png:https://cpchouston.org/wp-content/uploads/2021/09/In-Person-Worship-Events-2020.png
END:VEVENT
BEGIN:VEVENT
DTSTART;TZID=America/Chicago:20250817T100000
DTEND;TZID=America/Chicago:20250817T105000
DTSTAMP:20260420T224808
CREATED:20250724T145333Z
LAST-MODIFIED:20250724T145712Z
UID:20667-1755424800-1755427800@cpchouston.org
SUMMARY:Women's Ministry Fall Kickoff
DESCRIPTION:Calling all ladies! Join us on Sunday\, August 17\, as we kick off the 2025-26 year of CPC Women’s Ministry! We will gather in the Chapel at 10 am (during Sunday School) to fellowship with one another\, enjoy yummy food and coffee\, and hear about the events for the year. Bring your friends! \n					\n									Kickoff Registration
URL:https://cpchouston.org/event/womens-ministry-fall-kickoff/
LOCATION:CPC\, 8300 Katy Fwy\, Houston\, TX\, 77024\, United States
CATEGORIES:Featured Event,Women
ATTACH;FMTTYPE=image/png:https://cpchouston.org/wp-content/uploads/2025/07/WIM-Fall-Kickoff-2025-Events-A.png
END:VEVENT
BEGIN:VEVENT
DTSTART;TZID=America/Chicago:20250817T110000
DTEND;TZID=America/Chicago:20250817T121500
DTSTAMP:20260420T224808
CREATED:20210916T150630Z
LAST-MODIFIED:20260128T214159Z
UID:17604-1755428400-1755432900@cpchouston.org
SUMMARY:Worship Service
DESCRIPTION:Sunday Morning Schedule\n8:30 am Worship Service in Sanctuary & livestreamed here: Worship Livestream\n10:00 am Sunday School\n11:00 am Worship Service in Sanctuary
URL:https://cpchouston.org/event/test-for-feature/2025-08-17/
LOCATION:CPC\, 8300 Katy Fwy\, Houston\, TX\, 77024\, United States
ATTACH;FMTTYPE=image/png:https://cpchouston.org/wp-content/uploads/2021/09/In-Person-Worship-Events-2020.png
END:VEVENT
BEGIN:VEVENT
DTSTART;TZID=America/Chicago:20250823T090000
DTEND;TZID=America/Chicago:20250823T123000
DTSTAMP:20260420T224808
CREATED:20250731T190645Z
LAST-MODIFIED:20250731T190728Z
UID:20726-1755939600-1755952200@cpchouston.org
SUMMARY:Worship Choir Workshop
DESCRIPTION:Saturday\, August 23\, we will be having a Choir Workshop beginning at 9:00 am in the Sanctuary. We will rehearse all the anthems we will be singing this fall and conclude with a lunch.  We should be finished with lunch around 12:30 pm. Please respond to BJ McDougal if you will attend the workshop.
URL:https://cpchouston.org/event/worship-choir-workshop/
LOCATION:CPC\, 8300 Katy Fwy\, Houston\, TX\, 77024\, United States
CATEGORIES:Featured Event,Music & Worship
ATTACH;FMTTYPE=image/png:https://cpchouston.org/wp-content/uploads/2025/07/Worship-Choir-Workshop-08-2025-events.png
END:VEVENT
BEGIN:VEVENT
DTSTART;TZID=America/Chicago:20250824T083000
DTEND;TZID=America/Chicago:20250824T094500
DTSTAMP:20260420T224808
CREATED:20210916T150630Z
LAST-MODIFIED:20260128T214200Z
UID:17719-1756024200-1756028700@cpchouston.org
SUMMARY:Worship Service
DESCRIPTION:Sunday Morning Schedule\n8:30 am Worship Service in Sanctuary & livestreamed here: Worship Livestream\n10:00 am Sunday School\n11:00 am Worship Service in Sanctuary
URL:https://cpchouston.org/event/test-for-feature/2025-08-24/
LOCATION:CPC\, 8300 Katy Fwy\, Houston\, TX\, 77024\, United States
ATTACH;FMTTYPE=image/png:https://cpchouston.org/wp-content/uploads/2021/09/In-Person-Worship-Events-2020.png
END:VEVENT
BEGIN:VEVENT
DTSTART;TZID=America/Chicago:20250824T110000
DTEND;TZID=America/Chicago:20250824T121500
DTSTAMP:20260420T224808
CREATED:20210916T150630Z
LAST-MODIFIED:20260128T214202Z
UID:17720-1756033200-1756037700@cpchouston.org
SUMMARY:Worship Service
DESCRIPTION:Sunday Morning Schedule\n8:30 am Worship Service in Sanctuary & livestreamed here: Worship Livestream\n10:00 am Sunday School\n11:00 am Worship Service in Sanctuary
URL:https://cpchouston.org/event/test-for-feature/2025-08-24/
LOCATION:CPC\, 8300 Katy Fwy\, Houston\, TX\, 77024\, United States
ATTACH;FMTTYPE=image/png:https://cpchouston.org/wp-content/uploads/2021/09/In-Person-Worship-Events-2020.png
END:VEVENT
BEGIN:VEVENT
DTSTART;TZID=America/Chicago:20250827T183000
DTEND;TZID=America/Chicago:20250827T200000
DTSTAMP:20260420T224808
CREATED:20250731T190942Z
LAST-MODIFIED:20251119T185122Z
UID:20728-1756319400-1756324800@cpchouston.org
SUMMARY:Choir Rehearsal
DESCRIPTION:The Worship Choir needs voices this fall! Come be part of leading our congregation in worship. We rehearse Wednesday nights at 6:30 pm in the Sanctuary. Our church has a rich history of choral singing\, and you can be a part of this important ministry here at CPC. Learn more by contacting the church office.
URL:https://cpchouston.org/event/choir-rehearsal-7/2025-08-27/
LOCATION:CPC\, 8300 Katy Fwy\, Houston\, TX\, 77024\, United States
CATEGORIES:Music & Worship
ATTACH;FMTTYPE=image/png:https://cpchouston.org/wp-content/uploads/2022/10/Worship-Choir-08-2022-EVENTS.png
END:VEVENT
BEGIN:VEVENT
DTSTART;TZID=America/Chicago:20250830T110000
DTEND;TZID=America/Chicago:20250830T140000
DTSTAMP:20260420T224808
CREATED:20250806T161827Z
LAST-MODIFIED:20250808T182937Z
UID:20828-1756551600-1756562400@cpchouston.org
SUMMARY:Family Ministry Fall Kick-Off
DESCRIPTION:Join us for our annual Family Ministry’s Fall Kick-off event on Saturday\, August 30\, from 11:00am–2:00pm in the Barn! Enjoy fellowship as we watch the Texas vs. Ohio State game. Lunch will be provided. Please sign up using the button below and consider bringing your favorite football snack or dessert to share! \nChildcare for 5th grade and under will be available in the main church building and lunch will be provided for the children. \nCome hang out and help us kick off a great year! We hope to see you there! \n\nKick-Off Registration
URL:https://cpchouston.org/event/family-ministry-fall-kick-off-3/
LOCATION:CPC\, 8300 Katy Fwy\, Houston\, TX\, 77024\, United States
CATEGORIES:Families,Featured Event
ATTACH;FMTTYPE=image/png:https://cpchouston.org/wp-content/uploads/2023/08/Family-Min-KickOff-Football-09-2023-planning-center-2.png
END:VEVENT
BEGIN:VEVENT
DTSTART;TZID=America/Chicago:20250831T083000
DTEND;TZID=America/Chicago:20250831T094500
DTSTAMP:20260420T224808
CREATED:20210916T150630Z
LAST-MODIFIED:20260128T214204Z
UID:17760-1756629000-1756633500@cpchouston.org
SUMMARY:Worship Service
DESCRIPTION:Sunday Morning Schedule\n8:30 am Worship Service in Sanctuary & livestreamed here: Worship Livestream\n10:00 am Sunday School\n11:00 am Worship Service in Sanctuary
URL:https://cpchouston.org/event/test-for-feature/2025-08-31/
LOCATION:CPC\, 8300 Katy Fwy\, Houston\, TX\, 77024\, United States
ATTACH;FMTTYPE=image/png:https://cpchouston.org/wp-content/uploads/2021/09/In-Person-Worship-Events-2020.png
END:VEVENT
BEGIN:VEVENT
DTSTART;TZID=America/Chicago:20250831T110000
DTEND;TZID=America/Chicago:20250831T121500
DTSTAMP:20260420T224808
CREATED:20210916T150630Z
LAST-MODIFIED:20260128T214205Z
UID:17761-1756638000-1756642500@cpchouston.org
SUMMARY:Worship Service
DESCRIPTION:Sunday Morning Schedule\n8:30 am Worship Service in Sanctuary & livestreamed here: Worship Livestream\n10:00 am Sunday School\n11:00 am Worship Service in Sanctuary
URL:https://cpchouston.org/event/test-for-feature/2025-08-31/
LOCATION:CPC\, 8300 Katy Fwy\, Houston\, TX\, 77024\, United States
ATTACH;FMTTYPE=image/png:https://cpchouston.org/wp-content/uploads/2021/09/In-Person-Worship-Events-2020.png
END:VEVENT
BEGIN:VEVENT
DTSTART;TZID=America/Chicago:20250902T064500
DTEND;TZID=America/Chicago:20250902T074500
DTSTAMP:20260420T224808
CREATED:20250813T151707Z
LAST-MODIFIED:20250912T162528Z
UID:20891-1756795500-1756799100@cpchouston.org
SUMMARY:Men's Bible Study
DESCRIPTION:The Men’s Bible Study returns this fall on Tuesdays\, 6:45 – 7:45 am in the Chapel. Breakfast tacos will be served\, and ministry staff along with seminarians will be teaching through the Psalms. \n					\n									Bible Study Registration
URL:https://cpchouston.org/event/mens-bible-study-7/2025-09-02/
LOCATION:CPC\, 8300 Katy Fwy\, Houston\, TX\, 77024\, United States
CATEGORIES:Bible Study,Men
ATTACH;FMTTYPE=image/png:https://cpchouston.org/wp-content/uploads/2025/08/Mens-Bible-Study-Events-1.png
END:VEVENT
BEGIN:VEVENT
DTSTART;TZID=America/Chicago:20250904T180000
DTEND;TZID=America/Chicago:20250904T203000
DTSTAMP:20260420T224808
CREATED:20251027T175208Z
LAST-MODIFIED:20260304T223839Z
UID:21718-1757008800-1757017800@cpchouston.org
SUMMARY:English Classes
DESCRIPTION:Christ Presbyterian Church welcomes our community for conversational English classes! \nClasses are free. Students need to purchase a book for $40. \nThursdays\, 6:00-8:30 pm\nSeptember 4\, 2025 through May 7\, 2026\nAll levels of English welcome! \nNew students are welcome every Thursday. \nPlease register using the link below. \nQuestions: Contact Axel Sotelo in the church office. \nRegister online: English Classes Registration
URL:https://cpchouston.org/event/english-classes-4/2025-09-04/
LOCATION:CPC\, 8300 Katy Fwy\, Houston\, TX\, 77024\, United States
CATEGORIES:ESL
ATTACH;FMTTYPE=image/png:https://cpchouston.org/wp-content/uploads/2024/08/English-Classes-Digital-2024-events.png
END:VEVENT
BEGIN:VEVENT
DTSTART;TZID=America/Chicago:20250907T083000
DTEND;TZID=America/Chicago:20250907T094500
DTSTAMP:20260420T224808
CREATED:20210916T150630Z
LAST-MODIFIED:20260128T214206Z
UID:17797-1757233800-1757238300@cpchouston.org
SUMMARY:Worship Service
DESCRIPTION:Sunday Morning Schedule\n8:30 am Worship Service in Sanctuary & livestreamed here: Worship Livestream\n10:00 am Sunday School\n11:00 am Worship Service in Sanctuary
URL:https://cpchouston.org/event/test-for-feature/2025-09-07/
LOCATION:CPC\, 8300 Katy Fwy\, Houston\, TX\, 77024\, United States
ATTACH;FMTTYPE=image/png:https://cpchouston.org/wp-content/uploads/2021/09/In-Person-Worship-Events-2020.png
END:VEVENT
BEGIN:VEVENT
DTSTART;TZID=America/Chicago:20250907T110000
DTEND;TZID=America/Chicago:20250907T121500
DTSTAMP:20260420T224808
CREATED:20210916T150630Z
LAST-MODIFIED:20260128T214208Z
UID:17798-1757242800-1757247300@cpchouston.org
SUMMARY:Worship Service
DESCRIPTION:Sunday Morning Schedule\n8:30 am Worship Service in Sanctuary & livestreamed here: Worship Livestream\n10:00 am Sunday School\n11:00 am Worship Service in Sanctuary
URL:https://cpchouston.org/event/test-for-feature/2025-09-07/
LOCATION:CPC\, 8300 Katy Fwy\, Houston\, TX\, 77024\, United States
ATTACH;FMTTYPE=image/png:https://cpchouston.org/wp-content/uploads/2021/09/In-Person-Worship-Events-2020.png
END:VEVENT
BEGIN:VEVENT
DTSTART;TZID=America/Chicago:20250909T064500
DTEND;TZID=America/Chicago:20250909T074500
DTSTAMP:20260420T224808
CREATED:20250813T151707Z
LAST-MODIFIED:20250813T151944Z
UID:20892-1757400300-1757403900@cpchouston.org
SUMMARY:Men's Bible Study
DESCRIPTION:The Men’s Bible Study returns this fall on Tuesday\, September 2\, 6:45 – 7:45 am in the Chapel. Breakfast tacos will be served\, and Ministry Staff along with seminarians will be teaching through the Psalms. \n\nBible Study Registration
URL:https://cpchouston.org/event/mens-bible-study-7/2025-09-09/
LOCATION:CPC\, 8300 Katy Fwy\, Houston\, TX\, 77024\, United States
CATEGORIES:Bible Study,Men
ATTACH;FMTTYPE=image/png:https://cpchouston.org/wp-content/uploads/2025/08/Mens-Bible-Study-Events-1.png
END:VEVENT
BEGIN:VEVENT
DTSTART;TZID=America/Chicago:20250910T093000
DTEND;TZID=America/Chicago:20250910T110000
DTSTAMP:20260420T224808
CREATED:20250731T200036Z
LAST-MODIFIED:20260108T170752Z
UID:20764-1757496600-1757502000@cpchouston.org
SUMMARY:Women's Bible Study
DESCRIPTION:Fall 2025/Spring 2026 \nJudges & Romans: Ruined to Righteous \nJoin Mikie Bellis and the women of CPC for our study of Judges & Romans. \nWeekly lessons are provided free of charge\, and weekly lectures are presented live on Wednesday mornings. The podcast is posted on Tuesdays and the lecture audio is posted on the CPC website on Wednesday afternoons here: Women’s Bible Study. \nSchedule: Small group discussion of the lecture and lesson is offered: \n\nWednesdays from 9:30-11 am at CPC (lunch served at 11 am)\nOnline-only small groups meets on Tuesdays from 7-8 pm and Wednesdays from 1:30-2:30 pm\n\nChildcare \n\nOn Wednesdays\, we offer an enhanced children’s Bible study focusing on the truths of the women’s weekly lessons. Childcare will be provided through lunch\, until 12:00. Women are encouraged to stay for lunch to develop deeper relationships with one another while your children eat lunch with their friends. Childcare is provided for children in 5th grade and under. If you have a homeschool student older than 5th grade\, please contact Angela Ikard for details about our homeschool room. \nRegister online: Women’s Bible Study Registration
URL:https://cpchouston.org/event/womens-bible-study-6/2025-09-10/
LOCATION:CPC\, 8300 Katy Fwy\, Houston\, TX\, 77024\, United States
CATEGORIES:Women
ATTACH;FMTTYPE=image/png:https://cpchouston.org/wp-content/uploads/2022/08/Womens-Bible-Study-2022-2023-Events.png
END:VEVENT
BEGIN:VEVENT
DTSTART;TZID=America/Chicago:20250910T120000
DTEND;TZID=America/Chicago:20250910T140000
DTSTAMP:20260420T224808
CREATED:20250910T193710Z
LAST-MODIFIED:20260302T221521Z
UID:21237-1757505600-1757512800@cpchouston.org
SUMMARY:Lessons & Laughter
DESCRIPTION:We make baby blankets for new babies and prayer shawls for those who are hospitalized and for the grieving. We also make scarves and lap blankets for “Eyes on Me” ministry. We meet Wednesdays at 12 pm in the SonRise Cafe for great fellowship and prayer time. \nIf you don’t already knit or crochet but would love to learn\, this is the place for you! If any questions\, contact the church office. \n 
URL:https://cpchouston.org/event/lessons-laughter-5/2025-09-10/
LOCATION:CPC\, 8300 Katy Fwy\, Houston\, TX\, 77024\, United States
CATEGORIES:Women
END:VEVENT
BEGIN:VEVENT
DTSTART;TZID=America/Chicago:20250910T183000
DTEND;TZID=America/Chicago:20250910T200000
DTSTAMP:20260420T224808
CREATED:20250731T190942Z
LAST-MODIFIED:20251119T185123Z
UID:20729-1757529000-1757534400@cpchouston.org
SUMMARY:Choir Rehearsal
DESCRIPTION:The Worship Choir needs voices this fall! Come be part of leading our congregation in worship. We rehearse Wednesday nights at 6:30 pm in the Sanctuary. Our church has a rich history of choral singing\, and you can be a part of this important ministry here at CPC. Learn more by contacting the church office.
URL:https://cpchouston.org/event/choir-rehearsal-7/2025-09-10/
LOCATION:CPC\, 8300 Katy Fwy\, Houston\, TX\, 77024\, United States
CATEGORIES:Music & Worship
ATTACH;FMTTYPE=image/png:https://cpchouston.org/wp-content/uploads/2022/10/Worship-Choir-08-2022-EVENTS.png
END:VEVENT
BEGIN:VEVENT
DTSTART;TZID=America/Chicago:20250911T180000
DTEND;TZID=America/Chicago:20250911T203000
DTSTAMP:20260420T224808
CREATED:20251027T175208Z
LAST-MODIFIED:20260304T223840Z
UID:21719-1757613600-1757622600@cpchouston.org
SUMMARY:English Classes
DESCRIPTION:Christ Presbyterian Church welcomes our community for conversational English classes! \nClasses are free. Students need to purchase a book for $40. \nThursdays\, 6:00-8:30 pm\nSeptember 4\, 2025 through May 7\, 2026\nAll levels of English welcome! \nNew students are welcome every Thursday. \nPlease register using the link below. \nQuestions: Contact Axel Sotelo in the church office. \nRegister online: English Classes Registration
URL:https://cpchouston.org/event/english-classes-4/2025-09-11/
LOCATION:CPC\, 8300 Katy Fwy\, Houston\, TX\, 77024\, United States
CATEGORIES:ESL
ATTACH;FMTTYPE=image/png:https://cpchouston.org/wp-content/uploads/2024/08/English-Classes-Digital-2024-events.png
END:VEVENT
BEGIN:VEVENT
DTSTART;VALUE=DATE:20250914
DTEND;VALUE=DATE:20250915
DTSTAMP:20260420T224808
CREATED:20250905T152117Z
LAST-MODIFIED:20250909T181949Z
UID:21178-1757808000-1757894399@cpchouston.org
SUMMARY:Youth and Children's Lunches
DESCRIPTION:Youth Lunch\nStudents\, come for fellowship and fun at 12:30 pm in the Barn following the second worship service on September 14. We will have pulled pork sandwiches\, sides\, drinks\, and dessert. Please sign up using the button below. \n					\n									Youth Lunch RSVP\n					 \nChildren’s Lunch\nChildren 5th grade & under are invited for a pizza lunch 12:30-2:30 pm on Sunday\, September 14. We will enjoy fellowship\, games\, and extra time together with our church friends! \n					\n									Children’s Lunch RSVP
URL:https://cpchouston.org/event/youth-and-childrens-lunches/
LOCATION:CPC\, 8300 Katy Fwy\, Houston\, TX\, 77024\, United States
CATEGORIES:Children,Featured Event,Students
ATTACH;FMTTYPE=image/png:https://cpchouston.org/wp-content/uploads/2025/09/Youth-and-Children-Lunches-Digital-Events.png
END:VEVENT
END:VCALENDAR