BEGIN:VCALENDAR
VERSION:2.0
PRODID:-//Christ Presbyterian Church of Houston - ECPv6.15.20//NONSGML v1.0//EN
CALSCALE:GREGORIAN
METHOD:PUBLISH
X-WR-CALNAME:Christ Presbyterian Church of Houston
X-ORIGINAL-URL:https://cpchouston.org
X-WR-CALDESC:Events for Christ Presbyterian Church of Houston
REFRESH-INTERVAL;VALUE=DURATION:PT1H
X-Robots-Tag:noindex
X-PUBLISHED-TTL:PT1H
BEGIN:VTIMEZONE
TZID:America/Chicago
BEGIN:DAYLIGHT
TZOFFSETFROM:-0600
TZOFFSETTO:-0500
TZNAME:CDT
DTSTART:20250309T080000
END:DAYLIGHT
BEGIN:STANDARD
TZOFFSETFROM:-0500
TZOFFSETTO:-0600
TZNAME:CST
DTSTART:20251102T070000
END:STANDARD
BEGIN:DAYLIGHT
TZOFFSETFROM:-0600
TZOFFSETTO:-0500
TZNAME:CDT
DTSTART:20260308T080000
END:DAYLIGHT
BEGIN:STANDARD
TZOFFSETFROM:-0500
TZOFFSETTO:-0600
TZNAME:CST
DTSTART:20261101T070000
END:STANDARD
BEGIN:DAYLIGHT
TZOFFSETFROM:-0600
TZOFFSETTO:-0500
TZNAME:CDT
DTSTART:20270314T080000
END:DAYLIGHT
BEGIN:STANDARD
TZOFFSETFROM:-0500
TZOFFSETTO:-0600
TZNAME:CST
DTSTART:20271107T070000
END:STANDARD
END:VTIMEZONE
BEGIN:VEVENT
DTSTART;TZID=America/Chicago:20260510T083000
DTEND;TZID=America/Chicago:20260510T094500
DTSTAMP:20260420T151858
CREATED:20210916T150630Z
LAST-MODIFIED:20260128T214333Z
UID:20149-1778401800-1778406300@cpchouston.org
SUMMARY:Worship Service
DESCRIPTION:Sunday Morning Schedule\n8:30 am Worship Service in Sanctuary & livestreamed here: Worship Livestream\n10:00 am Sunday School\n11:00 am Worship Service in Sanctuary
URL:https://cpchouston.org/event/test-for-feature/2026-05-10/
LOCATION:CPC\, 8300 Katy Fwy\, Houston\, TX\, 77024\, United States
ATTACH;FMTTYPE=image/png:https://cpchouston.org/wp-content/uploads/2021/09/In-Person-Worship-Events-2020.png
END:VEVENT
BEGIN:VEVENT
DTSTART;TZID=America/Chicago:20260510T110000
DTEND;TZID=America/Chicago:20260510T121500
DTSTAMP:20260420T151858
CREATED:20210916T150630Z
LAST-MODIFIED:20260128T214334Z
UID:20150-1778410800-1778415300@cpchouston.org
SUMMARY:Worship Service
DESCRIPTION:Sunday Morning Schedule\n8:30 am Worship Service in Sanctuary & livestreamed here: Worship Livestream\n10:00 am Sunday School\n11:00 am Worship Service in Sanctuary
URL:https://cpchouston.org/event/test-for-feature/2026-05-10/
LOCATION:CPC\, 8300 Katy Fwy\, Houston\, TX\, 77024\, United States
ATTACH;FMTTYPE=image/png:https://cpchouston.org/wp-content/uploads/2021/09/In-Person-Worship-Events-2020.png
END:VEVENT
BEGIN:VEVENT
DTSTART;TZID=America/Chicago:20260513T120000
DTEND;TZID=America/Chicago:20260513T140000
DTSTAMP:20260420T151858
CREATED:20250910T193710Z
LAST-MODIFIED:20260302T221600Z
UID:22716-1778673600-1778680800@cpchouston.org
SUMMARY:Lessons & Laughter
DESCRIPTION:We make baby blankets for new babies and prayer shawls for those who are hospitalized and for the grieving. We also make scarves and lap blankets for “Eyes on Me” ministry. We meet Wednesdays at 12 pm in the SonRise Cafe for great fellowship and prayer time. \nIf you don’t already knit or crochet but would love to learn\, this is the place for you! If any questions\, contact the church office. \n 
URL:https://cpchouston.org/event/lessons-laughter-5/2026-05-13/
LOCATION:CPC\, 8300 Katy Fwy\, Houston\, TX\, 77024\, United States
CATEGORIES:Women
END:VEVENT
BEGIN:VEVENT
DTSTART;TZID=America/Chicago:20260517T083000
DTEND;TZID=America/Chicago:20260517T094500
DTSTAMP:20260420T151858
CREATED:20210916T150630Z
LAST-MODIFIED:20260128T214335Z
UID:20208-1779006600-1779011100@cpchouston.org
SUMMARY:Worship Service
DESCRIPTION:Sunday Morning Schedule\n8:30 am Worship Service in Sanctuary & livestreamed here: Worship Livestream\n10:00 am Sunday School\n11:00 am Worship Service in Sanctuary
URL:https://cpchouston.org/event/test-for-feature/2026-05-17/
LOCATION:CPC\, 8300 Katy Fwy\, Houston\, TX\, 77024\, United States
ATTACH;FMTTYPE=image/png:https://cpchouston.org/wp-content/uploads/2021/09/In-Person-Worship-Events-2020.png
END:VEVENT
BEGIN:VEVENT
DTSTART;TZID=America/Chicago:20260517T094500
DTEND;TZID=America/Chicago:20260517T101500
DTSTAMP:20260420T151858
CREATED:20260416T225555Z
LAST-MODIFIED:20260416T225555Z
UID:23205-1779011100-1779012900@cpchouston.org
SUMMARY:Congregational Meeting
DESCRIPTION:A Congregational Meeting to elect our new elders and deacons will be held Sunday\, May 17\, immediately following the conclusion of our 8:30 worship service. A Town Hall meeting and financial presentation will follow. Adult Sunday school classes will meet after the meeting. \nThe following candidates will be presented to the congregation for election: Matt Baker (elder)\, Chip Mealy (elder)\, Dan Olson (elder)\, Brian Rose (elder)\, Scott Brown (deacon)\, and Larry Dawson (deacon). Lee Shuchart will be appointed by the Session to serve on the Diaconal Ministry Team alongside our ordained deacons.
URL:https://cpchouston.org/event/congregational-meeting-9/
LOCATION:CPC\, 8300 Katy Fwy\, Houston\, TX\, 77024\, United States
CATEGORIES:Featured Event
ATTACH;FMTTYPE=image/png:https://cpchouston.org/wp-content/uploads/2022/05/Congregational-Meeting.png
END:VEVENT
BEGIN:VEVENT
DTSTART;TZID=America/Chicago:20260517T110000
DTEND;TZID=America/Chicago:20260517T121500
DTSTAMP:20260420T151858
CREATED:20210916T150630Z
LAST-MODIFIED:20260128T214336Z
UID:20209-1779015600-1779020100@cpchouston.org
SUMMARY:Worship Service
DESCRIPTION:Sunday Morning Schedule\n8:30 am Worship Service in Sanctuary & livestreamed here: Worship Livestream\n10:00 am Sunday School\n11:00 am Worship Service in Sanctuary
URL:https://cpchouston.org/event/test-for-feature/2026-05-17/
LOCATION:CPC\, 8300 Katy Fwy\, Houston\, TX\, 77024\, United States
ATTACH;FMTTYPE=image/png:https://cpchouston.org/wp-content/uploads/2021/09/In-Person-Worship-Events-2020.png
END:VEVENT
BEGIN:VEVENT
DTSTART;TZID=America/Chicago:20260524T083000
DTEND;TZID=America/Chicago:20260524T094500
DTSTAMP:20260420T151858
CREATED:20210916T150630Z
LAST-MODIFIED:20260128T214337Z
UID:20319-1779611400-1779615900@cpchouston.org
SUMMARY:Worship Service
DESCRIPTION:Sunday Morning Schedule\n8:30 am Worship Service in Sanctuary & livestreamed here: Worship Livestream\n10:00 am Sunday School\n11:00 am Worship Service in Sanctuary
URL:https://cpchouston.org/event/test-for-feature/2026-05-24/
LOCATION:CPC\, 8300 Katy Fwy\, Houston\, TX\, 77024\, United States
ATTACH;FMTTYPE=image/png:https://cpchouston.org/wp-content/uploads/2021/09/In-Person-Worship-Events-2020.png
END:VEVENT
BEGIN:VEVENT
DTSTART;TZID=America/Chicago:20260524T110000
DTEND;TZID=America/Chicago:20260524T121500
DTSTAMP:20260420T151858
CREATED:20210916T150630Z
LAST-MODIFIED:20260128T214338Z
UID:20320-1779620400-1779624900@cpchouston.org
SUMMARY:Worship Service
DESCRIPTION:Sunday Morning Schedule\n8:30 am Worship Service in Sanctuary & livestreamed here: Worship Livestream\n10:00 am Sunday School\n11:00 am Worship Service in Sanctuary
URL:https://cpchouston.org/event/test-for-feature/2026-05-24/
LOCATION:CPC\, 8300 Katy Fwy\, Houston\, TX\, 77024\, United States
ATTACH;FMTTYPE=image/png:https://cpchouston.org/wp-content/uploads/2021/09/In-Person-Worship-Events-2020.png
END:VEVENT
BEGIN:VEVENT
DTSTART;TZID=America/Chicago:20260531T083000
DTEND;TZID=America/Chicago:20260531T094500
DTSTAMP:20260420T151858
CREATED:20210916T150630Z
LAST-MODIFIED:20260128T214339Z
UID:20365-1780216200-1780220700@cpchouston.org
SUMMARY:Worship Service
DESCRIPTION:Sunday Morning Schedule\n8:30 am Worship Service in Sanctuary & livestreamed here: Worship Livestream\n10:00 am Sunday School\n11:00 am Worship Service in Sanctuary
URL:https://cpchouston.org/event/test-for-feature/2026-05-31/
LOCATION:CPC\, 8300 Katy Fwy\, Houston\, TX\, 77024\, United States
ATTACH;FMTTYPE=image/png:https://cpchouston.org/wp-content/uploads/2021/09/In-Person-Worship-Events-2020.png
END:VEVENT
BEGIN:VEVENT
DTSTART;TZID=America/Chicago:20260531T110000
DTEND;TZID=America/Chicago:20260531T121500
DTSTAMP:20260420T151858
CREATED:20210916T150630Z
LAST-MODIFIED:20260128T214340Z
UID:20366-1780225200-1780229700@cpchouston.org
SUMMARY:Worship Service
DESCRIPTION:Sunday Morning Schedule\n8:30 am Worship Service in Sanctuary & livestreamed here: Worship Livestream\n10:00 am Sunday School\n11:00 am Worship Service in Sanctuary
URL:https://cpchouston.org/event/test-for-feature/2026-05-31/
LOCATION:CPC\, 8300 Katy Fwy\, Houston\, TX\, 77024\, United States
ATTACH;FMTTYPE=image/png:https://cpchouston.org/wp-content/uploads/2021/09/In-Person-Worship-Events-2020.png
END:VEVENT
BEGIN:VEVENT
DTSTART;TZID=America/Chicago:20260607T083000
DTEND;TZID=America/Chicago:20260607T094500
DTSTAMP:20260420T151858
CREATED:20210916T150630Z
LAST-MODIFIED:20260128T214343Z
UID:20482-1780821000-1780825500@cpchouston.org
SUMMARY:Worship Service
DESCRIPTION:Sunday Morning Schedule\n8:30 am Worship Service in Sanctuary & livestreamed here: Worship Livestream\n10:00 am Sunday School\n11:00 am Worship Service in Sanctuary
URL:https://cpchouston.org/event/test-for-feature/2026-06-07/
LOCATION:CPC\, 8300 Katy Fwy\, Houston\, TX\, 77024\, United States
ATTACH;FMTTYPE=image/png:https://cpchouston.org/wp-content/uploads/2021/09/In-Person-Worship-Events-2020.png
END:VEVENT
BEGIN:VEVENT
DTSTART;TZID=America/Chicago:20260607T110000
DTEND;TZID=America/Chicago:20260607T121500
DTSTAMP:20260420T151858
CREATED:20210916T150630Z
LAST-MODIFIED:20260128T214344Z
UID:20483-1780830000-1780834500@cpchouston.org
SUMMARY:Worship Service
DESCRIPTION:Sunday Morning Schedule\n8:30 am Worship Service in Sanctuary & livestreamed here: Worship Livestream\n10:00 am Sunday School\n11:00 am Worship Service in Sanctuary
URL:https://cpchouston.org/event/test-for-feature/2026-06-07/
LOCATION:CPC\, 8300 Katy Fwy\, Houston\, TX\, 77024\, United States
ATTACH;FMTTYPE=image/png:https://cpchouston.org/wp-content/uploads/2021/09/In-Person-Worship-Events-2020.png
END:VEVENT
BEGIN:VEVENT
DTSTART;VALUE=DATE:20260609
DTEND;VALUE=DATE:20260613
DTSTAMP:20260420T151858
CREATED:20260309T200642Z
LAST-MODIFIED:20260414T143117Z
UID:22948-1780963200-1781308799@cpchouston.org
SUMMARY:Vacation Bible School
DESCRIPTION:Mark your calendar for VBS June 9-12\, 9 am to 12 pm! We invite rising kindergarteners through fifth graders to join us for an exciting week filled with Bible lessons\, games\, crafts\, and fellowship with old and new friends! \nPlease register campers or sign up to volunteer using the links below. \nVBS Camper Registration \nVBS Volunteer Registration \nSign Up to Bring Snacks
URL:https://cpchouston.org/event/vacation-bible-school-4/
LOCATION:CPC\, 8300 Katy Fwy\, Houston\, TX\, 77024\, United States
CATEGORIES:Children,Featured Event
ATTACH;FMTTYPE=image/png:https://cpchouston.org/wp-content/uploads/2026/03/VBS-2026-Digital-Events.png
END:VEVENT
BEGIN:VEVENT
DTSTART;TZID=America/Chicago:20260614T083000
DTEND;TZID=America/Chicago:20260614T094500
DTSTAMP:20260420T151858
CREATED:20210916T150630Z
LAST-MODIFIED:20260128T214345Z
UID:20501-1781425800-1781430300@cpchouston.org
SUMMARY:Worship Service
DESCRIPTION:Sunday Morning Schedule\n8:30 am Worship Service in Sanctuary & livestreamed here: Worship Livestream\n10:00 am Sunday School\n11:00 am Worship Service in Sanctuary
URL:https://cpchouston.org/event/test-for-feature/2026-06-14/
LOCATION:CPC\, 8300 Katy Fwy\, Houston\, TX\, 77024\, United States
ATTACH;FMTTYPE=image/png:https://cpchouston.org/wp-content/uploads/2021/09/In-Person-Worship-Events-2020.png
END:VEVENT
BEGIN:VEVENT
DTSTART;TZID=America/Chicago:20260614T110000
DTEND;TZID=America/Chicago:20260614T121500
DTSTAMP:20260420T151858
CREATED:20210916T150630Z
LAST-MODIFIED:20260128T214346Z
UID:20502-1781434800-1781439300@cpchouston.org
SUMMARY:Worship Service
DESCRIPTION:Sunday Morning Schedule\n8:30 am Worship Service in Sanctuary & livestreamed here: Worship Livestream\n10:00 am Sunday School\n11:00 am Worship Service in Sanctuary
URL:https://cpchouston.org/event/test-for-feature/2026-06-14/
LOCATION:CPC\, 8300 Katy Fwy\, Houston\, TX\, 77024\, United States
ATTACH;FMTTYPE=image/png:https://cpchouston.org/wp-content/uploads/2021/09/In-Person-Worship-Events-2020.png
END:VEVENT
BEGIN:VEVENT
DTSTART;TZID=America/Chicago:20260617T120000
DTEND;TZID=America/Chicago:20260617T140000
DTSTAMP:20260420T151858
CREATED:20250910T193710Z
LAST-MODIFIED:20260302T221602Z
UID:22721-1781697600-1781704800@cpchouston.org
SUMMARY:Lessons & Laughter
DESCRIPTION:We make baby blankets for new babies and prayer shawls for those who are hospitalized and for the grieving. We also make scarves and lap blankets for “Eyes on Me” ministry. We meet Wednesdays at 12 pm in the SonRise Cafe for great fellowship and prayer time. \nIf you don’t already knit or crochet but would love to learn\, this is the place for you! If any questions\, contact the church office. \n 
URL:https://cpchouston.org/event/lessons-laughter-5/2026-06-17/
LOCATION:CPC\, 8300 Katy Fwy\, Houston\, TX\, 77024\, United States
CATEGORIES:Women
END:VEVENT
BEGIN:VEVENT
DTSTART;TZID=America/Chicago:20260621T083000
DTEND;TZID=America/Chicago:20260621T094500
DTSTAMP:20260420T151858
CREATED:20210916T150630Z
LAST-MODIFIED:20260128T214347Z
UID:20529-1782030600-1782035100@cpchouston.org
SUMMARY:Worship Service
DESCRIPTION:Sunday Morning Schedule\n8:30 am Worship Service in Sanctuary & livestreamed here: Worship Livestream\n10:00 am Sunday School\n11:00 am Worship Service in Sanctuary
URL:https://cpchouston.org/event/test-for-feature/2026-06-21/
LOCATION:CPC\, 8300 Katy Fwy\, Houston\, TX\, 77024\, United States
ATTACH;FMTTYPE=image/png:https://cpchouston.org/wp-content/uploads/2021/09/In-Person-Worship-Events-2020.png
END:VEVENT
BEGIN:VEVENT
DTSTART;TZID=America/Chicago:20260621T110000
DTEND;TZID=America/Chicago:20260621T121500
DTSTAMP:20260420T151858
CREATED:20210916T150630Z
LAST-MODIFIED:20260128T214348Z
UID:20530-1782039600-1782044100@cpchouston.org
SUMMARY:Worship Service
DESCRIPTION:Sunday Morning Schedule\n8:30 am Worship Service in Sanctuary & livestreamed here: Worship Livestream\n10:00 am Sunday School\n11:00 am Worship Service in Sanctuary
URL:https://cpchouston.org/event/test-for-feature/2026-06-21/
LOCATION:CPC\, 8300 Katy Fwy\, Houston\, TX\, 77024\, United States
ATTACH;FMTTYPE=image/png:https://cpchouston.org/wp-content/uploads/2021/09/In-Person-Worship-Events-2020.png
END:VEVENT
BEGIN:VEVENT
DTSTART;TZID=America/Chicago:20260624T120000
DTEND;TZID=America/Chicago:20260624T140000
DTSTAMP:20260420T151858
CREATED:20250910T193710Z
LAST-MODIFIED:20260302T221603Z
UID:22722-1782302400-1782309600@cpchouston.org
SUMMARY:Lessons & Laughter
DESCRIPTION:We make baby blankets for new babies and prayer shawls for those who are hospitalized and for the grieving. We also make scarves and lap blankets for “Eyes on Me” ministry. We meet Wednesdays at 12 pm in the SonRise Cafe for great fellowship and prayer time. \nIf you don’t already knit or crochet but would love to learn\, this is the place for you! If any questions\, contact the church office. \n 
URL:https://cpchouston.org/event/lessons-laughter-5/2026-06-24/
LOCATION:CPC\, 8300 Katy Fwy\, Houston\, TX\, 77024\, United States
CATEGORIES:Women
END:VEVENT
BEGIN:VEVENT
DTSTART;TZID=America/Chicago:20260628T083000
DTEND;TZID=America/Chicago:20260628T094500
DTSTAMP:20260420T151858
CREATED:20210916T150630Z
LAST-MODIFIED:20260128T214349Z
UID:20564-1782635400-1782639900@cpchouston.org
SUMMARY:Worship Service
DESCRIPTION:Sunday Morning Schedule\n8:30 am Worship Service in Sanctuary & livestreamed here: Worship Livestream\n10:00 am Sunday School\n11:00 am Worship Service in Sanctuary
URL:https://cpchouston.org/event/test-for-feature/2026-06-28/
LOCATION:CPC\, 8300 Katy Fwy\, Houston\, TX\, 77024\, United States
ATTACH;FMTTYPE=image/png:https://cpchouston.org/wp-content/uploads/2021/09/In-Person-Worship-Events-2020.png
END:VEVENT
BEGIN:VEVENT
DTSTART;TZID=America/Chicago:20260628T110000
DTEND;TZID=America/Chicago:20260628T121500
DTSTAMP:20260420T151858
CREATED:20210916T150630Z
LAST-MODIFIED:20260128T214350Z
UID:20565-1782644400-1782648900@cpchouston.org
SUMMARY:Worship Service
DESCRIPTION:Sunday Morning Schedule\n8:30 am Worship Service in Sanctuary & livestreamed here: Worship Livestream\n10:00 am Sunday School\n11:00 am Worship Service in Sanctuary
URL:https://cpchouston.org/event/test-for-feature/2026-06-28/
LOCATION:CPC\, 8300 Katy Fwy\, Houston\, TX\, 77024\, United States
ATTACH;FMTTYPE=image/png:https://cpchouston.org/wp-content/uploads/2021/09/In-Person-Worship-Events-2020.png
END:VEVENT
BEGIN:VEVENT
DTSTART;TZID=America/Chicago:20260701T120000
DTEND;TZID=America/Chicago:20260701T140000
DTSTAMP:20260420T151858
CREATED:20250910T193710Z
LAST-MODIFIED:20260302T221605Z
UID:22723-1782907200-1782914400@cpchouston.org
SUMMARY:Lessons & Laughter
DESCRIPTION:We make baby blankets for new babies and prayer shawls for those who are hospitalized and for the grieving. We also make scarves and lap blankets for “Eyes on Me” ministry. We meet Wednesdays at 12 pm in the SonRise Cafe for great fellowship and prayer time. \nIf you don’t already knit or crochet but would love to learn\, this is the place for you! If any questions\, contact the church office. \n 
URL:https://cpchouston.org/event/lessons-laughter-5/2026-07-01/
LOCATION:CPC\, 8300 Katy Fwy\, Houston\, TX\, 77024\, United States
CATEGORIES:Women
END:VEVENT
BEGIN:VEVENT
DTSTART;TZID=America/Chicago:20260705T083000
DTEND;TZID=America/Chicago:20260705T094500
DTSTAMP:20260420T151858
CREATED:20210916T150630Z
LAST-MODIFIED:20260128T214352Z
UID:20599-1783240200-1783244700@cpchouston.org
SUMMARY:Worship Service
DESCRIPTION:Sunday Morning Schedule\n8:30 am Worship Service in Sanctuary & livestreamed here: Worship Livestream\n10:00 am Sunday School\n11:00 am Worship Service in Sanctuary
URL:https://cpchouston.org/event/test-for-feature/2026-07-05/
LOCATION:CPC\, 8300 Katy Fwy\, Houston\, TX\, 77024\, United States
ATTACH;FMTTYPE=image/png:https://cpchouston.org/wp-content/uploads/2021/09/In-Person-Worship-Events-2020.png
END:VEVENT
BEGIN:VEVENT
DTSTART;TZID=America/Chicago:20260705T110000
DTEND;TZID=America/Chicago:20260705T121500
DTSTAMP:20260420T151858
CREATED:20210916T150630Z
LAST-MODIFIED:20260128T214352Z
UID:20600-1783249200-1783253700@cpchouston.org
SUMMARY:Worship Service
DESCRIPTION:Sunday Morning Schedule\n8:30 am Worship Service in Sanctuary & livestreamed here: Worship Livestream\n10:00 am Sunday School\n11:00 am Worship Service in Sanctuary
URL:https://cpchouston.org/event/test-for-feature/2026-07-05/
LOCATION:CPC\, 8300 Katy Fwy\, Houston\, TX\, 77024\, United States
ATTACH;FMTTYPE=image/png:https://cpchouston.org/wp-content/uploads/2021/09/In-Person-Worship-Events-2020.png
END:VEVENT
BEGIN:VEVENT
DTSTART;TZID=America/Chicago:20260708T120000
DTEND;TZID=America/Chicago:20260708T140000
DTSTAMP:20260420T151858
CREATED:20250910T193710Z
LAST-MODIFIED:20260302T221606Z
UID:22724-1783512000-1783519200@cpchouston.org
SUMMARY:Lessons & Laughter
DESCRIPTION:We make baby blankets for new babies and prayer shawls for those who are hospitalized and for the grieving. We also make scarves and lap blankets for “Eyes on Me” ministry. We meet Wednesdays at 12 pm in the SonRise Cafe for great fellowship and prayer time. \nIf you don’t already knit or crochet but would love to learn\, this is the place for you! If any questions\, contact the church office. \n 
URL:https://cpchouston.org/event/lessons-laughter-5/2026-07-08/
LOCATION:CPC\, 8300 Katy Fwy\, Houston\, TX\, 77024\, United States
CATEGORIES:Women
END:VEVENT
BEGIN:VEVENT
DTSTART;TZID=America/Chicago:20260712T083000
DTEND;TZID=America/Chicago:20260712T094500
DTSTAMP:20260420T151858
CREATED:20210916T150630Z
LAST-MODIFIED:20260128T214355Z
UID:20615-1783845000-1783849500@cpchouston.org
SUMMARY:Worship Service
DESCRIPTION:Sunday Morning Schedule\n8:30 am Worship Service in Sanctuary & livestreamed here: Worship Livestream\n10:00 am Sunday School\n11:00 am Worship Service in Sanctuary
URL:https://cpchouston.org/event/test-for-feature/2026-07-12/
LOCATION:CPC\, 8300 Katy Fwy\, Houston\, TX\, 77024\, United States
ATTACH;FMTTYPE=image/png:https://cpchouston.org/wp-content/uploads/2021/09/In-Person-Worship-Events-2020.png
END:VEVENT
BEGIN:VEVENT
DTSTART;TZID=America/Chicago:20260712T110000
DTEND;TZID=America/Chicago:20260712T121500
DTSTAMP:20260420T151858
CREATED:20210916T150630Z
LAST-MODIFIED:20260128T214356Z
UID:20616-1783854000-1783858500@cpchouston.org
SUMMARY:Worship Service
DESCRIPTION:Sunday Morning Schedule\n8:30 am Worship Service in Sanctuary & livestreamed here: Worship Livestream\n10:00 am Sunday School\n11:00 am Worship Service in Sanctuary
URL:https://cpchouston.org/event/test-for-feature/2026-07-12/
LOCATION:CPC\, 8300 Katy Fwy\, Houston\, TX\, 77024\, United States
ATTACH;FMTTYPE=image/png:https://cpchouston.org/wp-content/uploads/2021/09/In-Person-Worship-Events-2020.png
END:VEVENT
BEGIN:VEVENT
DTSTART;TZID=America/Chicago:20260715T120000
DTEND;TZID=America/Chicago:20260715T140000
DTSTAMP:20260420T151858
CREATED:20250910T193710Z
LAST-MODIFIED:20260302T221607Z
UID:22725-1784116800-1784124000@cpchouston.org
SUMMARY:Lessons & Laughter
DESCRIPTION:We make baby blankets for new babies and prayer shawls for those who are hospitalized and for the grieving. We also make scarves and lap blankets for “Eyes on Me” ministry. We meet Wednesdays at 12 pm in the SonRise Cafe for great fellowship and prayer time. \nIf you don’t already knit or crochet but would love to learn\, this is the place for you! If any questions\, contact the church office. \n 
URL:https://cpchouston.org/event/lessons-laughter-5/2026-07-15/
LOCATION:CPC\, 8300 Katy Fwy\, Houston\, TX\, 77024\, United States
CATEGORIES:Women
END:VEVENT
BEGIN:VEVENT
DTSTART;TZID=America/Chicago:20260719T083000
DTEND;TZID=America/Chicago:20260719T094500
DTSTAMP:20260420T151858
CREATED:20210916T150630Z
LAST-MODIFIED:20260128T214357Z
UID:20648-1784449800-1784454300@cpchouston.org
SUMMARY:Worship Service
DESCRIPTION:Sunday Morning Schedule\n8:30 am Worship Service in Sanctuary & livestreamed here: Worship Livestream\n10:00 am Sunday School\n11:00 am Worship Service in Sanctuary
URL:https://cpchouston.org/event/test-for-feature/2026-07-19/
LOCATION:CPC\, 8300 Katy Fwy\, Houston\, TX\, 77024\, United States
ATTACH;FMTTYPE=image/png:https://cpchouston.org/wp-content/uploads/2021/09/In-Person-Worship-Events-2020.png
END:VEVENT
BEGIN:VEVENT
DTSTART;TZID=America/Chicago:20260719T110000
DTEND;TZID=America/Chicago:20260719T121500
DTSTAMP:20260420T151858
CREATED:20210916T150630Z
LAST-MODIFIED:20260128T214358Z
UID:20649-1784458800-1784463300@cpchouston.org
SUMMARY:Worship Service
DESCRIPTION:Sunday Morning Schedule\n8:30 am Worship Service in Sanctuary & livestreamed here: Worship Livestream\n10:00 am Sunday School\n11:00 am Worship Service in Sanctuary
URL:https://cpchouston.org/event/test-for-feature/2026-07-19/
LOCATION:CPC\, 8300 Katy Fwy\, Houston\, TX\, 77024\, United States
ATTACH;FMTTYPE=image/png:https://cpchouston.org/wp-content/uploads/2021/09/In-Person-Worship-Events-2020.png
END:VEVENT
END:VCALENDAR