BEGIN:VCALENDAR
VERSION:2.0
PRODID:-//Christ Presbyterian Church of Houston - ECPv6.15.20//NONSGML v1.0//EN
CALSCALE:GREGORIAN
METHOD:PUBLISH
X-ORIGINAL-URL:https://cpchouston.org
X-WR-CALDESC:Events for Christ Presbyterian Church of Houston
REFRESH-INTERVAL;VALUE=DURATION:PT1H
X-Robots-Tag:noindex
X-PUBLISHED-TTL:PT1H
BEGIN:VTIMEZONE
TZID:America/Chicago
BEGIN:DAYLIGHT
TZOFFSETFROM:-0600
TZOFFSETTO:-0500
TZNAME:CDT
DTSTART:20250309T080000
END:DAYLIGHT
BEGIN:STANDARD
TZOFFSETFROM:-0500
TZOFFSETTO:-0600
TZNAME:CST
DTSTART:20251102T070000
END:STANDARD
BEGIN:DAYLIGHT
TZOFFSETFROM:-0600
TZOFFSETTO:-0500
TZNAME:CDT
DTSTART:20260308T080000
END:DAYLIGHT
BEGIN:STANDARD
TZOFFSETFROM:-0500
TZOFFSETTO:-0600
TZNAME:CST
DTSTART:20261101T070000
END:STANDARD
BEGIN:DAYLIGHT
TZOFFSETFROM:-0600
TZOFFSETTO:-0500
TZNAME:CDT
DTSTART:20270314T080000
END:DAYLIGHT
BEGIN:STANDARD
TZOFFSETFROM:-0500
TZOFFSETTO:-0600
TZNAME:CST
DTSTART:20271107T070000
END:STANDARD
END:VTIMEZONE
BEGIN:VEVENT
DTSTART;TZID=America/Chicago:20261011T083000
DTEND;TZID=America/Chicago:20261011T094500
DTSTAMP:20260422T170353
CREATED:20210916T150630Z
LAST-MODIFIED:20260128T214430Z
UID:21553-1791707400-1791711900@cpchouston.org
SUMMARY:Worship Service
DESCRIPTION:The Men’s Bible Study returns this fall on Tuesday\, September 2\, 6:45 – 7:45 am in the Chapel. Breakfast tacos will be served\, and Ministry Staff along with seminarians will be teaching through the Psalms. 								\n				\n				\n				\n									\n					\n						\n									Bible Study Registration
URL:https://cpchouston.org/event/test-for-feature/2026-10-11/
LOCATION:CPC\, 8300 Katy Fwy\, Houston\, TX\, 77024\, United States
ATTACH;FMTTYPE=image/png:https://cpchouston.org/wp-content/uploads/2021/09/In-Person-Worship-Events-2020.png
END:VEVENT
BEGIN:VEVENT
DTSTART;TZID=America/Chicago:20261011T110000
DTEND;TZID=America/Chicago:20261011T121500
DTSTAMP:20260422T170353
CREATED:20210916T150630Z
LAST-MODIFIED:20260128T214431Z
UID:21554-1791716400-1791720900@cpchouston.org
SUMMARY:Worship Service
DESCRIPTION:The Men’s Bible Study returns this fall on Tuesday\, September 2\, 6:45 – 7:45 am in the Chapel. Breakfast tacos will be served\, and Ministry Staff along with seminarians will be teaching through the Psalms. 								\n				\n				\n				\n									\n					\n						\n									Bible Study Registration
URL:https://cpchouston.org/event/test-for-feature/2026-10-11/
LOCATION:CPC\, 8300 Katy Fwy\, Houston\, TX\, 77024\, United States
ATTACH;FMTTYPE=image/png:https://cpchouston.org/wp-content/uploads/2021/09/In-Person-Worship-Events-2020.png
END:VEVENT
BEGIN:VEVENT
DTSTART;TZID=America/Chicago:20261014T120000
DTEND;TZID=America/Chicago:20261014T140000
DTSTAMP:20260422T170353
CREATED:20250910T193710Z
LAST-MODIFIED:20260302T221619Z
UID:22737-1791979200-1791986400@cpchouston.org
SUMMARY:Lessons & Laughter
DESCRIPTION:The Men’s Bible Study returns this fall on Tuesday\, September 2\, 6:45 – 7:45 am in the Chapel. Breakfast tacos will be served\, and Ministry Staff along with seminarians will be teaching through the Psalms. 								\n				\n				\n				\n									\n					\n						\n									Bible Study Registration
URL:https://cpchouston.org/event/lessons-laughter-5/2026-10-14/
LOCATION:CPC\, 8300 Katy Fwy\, Houston\, TX\, 77024\, United States
CATEGORIES:Women
END:VEVENT
BEGIN:VEVENT
DTSTART;TZID=America/Chicago:20261018T083000
DTEND;TZID=America/Chicago:20261018T094500
DTSTAMP:20260422T170353
CREATED:20210916T150630Z
LAST-MODIFIED:20260128T214433Z
UID:21611-1792312200-1792316700@cpchouston.org
SUMMARY:Worship Service
DESCRIPTION:The Men’s Bible Study returns this fall on Tuesday\, September 2\, 6:45 – 7:45 am in the Chapel. Breakfast tacos will be served\, and Ministry Staff along with seminarians will be teaching through the Psalms. 								\n				\n				\n				\n									\n					\n						\n									Bible Study Registration
URL:https://cpchouston.org/event/test-for-feature/2026-10-18/
LOCATION:CPC\, 8300 Katy Fwy\, Houston\, TX\, 77024\, United States
ATTACH;FMTTYPE=image/png:https://cpchouston.org/wp-content/uploads/2021/09/In-Person-Worship-Events-2020.png
END:VEVENT
BEGIN:VEVENT
DTSTART;TZID=America/Chicago:20261018T110000
DTEND;TZID=America/Chicago:20261018T121500
DTSTAMP:20260422T170353
CREATED:20210916T150630Z
LAST-MODIFIED:20260128T214434Z
UID:21612-1792321200-1792325700@cpchouston.org
SUMMARY:Worship Service
DESCRIPTION:The Men’s Bible Study returns this fall on Tuesday\, September 2\, 6:45 – 7:45 am in the Chapel. Breakfast tacos will be served\, and Ministry Staff along with seminarians will be teaching through the Psalms. 								\n				\n				\n				\n									\n					\n						\n									Bible Study Registration
URL:https://cpchouston.org/event/test-for-feature/2026-10-18/
LOCATION:CPC\, 8300 Katy Fwy\, Houston\, TX\, 77024\, United States
ATTACH;FMTTYPE=image/png:https://cpchouston.org/wp-content/uploads/2021/09/In-Person-Worship-Events-2020.png
END:VEVENT
BEGIN:VEVENT
DTSTART;TZID=America/Chicago:20261021T120000
DTEND;TZID=America/Chicago:20261021T140000
DTSTAMP:20260422T170353
CREATED:20250910T193710Z
LAST-MODIFIED:20260302T221621Z
UID:22738-1792584000-1792591200@cpchouston.org
SUMMARY:Lessons & Laughter
DESCRIPTION:The Men’s Bible Study returns this fall on Tuesday\, September 2\, 6:45 – 7:45 am in the Chapel. Breakfast tacos will be served\, and Ministry Staff along with seminarians will be teaching through the Psalms. 								\n				\n				\n				\n									\n					\n						\n									Bible Study Registration
URL:https://cpchouston.org/event/lessons-laughter-5/2026-10-21/
LOCATION:CPC\, 8300 Katy Fwy\, Houston\, TX\, 77024\, United States
CATEGORIES:Women
END:VEVENT
BEGIN:VEVENT
DTSTART;TZID=America/Chicago:20261025T083000
DTEND;TZID=America/Chicago:20261025T094500
DTSTAMP:20260422T170353
CREATED:20210916T150630Z
LAST-MODIFIED:20260128T214438Z
UID:21678-1792917000-1792921500@cpchouston.org
SUMMARY:Worship Service
DESCRIPTION:The Men’s Bible Study returns this fall on Tuesday\, September 2\, 6:45 – 7:45 am in the Chapel. Breakfast tacos will be served\, and Ministry Staff along with seminarians will be teaching through the Psalms. 								\n				\n				\n				\n									\n					\n						\n									Bible Study Registration
URL:https://cpchouston.org/event/test-for-feature/2026-10-25/
LOCATION:CPC\, 8300 Katy Fwy\, Houston\, TX\, 77024\, United States
ATTACH;FMTTYPE=image/png:https://cpchouston.org/wp-content/uploads/2021/09/In-Person-Worship-Events-2020.png
END:VEVENT
BEGIN:VEVENT
DTSTART;TZID=America/Chicago:20261025T110000
DTEND;TZID=America/Chicago:20261025T121500
DTSTAMP:20260422T170353
CREATED:20210916T150630Z
LAST-MODIFIED:20260128T214439Z
UID:21679-1792926000-1792930500@cpchouston.org
SUMMARY:Worship Service
DESCRIPTION:The Men’s Bible Study returns this fall on Tuesday\, September 2\, 6:45 – 7:45 am in the Chapel. Breakfast tacos will be served\, and Ministry Staff along with seminarians will be teaching through the Psalms. 								\n				\n				\n				\n									\n					\n						\n									Bible Study Registration
URL:https://cpchouston.org/event/test-for-feature/2026-10-25/
LOCATION:CPC\, 8300 Katy Fwy\, Houston\, TX\, 77024\, United States
ATTACH;FMTTYPE=image/png:https://cpchouston.org/wp-content/uploads/2021/09/In-Person-Worship-Events-2020.png
END:VEVENT
BEGIN:VEVENT
DTSTART;TZID=America/Chicago:20261028T120000
DTEND;TZID=America/Chicago:20261028T140000
DTSTAMP:20260422T170353
CREATED:20250910T193710Z
LAST-MODIFIED:20260302T221622Z
UID:22739-1793188800-1793196000@cpchouston.org
SUMMARY:Lessons & Laughter
DESCRIPTION:The Men’s Bible Study returns this fall on Tuesday\, September 2\, 6:45 – 7:45 am in the Chapel. Breakfast tacos will be served\, and Ministry Staff along with seminarians will be teaching through the Psalms. 								\n				\n				\n				\n									\n					\n						\n									Bible Study Registration
URL:https://cpchouston.org/event/lessons-laughter-5/2026-10-28/
LOCATION:CPC\, 8300 Katy Fwy\, Houston\, TX\, 77024\, United States
CATEGORIES:Women
END:VEVENT
BEGIN:VEVENT
DTSTART;TZID=America/Chicago:20261101T083000
DTEND;TZID=America/Chicago:20261101T094500
DTSTAMP:20260422T170353
CREATED:20210916T150630Z
LAST-MODIFIED:20260128T214440Z
UID:21917-1793521800-1793526300@cpchouston.org
SUMMARY:Worship Service
DESCRIPTION:The Men’s Bible Study returns this fall on Tuesday\, September 2\, 6:45 – 7:45 am in the Chapel. Breakfast tacos will be served\, and Ministry Staff along with seminarians will be teaching through the Psalms. 								\n				\n				\n				\n									\n					\n						\n									Bible Study Registration
URL:https://cpchouston.org/event/test-for-feature/2026-11-01/
LOCATION:CPC\, 8300 Katy Fwy\, Houston\, TX\, 77024\, United States
ATTACH;FMTTYPE=image/png:https://cpchouston.org/wp-content/uploads/2021/09/In-Person-Worship-Events-2020.png
END:VEVENT
BEGIN:VEVENT
DTSTART;TZID=America/Chicago:20261101T110000
DTEND;TZID=America/Chicago:20261101T121500
DTSTAMP:20260422T170353
CREATED:20210916T150630Z
LAST-MODIFIED:20260128T214441Z
UID:21918-1793530800-1793535300@cpchouston.org
SUMMARY:Worship Service
DESCRIPTION:The Men’s Bible Study returns this fall on Tuesday\, September 2\, 6:45 – 7:45 am in the Chapel. Breakfast tacos will be served\, and Ministry Staff along with seminarians will be teaching through the Psalms. 								\n				\n				\n				\n									\n					\n						\n									Bible Study Registration
URL:https://cpchouston.org/event/test-for-feature/2026-11-01/
LOCATION:CPC\, 8300 Katy Fwy\, Houston\, TX\, 77024\, United States
ATTACH;FMTTYPE=image/png:https://cpchouston.org/wp-content/uploads/2021/09/In-Person-Worship-Events-2020.png
END:VEVENT
BEGIN:VEVENT
DTSTART;TZID=America/Chicago:20261104T120000
DTEND;TZID=America/Chicago:20261104T140000
DTSTAMP:20260422T170353
CREATED:20250910T193710Z
LAST-MODIFIED:20260302T221623Z
UID:22740-1793793600-1793800800@cpchouston.org
SUMMARY:Lessons & Laughter
DESCRIPTION:The Men’s Bible Study returns this fall on Tuesday\, September 2\, 6:45 – 7:45 am in the Chapel. Breakfast tacos will be served\, and Ministry Staff along with seminarians will be teaching through the Psalms. 								\n				\n				\n				\n									\n					\n						\n									Bible Study Registration
URL:https://cpchouston.org/event/lessons-laughter-5/2026-11-04/
LOCATION:CPC\, 8300 Katy Fwy\, Houston\, TX\, 77024\, United States
CATEGORIES:Women
END:VEVENT
BEGIN:VEVENT
DTSTART;TZID=America/Chicago:20261108T083000
DTEND;TZID=America/Chicago:20261108T094500
DTSTAMP:20260422T170353
CREATED:20210916T150630Z
LAST-MODIFIED:20260128T214442Z
UID:22018-1794126600-1794131100@cpchouston.org
SUMMARY:Worship Service
DESCRIPTION:The Men’s Bible Study returns this fall on Tuesday\, September 2\, 6:45 – 7:45 am in the Chapel. Breakfast tacos will be served\, and Ministry Staff along with seminarians will be teaching through the Psalms. 								\n				\n				\n				\n									\n					\n						\n									Bible Study Registration
URL:https://cpchouston.org/event/test-for-feature/2026-11-08/
LOCATION:CPC\, 8300 Katy Fwy\, Houston\, TX\, 77024\, United States
ATTACH;FMTTYPE=image/png:https://cpchouston.org/wp-content/uploads/2021/09/In-Person-Worship-Events-2020.png
END:VEVENT
BEGIN:VEVENT
DTSTART;TZID=America/Chicago:20261108T110000
DTEND;TZID=America/Chicago:20261108T121500
DTSTAMP:20260422T170353
CREATED:20210916T150630Z
LAST-MODIFIED:20260128T214444Z
UID:22019-1794135600-1794140100@cpchouston.org
SUMMARY:Worship Service
DESCRIPTION:The Men’s Bible Study returns this fall on Tuesday\, September 2\, 6:45 – 7:45 am in the Chapel. Breakfast tacos will be served\, and Ministry Staff along with seminarians will be teaching through the Psalms. 								\n				\n				\n				\n									\n					\n						\n									Bible Study Registration
URL:https://cpchouston.org/event/test-for-feature/2026-11-08/
LOCATION:CPC\, 8300 Katy Fwy\, Houston\, TX\, 77024\, United States
ATTACH;FMTTYPE=image/png:https://cpchouston.org/wp-content/uploads/2021/09/In-Person-Worship-Events-2020.png
END:VEVENT
BEGIN:VEVENT
DTSTART;TZID=America/Chicago:20261111T120000
DTEND;TZID=America/Chicago:20261111T140000
DTSTAMP:20260422T170353
CREATED:20250910T193710Z
LAST-MODIFIED:20260302T221624Z
UID:22741-1794398400-1794405600@cpchouston.org
SUMMARY:Lessons & Laughter
DESCRIPTION:The Men’s Bible Study returns this fall on Tuesday\, September 2\, 6:45 – 7:45 am in the Chapel. Breakfast tacos will be served\, and Ministry Staff along with seminarians will be teaching through the Psalms. 								\n				\n				\n				\n									\n					\n						\n									Bible Study Registration
URL:https://cpchouston.org/event/lessons-laughter-5/2026-11-11/
LOCATION:CPC\, 8300 Katy Fwy\, Houston\, TX\, 77024\, United States
CATEGORIES:Women
END:VEVENT
BEGIN:VEVENT
DTSTART;TZID=America/Chicago:20261115T083000
DTEND;TZID=America/Chicago:20261115T094500
DTSTAMP:20260422T170353
CREATED:20210916T150630Z
LAST-MODIFIED:20260128T214445Z
UID:22067-1794731400-1794735900@cpchouston.org
SUMMARY:Worship Service
DESCRIPTION:The Men’s Bible Study returns this fall on Tuesday\, September 2\, 6:45 – 7:45 am in the Chapel. Breakfast tacos will be served\, and Ministry Staff along with seminarians will be teaching through the Psalms. 								\n				\n				\n				\n									\n					\n						\n									Bible Study Registration
URL:https://cpchouston.org/event/test-for-feature/2026-11-15/
LOCATION:CPC\, 8300 Katy Fwy\, Houston\, TX\, 77024\, United States
ATTACH;FMTTYPE=image/png:https://cpchouston.org/wp-content/uploads/2021/09/In-Person-Worship-Events-2020.png
END:VEVENT
BEGIN:VEVENT
DTSTART;TZID=America/Chicago:20261115T110000
DTEND;TZID=America/Chicago:20261115T121500
DTSTAMP:20260422T170353
CREATED:20210916T150630Z
LAST-MODIFIED:20260128T214446Z
UID:22068-1794740400-1794744900@cpchouston.org
SUMMARY:Worship Service
DESCRIPTION:The Men’s Bible Study returns this fall on Tuesday\, September 2\, 6:45 – 7:45 am in the Chapel. Breakfast tacos will be served\, and Ministry Staff along with seminarians will be teaching through the Psalms. 								\n				\n				\n				\n									\n					\n						\n									Bible Study Registration
URL:https://cpchouston.org/event/test-for-feature/2026-11-15/
LOCATION:CPC\, 8300 Katy Fwy\, Houston\, TX\, 77024\, United States
ATTACH;FMTTYPE=image/png:https://cpchouston.org/wp-content/uploads/2021/09/In-Person-Worship-Events-2020.png
END:VEVENT
BEGIN:VEVENT
DTSTART;TZID=America/Chicago:20261118T120000
DTEND;TZID=America/Chicago:20261118T140000
DTSTAMP:20260422T170353
CREATED:20250910T193710Z
LAST-MODIFIED:20260302T221625Z
UID:22742-1795003200-1795010400@cpchouston.org
SUMMARY:Lessons & Laughter
DESCRIPTION:The Men’s Bible Study returns this fall on Tuesday\, September 2\, 6:45 – 7:45 am in the Chapel. Breakfast tacos will be served\, and Ministry Staff along with seminarians will be teaching through the Psalms. 								\n				\n				\n				\n									\n					\n						\n									Bible Study Registration
URL:https://cpchouston.org/event/lessons-laughter-5/2026-11-18/
LOCATION:CPC\, 8300 Katy Fwy\, Houston\, TX\, 77024\, United States
CATEGORIES:Women
END:VEVENT
BEGIN:VEVENT
DTSTART;TZID=America/Chicago:20261122T083000
DTEND;TZID=America/Chicago:20261122T094500
DTSTAMP:20260422T170353
CREATED:20210916T150630Z
LAST-MODIFIED:20260128T214447Z
UID:22106-1795336200-1795340700@cpchouston.org
SUMMARY:Worship Service
DESCRIPTION:The Men’s Bible Study returns this fall on Tuesday\, September 2\, 6:45 – 7:45 am in the Chapel. Breakfast tacos will be served\, and Ministry Staff along with seminarians will be teaching through the Psalms. 								\n				\n				\n				\n									\n					\n						\n									Bible Study Registration
URL:https://cpchouston.org/event/test-for-feature/2026-11-22/
LOCATION:CPC\, 8300 Katy Fwy\, Houston\, TX\, 77024\, United States
ATTACH;FMTTYPE=image/png:https://cpchouston.org/wp-content/uploads/2021/09/In-Person-Worship-Events-2020.png
END:VEVENT
BEGIN:VEVENT
DTSTART;TZID=America/Chicago:20261122T110000
DTEND;TZID=America/Chicago:20261122T121500
DTSTAMP:20260422T170353
CREATED:20210916T150630Z
LAST-MODIFIED:20260128T214448Z
UID:22107-1795345200-1795349700@cpchouston.org
SUMMARY:Worship Service
DESCRIPTION:The Men’s Bible Study returns this fall on Tuesday\, September 2\, 6:45 – 7:45 am in the Chapel. Breakfast tacos will be served\, and Ministry Staff along with seminarians will be teaching through the Psalms. 								\n				\n				\n				\n									\n					\n						\n									Bible Study Registration
URL:https://cpchouston.org/event/test-for-feature/2026-11-22/
LOCATION:CPC\, 8300 Katy Fwy\, Houston\, TX\, 77024\, United States
ATTACH;FMTTYPE=image/png:https://cpchouston.org/wp-content/uploads/2021/09/In-Person-Worship-Events-2020.png
END:VEVENT
BEGIN:VEVENT
DTSTART;TZID=America/Chicago:20261129T083000
DTEND;TZID=America/Chicago:20261129T094500
DTSTAMP:20260422T170353
CREATED:20210916T150630Z
LAST-MODIFIED:20260128T214451Z
UID:22151-1795941000-1795945500@cpchouston.org
SUMMARY:Worship Service
DESCRIPTION:The Men’s Bible Study returns this fall on Tuesday\, September 2\, 6:45 – 7:45 am in the Chapel. Breakfast tacos will be served\, and Ministry Staff along with seminarians will be teaching through the Psalms. 								\n				\n				\n				\n									\n					\n						\n									Bible Study Registration
URL:https://cpchouston.org/event/test-for-feature/2026-11-29/
LOCATION:CPC\, 8300 Katy Fwy\, Houston\, TX\, 77024\, United States
ATTACH;FMTTYPE=image/png:https://cpchouston.org/wp-content/uploads/2021/09/In-Person-Worship-Events-2020.png
END:VEVENT
BEGIN:VEVENT
DTSTART;TZID=America/Chicago:20261129T110000
DTEND;TZID=America/Chicago:20261129T121500
DTSTAMP:20260422T170353
CREATED:20210916T150630Z
LAST-MODIFIED:20260128T214453Z
UID:22152-1795950000-1795954500@cpchouston.org
SUMMARY:Worship Service
DESCRIPTION:The Men’s Bible Study returns this fall on Tuesday\, September 2\, 6:45 – 7:45 am in the Chapel. Breakfast tacos will be served\, and Ministry Staff along with seminarians will be teaching through the Psalms. 								\n				\n				\n				\n									\n					\n						\n									Bible Study Registration
URL:https://cpchouston.org/event/test-for-feature/2026-11-29/
LOCATION:CPC\, 8300 Katy Fwy\, Houston\, TX\, 77024\, United States
ATTACH;FMTTYPE=image/png:https://cpchouston.org/wp-content/uploads/2021/09/In-Person-Worship-Events-2020.png
END:VEVENT
BEGIN:VEVENT
DTSTART;TZID=America/Chicago:20261202T120000
DTEND;TZID=America/Chicago:20261202T140000
DTSTAMP:20260422T170353
CREATED:20250910T193710Z
LAST-MODIFIED:20260302T221626Z
UID:22743-1796212800-1796220000@cpchouston.org
SUMMARY:Lessons & Laughter
DESCRIPTION:The Men’s Bible Study returns this fall on Tuesday\, September 2\, 6:45 – 7:45 am in the Chapel. Breakfast tacos will be served\, and Ministry Staff along with seminarians will be teaching through the Psalms. 								\n				\n				\n				\n									\n					\n						\n									Bible Study Registration
URL:https://cpchouston.org/event/lessons-laughter-5/2026-12-02/
LOCATION:CPC\, 8300 Katy Fwy\, Houston\, TX\, 77024\, United States
CATEGORIES:Women
END:VEVENT
BEGIN:VEVENT
DTSTART;TZID=America/Chicago:20261206T083000
DTEND;TZID=America/Chicago:20261206T094500
DTSTAMP:20260422T170353
CREATED:20210916T150630Z
LAST-MODIFIED:20260128T214454Z
UID:22182-1796545800-1796550300@cpchouston.org
SUMMARY:Worship Service
DESCRIPTION:The Men’s Bible Study returns this fall on Tuesday\, September 2\, 6:45 – 7:45 am in the Chapel. Breakfast tacos will be served\, and Ministry Staff along with seminarians will be teaching through the Psalms. 								\n				\n				\n				\n									\n					\n						\n									Bible Study Registration
URL:https://cpchouston.org/event/test-for-feature/2026-12-06/
LOCATION:CPC\, 8300 Katy Fwy\, Houston\, TX\, 77024\, United States
ATTACH;FMTTYPE=image/png:https://cpchouston.org/wp-content/uploads/2021/09/In-Person-Worship-Events-2020.png
END:VEVENT
BEGIN:VEVENT
DTSTART;TZID=America/Chicago:20261206T110000
DTEND;TZID=America/Chicago:20261206T121500
DTSTAMP:20260422T170353
CREATED:20210916T150630Z
LAST-MODIFIED:20260128T214455Z
UID:22183-1796554800-1796559300@cpchouston.org
SUMMARY:Worship Service
DESCRIPTION:The Men’s Bible Study returns this fall on Tuesday\, September 2\, 6:45 – 7:45 am in the Chapel. Breakfast tacos will be served\, and Ministry Staff along with seminarians will be teaching through the Psalms. 								\n				\n				\n				\n									\n					\n						\n									Bible Study Registration
URL:https://cpchouston.org/event/test-for-feature/2026-12-06/
LOCATION:CPC\, 8300 Katy Fwy\, Houston\, TX\, 77024\, United States
ATTACH;FMTTYPE=image/png:https://cpchouston.org/wp-content/uploads/2021/09/In-Person-Worship-Events-2020.png
END:VEVENT
BEGIN:VEVENT
DTSTART;TZID=America/Chicago:20261209T120000
DTEND;TZID=America/Chicago:20261209T140000
DTSTAMP:20260422T170353
CREATED:20250910T193710Z
LAST-MODIFIED:20260302T221627Z
UID:22744-1796817600-1796824800@cpchouston.org
SUMMARY:Lessons & Laughter
DESCRIPTION:The Men’s Bible Study returns this fall on Tuesday\, September 2\, 6:45 – 7:45 am in the Chapel. Breakfast tacos will be served\, and Ministry Staff along with seminarians will be teaching through the Psalms. 								\n				\n				\n				\n									\n					\n						\n									Bible Study Registration
URL:https://cpchouston.org/event/lessons-laughter-5/2026-12-09/
LOCATION:CPC\, 8300 Katy Fwy\, Houston\, TX\, 77024\, United States
CATEGORIES:Women
END:VEVENT
BEGIN:VEVENT
DTSTART;TZID=America/Chicago:20261213T083000
DTEND;TZID=America/Chicago:20261213T094500
DTSTAMP:20260422T170353
CREATED:20210916T150630Z
LAST-MODIFIED:20260128T214457Z
UID:22215-1797150600-1797155100@cpchouston.org
SUMMARY:Worship Service
DESCRIPTION:The Men’s Bible Study returns this fall on Tuesday\, September 2\, 6:45 – 7:45 am in the Chapel. Breakfast tacos will be served\, and Ministry Staff along with seminarians will be teaching through the Psalms. 								\n				\n				\n				\n									\n					\n						\n									Bible Study Registration
URL:https://cpchouston.org/event/test-for-feature/2026-12-13/
LOCATION:CPC\, 8300 Katy Fwy\, Houston\, TX\, 77024\, United States
ATTACH;FMTTYPE=image/png:https://cpchouston.org/wp-content/uploads/2021/09/In-Person-Worship-Events-2020.png
END:VEVENT
BEGIN:VEVENT
DTSTART;TZID=America/Chicago:20261213T110000
DTEND;TZID=America/Chicago:20261213T121500
DTSTAMP:20260422T170353
CREATED:20210916T150630Z
LAST-MODIFIED:20260128T214458Z
UID:22216-1797159600-1797164100@cpchouston.org
SUMMARY:Worship Service
DESCRIPTION:The Men’s Bible Study returns this fall on Tuesday\, September 2\, 6:45 – 7:45 am in the Chapel. Breakfast tacos will be served\, and Ministry Staff along with seminarians will be teaching through the Psalms. 								\n				\n				\n				\n									\n					\n						\n									Bible Study Registration
URL:https://cpchouston.org/event/test-for-feature/2026-12-13/
LOCATION:CPC\, 8300 Katy Fwy\, Houston\, TX\, 77024\, United States
ATTACH;FMTTYPE=image/png:https://cpchouston.org/wp-content/uploads/2021/09/In-Person-Worship-Events-2020.png
END:VEVENT
BEGIN:VEVENT
DTSTART;TZID=America/Chicago:20261216T120000
DTEND;TZID=America/Chicago:20261216T140000
DTSTAMP:20260422T170353
CREATED:20250910T193710Z
LAST-MODIFIED:20260302T221628Z
UID:22745-1797422400-1797429600@cpchouston.org
SUMMARY:Lessons & Laughter
DESCRIPTION:The Men’s Bible Study returns this fall on Tuesday\, September 2\, 6:45 – 7:45 am in the Chapel. Breakfast tacos will be served\, and Ministry Staff along with seminarians will be teaching through the Psalms. 								\n				\n				\n				\n									\n					\n						\n									Bible Study Registration
URL:https://cpchouston.org/event/lessons-laughter-5/2026-12-16/
LOCATION:CPC\, 8300 Katy Fwy\, Houston\, TX\, 77024\, United States
CATEGORIES:Women
END:VEVENT
BEGIN:VEVENT
DTSTART;TZID=America/Chicago:20261220T083000
DTEND;TZID=America/Chicago:20261220T094500
DTSTAMP:20260422T170353
CREATED:20210916T150630Z
LAST-MODIFIED:20260128T214459Z
UID:22239-1797755400-1797759900@cpchouston.org
SUMMARY:Worship Service
DESCRIPTION:The Men’s Bible Study returns this fall on Tuesday\, September 2\, 6:45 – 7:45 am in the Chapel. Breakfast tacos will be served\, and Ministry Staff along with seminarians will be teaching through the Psalms. 								\n				\n				\n				\n									\n					\n						\n									Bible Study Registration
URL:https://cpchouston.org/event/test-for-feature/2026-12-20/
LOCATION:CPC\, 8300 Katy Fwy\, Houston\, TX\, 77024\, United States
ATTACH;FMTTYPE=image/png:https://cpchouston.org/wp-content/uploads/2021/09/In-Person-Worship-Events-2020.png
END:VEVENT
END:VCALENDAR