BEGIN:VCALENDAR
VERSION:2.0
PRODID:-//Christ Presbyterian Church of Houston - ECPv6.15.20//NONSGML v1.0//EN
CALSCALE:GREGORIAN
METHOD:PUBLISH
X-WR-CALNAME:Christ Presbyterian Church of Houston
X-ORIGINAL-URL:https://cpchouston.org
X-WR-CALDESC:Events for Christ Presbyterian Church of Houston
REFRESH-INTERVAL;VALUE=DURATION:PT1H
X-Robots-Tag:noindex
X-PUBLISHED-TTL:PT1H
BEGIN:VTIMEZONE
TZID:America/Chicago
BEGIN:DAYLIGHT
TZOFFSETFROM:-0600
TZOFFSETTO:-0500
TZNAME:CDT
DTSTART:20260308T080000
END:DAYLIGHT
BEGIN:STANDARD
TZOFFSETFROM:-0500
TZOFFSETTO:-0600
TZNAME:CST
DTSTART:20261101T070000
END:STANDARD
BEGIN:DAYLIGHT
TZOFFSETFROM:-0600
TZOFFSETTO:-0500
TZNAME:CDT
DTSTART:20270314T080000
END:DAYLIGHT
BEGIN:STANDARD
TZOFFSETFROM:-0500
TZOFFSETTO:-0600
TZNAME:CST
DTSTART:20271107T070000
END:STANDARD
BEGIN:DAYLIGHT
TZOFFSETFROM:-0600
TZOFFSETTO:-0500
TZNAME:CDT
DTSTART:20280312T080000
END:DAYLIGHT
BEGIN:STANDARD
TZOFFSETFROM:-0500
TZOFFSETTO:-0600
TZNAME:CST
DTSTART:20281105T070000
END:STANDARD
END:VTIMEZONE
BEGIN:VEVENT
DTSTART;TZID=America/Chicago:20270117T110000
DTEND;TZID=America/Chicago:20270117T121500
DTSTAMP:20260421T164523
CREATED:20210916T150630Z
LAST-MODIFIED:20260128T214514Z
UID:22484-1800183600-1800188100@cpchouston.org
SUMMARY:Worship Service
DESCRIPTION:Sunday Morning Schedule\n8:30 am Worship Service in Sanctuary & livestreamed here: Worship Livestream\n10:00 am Sunday School\n11:00 am Worship Service in Sanctuary
URL:https://cpchouston.org/event/test-for-feature/2027-01-17/
LOCATION:CPC\, 8300 Katy Fwy\, Houston\, TX\, 77024\, United States
ATTACH;FMTTYPE=image/png:https://cpchouston.org/wp-content/uploads/2021/09/In-Person-Worship-Events-2020.png
END:VEVENT
BEGIN:VEVENT
DTSTART;TZID=America/Chicago:20270124T083000
DTEND;TZID=America/Chicago:20270124T094500
DTSTAMP:20260421T164523
CREATED:20210916T150630Z
LAST-MODIFIED:20260128T214515Z
UID:22539-1800779400-1800783900@cpchouston.org
SUMMARY:Worship Service
DESCRIPTION:Sunday Morning Schedule\n8:30 am Worship Service in Sanctuary & livestreamed here: Worship Livestream\n10:00 am Sunday School\n11:00 am Worship Service in Sanctuary
URL:https://cpchouston.org/event/test-for-feature/2027-01-24/
LOCATION:CPC\, 8300 Katy Fwy\, Houston\, TX\, 77024\, United States
ATTACH;FMTTYPE=image/png:https://cpchouston.org/wp-content/uploads/2021/09/In-Person-Worship-Events-2020.png
END:VEVENT
BEGIN:VEVENT
DTSTART;TZID=America/Chicago:20270124T110000
DTEND;TZID=America/Chicago:20270124T121500
DTSTAMP:20260421T164523
CREATED:20210916T150630Z
LAST-MODIFIED:20260128T214516Z
UID:22540-1800788400-1800792900@cpchouston.org
SUMMARY:Worship Service
DESCRIPTION:Sunday Morning Schedule\n8:30 am Worship Service in Sanctuary & livestreamed here: Worship Livestream\n10:00 am Sunday School\n11:00 am Worship Service in Sanctuary
URL:https://cpchouston.org/event/test-for-feature/2027-01-24/
LOCATION:CPC\, 8300 Katy Fwy\, Houston\, TX\, 77024\, United States
ATTACH;FMTTYPE=image/png:https://cpchouston.org/wp-content/uploads/2021/09/In-Person-Worship-Events-2020.png
END:VEVENT
BEGIN:VEVENT
DTSTART;TZID=America/Chicago:20270131T083000
DTEND;TZID=America/Chicago:20270131T094500
DTSTAMP:20260421T164523
CREATED:20210916T150630Z
LAST-MODIFIED:20210916T150630Z
UID:22621-1801384200-1801388700@cpchouston.org
SUMMARY:Worship Service
DESCRIPTION:Sunday Morning Schedule\n8:30 am Worship Service in Sanctuary & livestreamed here: Worship Livestream\n10:00 am Sunday School\n11:00 am Worship Service in Sanctuary
URL:https://cpchouston.org/event/test-for-feature/2027-01-31/
LOCATION:CPC\, 8300 Katy Fwy\, Houston\, TX\, 77024\, United States
ATTACH;FMTTYPE=image/png:https://cpchouston.org/wp-content/uploads/2021/09/In-Person-Worship-Events-2020.png
END:VEVENT
BEGIN:VEVENT
DTSTART;TZID=America/Chicago:20270131T110000
DTEND;TZID=America/Chicago:20270131T121500
DTSTAMP:20260421T164523
CREATED:20210916T150630Z
LAST-MODIFIED:20210916T150630Z
UID:22622-1801393200-1801397700@cpchouston.org
SUMMARY:Worship Service
DESCRIPTION:Sunday Morning Schedule\n8:30 am Worship Service in Sanctuary & livestreamed here: Worship Livestream\n10:00 am Sunday School\n11:00 am Worship Service in Sanctuary
URL:https://cpchouston.org/event/test-for-feature/2027-01-31/
LOCATION:CPC\, 8300 Katy Fwy\, Houston\, TX\, 77024\, United States
ATTACH;FMTTYPE=image/png:https://cpchouston.org/wp-content/uploads/2021/09/In-Person-Worship-Events-2020.png
END:VEVENT
BEGIN:VEVENT
DTSTART;TZID=America/Chicago:20270207T083000
DTEND;TZID=America/Chicago:20270207T094500
DTSTAMP:20260421T164523
CREATED:20210916T150630Z
LAST-MODIFIED:20210916T150630Z
UID:22653-1801989000-1801993500@cpchouston.org
SUMMARY:Worship Service
DESCRIPTION:Sunday Morning Schedule\n8:30 am Worship Service in Sanctuary & livestreamed here: Worship Livestream\n10:00 am Sunday School\n11:00 am Worship Service in Sanctuary
URL:https://cpchouston.org/event/test-for-feature/2027-02-07/
LOCATION:CPC\, 8300 Katy Fwy\, Houston\, TX\, 77024\, United States
ATTACH;FMTTYPE=image/png:https://cpchouston.org/wp-content/uploads/2021/09/In-Person-Worship-Events-2020.png
END:VEVENT
BEGIN:VEVENT
DTSTART;TZID=America/Chicago:20270207T110000
DTEND;TZID=America/Chicago:20270207T121500
DTSTAMP:20260421T164523
CREATED:20210916T150630Z
LAST-MODIFIED:20210916T150630Z
UID:22654-1801998000-1802002500@cpchouston.org
SUMMARY:Worship Service
DESCRIPTION:Sunday Morning Schedule\n8:30 am Worship Service in Sanctuary & livestreamed here: Worship Livestream\n10:00 am Sunday School\n11:00 am Worship Service in Sanctuary
URL:https://cpchouston.org/event/test-for-feature/2027-02-07/
LOCATION:CPC\, 8300 Katy Fwy\, Houston\, TX\, 77024\, United States
ATTACH;FMTTYPE=image/png:https://cpchouston.org/wp-content/uploads/2021/09/In-Person-Worship-Events-2020.png
END:VEVENT
BEGIN:VEVENT
DTSTART;TZID=America/Chicago:20270214T083000
DTEND;TZID=America/Chicago:20270214T094500
DTSTAMP:20260421T164523
CREATED:20210916T150630Z
LAST-MODIFIED:20210916T150630Z
UID:22798-1802593800-1802598300@cpchouston.org
SUMMARY:Worship Service
DESCRIPTION:Sunday Morning Schedule\n8:30 am Worship Service in Sanctuary & livestreamed here: Worship Livestream\n10:00 am Sunday School\n11:00 am Worship Service in Sanctuary
URL:https://cpchouston.org/event/test-for-feature/2027-02-14/
LOCATION:CPC\, 8300 Katy Fwy\, Houston\, TX\, 77024\, United States
ATTACH;FMTTYPE=image/png:https://cpchouston.org/wp-content/uploads/2021/09/In-Person-Worship-Events-2020.png
END:VEVENT
BEGIN:VEVENT
DTSTART;TZID=America/Chicago:20270214T110000
DTEND;TZID=America/Chicago:20270214T121500
DTSTAMP:20260421T164523
CREATED:20210916T150630Z
LAST-MODIFIED:20210916T150630Z
UID:22799-1802602800-1802607300@cpchouston.org
SUMMARY:Worship Service
DESCRIPTION:Sunday Morning Schedule\n8:30 am Worship Service in Sanctuary & livestreamed here: Worship Livestream\n10:00 am Sunday School\n11:00 am Worship Service in Sanctuary
URL:https://cpchouston.org/event/test-for-feature/2027-02-14/
LOCATION:CPC\, 8300 Katy Fwy\, Houston\, TX\, 77024\, United States
ATTACH;FMTTYPE=image/png:https://cpchouston.org/wp-content/uploads/2021/09/In-Person-Worship-Events-2020.png
END:VEVENT
BEGIN:VEVENT
DTSTART;TZID=America/Chicago:20270221T083000
DTEND;TZID=America/Chicago:20270221T094500
DTSTAMP:20260421T164523
CREATED:20210916T150630Z
LAST-MODIFIED:20210916T150630Z
UID:22881-1803198600-1803203100@cpchouston.org
SUMMARY:Worship Service
DESCRIPTION:Sunday Morning Schedule\n8:30 am Worship Service in Sanctuary & livestreamed here: Worship Livestream\n10:00 am Sunday School\n11:00 am Worship Service in Sanctuary
URL:https://cpchouston.org/event/test-for-feature/2027-02-21/
LOCATION:CPC\, 8300 Katy Fwy\, Houston\, TX\, 77024\, United States
ATTACH;FMTTYPE=image/png:https://cpchouston.org/wp-content/uploads/2021/09/In-Person-Worship-Events-2020.png
END:VEVENT
BEGIN:VEVENT
DTSTART;TZID=America/Chicago:20270221T110000
DTEND;TZID=America/Chicago:20270221T121500
DTSTAMP:20260421T164523
CREATED:20210916T150630Z
LAST-MODIFIED:20210916T150630Z
UID:22882-1803207600-1803212100@cpchouston.org
SUMMARY:Worship Service
DESCRIPTION:Sunday Morning Schedule\n8:30 am Worship Service in Sanctuary & livestreamed here: Worship Livestream\n10:00 am Sunday School\n11:00 am Worship Service in Sanctuary
URL:https://cpchouston.org/event/test-for-feature/2027-02-21/
LOCATION:CPC\, 8300 Katy Fwy\, Houston\, TX\, 77024\, United States
ATTACH;FMTTYPE=image/png:https://cpchouston.org/wp-content/uploads/2021/09/In-Person-Worship-Events-2020.png
END:VEVENT
BEGIN:VEVENT
DTSTART;TZID=America/Chicago:20270228T083000
DTEND;TZID=America/Chicago:20270228T094500
DTSTAMP:20260421T164523
CREATED:20210916T150630Z
LAST-MODIFIED:20210916T150630Z
UID:22912-1803803400-1803807900@cpchouston.org
SUMMARY:Worship Service
DESCRIPTION:Sunday Morning Schedule\n8:30 am Worship Service in Sanctuary & livestreamed here: Worship Livestream\n10:00 am Sunday School\n11:00 am Worship Service in Sanctuary
URL:https://cpchouston.org/event/test-for-feature/2027-02-28/
LOCATION:CPC\, 8300 Katy Fwy\, Houston\, TX\, 77024\, United States
ATTACH;FMTTYPE=image/png:https://cpchouston.org/wp-content/uploads/2021/09/In-Person-Worship-Events-2020.png
END:VEVENT
BEGIN:VEVENT
DTSTART;TZID=America/Chicago:20270228T110000
DTEND;TZID=America/Chicago:20270228T121500
DTSTAMP:20260421T164523
CREATED:20210916T150630Z
LAST-MODIFIED:20210916T150630Z
UID:22913-1803812400-1803816900@cpchouston.org
SUMMARY:Worship Service
DESCRIPTION:Sunday Morning Schedule\n8:30 am Worship Service in Sanctuary & livestreamed here: Worship Livestream\n10:00 am Sunday School\n11:00 am Worship Service in Sanctuary
URL:https://cpchouston.org/event/test-for-feature/2027-02-28/
LOCATION:CPC\, 8300 Katy Fwy\, Houston\, TX\, 77024\, United States
ATTACH;FMTTYPE=image/png:https://cpchouston.org/wp-content/uploads/2021/09/In-Person-Worship-Events-2020.png
END:VEVENT
BEGIN:VEVENT
DTSTART;TZID=America/Chicago:20270307T083000
DTEND;TZID=America/Chicago:20270307T094500
DTSTAMP:20260421T164523
CREATED:20210916T150630Z
LAST-MODIFIED:20210916T150630Z
UID:22939-1804408200-1804412700@cpchouston.org
SUMMARY:Worship Service
DESCRIPTION:Sunday Morning Schedule\n8:30 am Worship Service in Sanctuary & livestreamed here: Worship Livestream\n10:00 am Sunday School\n11:00 am Worship Service in Sanctuary
URL:https://cpchouston.org/event/test-for-feature/2027-03-07/
LOCATION:CPC\, 8300 Katy Fwy\, Houston\, TX\, 77024\, United States
ATTACH;FMTTYPE=image/png:https://cpchouston.org/wp-content/uploads/2021/09/In-Person-Worship-Events-2020.png
END:VEVENT
BEGIN:VEVENT
DTSTART;TZID=America/Chicago:20270307T110000
DTEND;TZID=America/Chicago:20270307T121500
DTSTAMP:20260421T164523
CREATED:20210916T150630Z
LAST-MODIFIED:20210916T150630Z
UID:22940-1804417200-1804421700@cpchouston.org
SUMMARY:Worship Service
DESCRIPTION:Sunday Morning Schedule\n8:30 am Worship Service in Sanctuary & livestreamed here: Worship Livestream\n10:00 am Sunday School\n11:00 am Worship Service in Sanctuary
URL:https://cpchouston.org/event/test-for-feature/2027-03-07/
LOCATION:CPC\, 8300 Katy Fwy\, Houston\, TX\, 77024\, United States
ATTACH;FMTTYPE=image/png:https://cpchouston.org/wp-content/uploads/2021/09/In-Person-Worship-Events-2020.png
END:VEVENT
BEGIN:VEVENT
DTSTART;TZID=America/Chicago:20270314T083000
DTEND;TZID=America/Chicago:20270314T094500
DTSTAMP:20260421T164523
CREATED:20210916T150630Z
LAST-MODIFIED:20210916T150630Z
UID:22980-1805013000-1805017500@cpchouston.org
SUMMARY:Worship Service
DESCRIPTION:Sunday Morning Schedule\n8:30 am Worship Service in Sanctuary & livestreamed here: Worship Livestream\n10:00 am Sunday School\n11:00 am Worship Service in Sanctuary
URL:https://cpchouston.org/event/test-for-feature/2027-03-14/
LOCATION:CPC\, 8300 Katy Fwy\, Houston\, TX\, 77024\, United States
ATTACH;FMTTYPE=image/png:https://cpchouston.org/wp-content/uploads/2021/09/In-Person-Worship-Events-2020.png
END:VEVENT
BEGIN:VEVENT
DTSTART;TZID=America/Chicago:20270314T110000
DTEND;TZID=America/Chicago:20270314T121500
DTSTAMP:20260421T164523
CREATED:20210916T150630Z
LAST-MODIFIED:20210916T150630Z
UID:22981-1805022000-1805026500@cpchouston.org
SUMMARY:Worship Service
DESCRIPTION:Sunday Morning Schedule\n8:30 am Worship Service in Sanctuary & livestreamed here: Worship Livestream\n10:00 am Sunday School\n11:00 am Worship Service in Sanctuary
URL:https://cpchouston.org/event/test-for-feature/2027-03-14/
LOCATION:CPC\, 8300 Katy Fwy\, Houston\, TX\, 77024\, United States
ATTACH;FMTTYPE=image/png:https://cpchouston.org/wp-content/uploads/2021/09/In-Person-Worship-Events-2020.png
END:VEVENT
BEGIN:VEVENT
DTSTART;TZID=America/Chicago:20270321T083000
DTEND;TZID=America/Chicago:20270321T094500
DTSTAMP:20260421T164523
CREATED:20210916T150630Z
LAST-MODIFIED:20210916T150630Z
UID:23040-1805617800-1805622300@cpchouston.org
SUMMARY:Worship Service
DESCRIPTION:Sunday Morning Schedule\n8:30 am Worship Service in Sanctuary & livestreamed here: Worship Livestream\n10:00 am Sunday School\n11:00 am Worship Service in Sanctuary
URL:https://cpchouston.org/event/test-for-feature/2027-03-21/
LOCATION:CPC\, 8300 Katy Fwy\, Houston\, TX\, 77024\, United States
ATTACH;FMTTYPE=image/png:https://cpchouston.org/wp-content/uploads/2021/09/In-Person-Worship-Events-2020.png
END:VEVENT
BEGIN:VEVENT
DTSTART;TZID=America/Chicago:20270321T110000
DTEND;TZID=America/Chicago:20270321T121500
DTSTAMP:20260421T164523
CREATED:20210916T150630Z
LAST-MODIFIED:20210916T150630Z
UID:23041-1805626800-1805631300@cpchouston.org
SUMMARY:Worship Service
DESCRIPTION:Sunday Morning Schedule\n8:30 am Worship Service in Sanctuary & livestreamed here: Worship Livestream\n10:00 am Sunday School\n11:00 am Worship Service in Sanctuary
URL:https://cpchouston.org/event/test-for-feature/2027-03-21/
LOCATION:CPC\, 8300 Katy Fwy\, Houston\, TX\, 77024\, United States
ATTACH;FMTTYPE=image/png:https://cpchouston.org/wp-content/uploads/2021/09/In-Person-Worship-Events-2020.png
END:VEVENT
BEGIN:VEVENT
DTSTART;TZID=America/Chicago:20270328T083000
DTEND;TZID=America/Chicago:20270328T094500
DTSTAMP:20260421T164523
CREATED:20210916T150630Z
LAST-MODIFIED:20210916T150630Z
UID:23074-1806222600-1806227100@cpchouston.org
SUMMARY:Worship Service
DESCRIPTION:Sunday Morning Schedule\n8:30 am Worship Service in Sanctuary & livestreamed here: Worship Livestream\n10:00 am Sunday School\n11:00 am Worship Service in Sanctuary
URL:https://cpchouston.org/event/test-for-feature/2027-03-28/
LOCATION:CPC\, 8300 Katy Fwy\, Houston\, TX\, 77024\, United States
ATTACH;FMTTYPE=image/png:https://cpchouston.org/wp-content/uploads/2021/09/In-Person-Worship-Events-2020.png
END:VEVENT
BEGIN:VEVENT
DTSTART;TZID=America/Chicago:20270328T110000
DTEND;TZID=America/Chicago:20270328T121500
DTSTAMP:20260421T164523
CREATED:20210916T150630Z
LAST-MODIFIED:20210916T150630Z
UID:23075-1806231600-1806236100@cpchouston.org
SUMMARY:Worship Service
DESCRIPTION:Sunday Morning Schedule\n8:30 am Worship Service in Sanctuary & livestreamed here: Worship Livestream\n10:00 am Sunday School\n11:00 am Worship Service in Sanctuary
URL:https://cpchouston.org/event/test-for-feature/2027-03-28/
LOCATION:CPC\, 8300 Katy Fwy\, Houston\, TX\, 77024\, United States
ATTACH;FMTTYPE=image/png:https://cpchouston.org/wp-content/uploads/2021/09/In-Person-Worship-Events-2020.png
END:VEVENT
BEGIN:VEVENT
DTSTART;TZID=America/Chicago:20270404T083000
DTEND;TZID=America/Chicago:20270404T094500
DTSTAMP:20260421T164523
CREATED:20210916T150630Z
LAST-MODIFIED:20210916T150630Z
UID:23137-1806827400-1806831900@cpchouston.org
SUMMARY:Worship Service
DESCRIPTION:Sunday Morning Schedule\n8:30 am Worship Service in Sanctuary & livestreamed here: Worship Livestream\n10:00 am Sunday School\n11:00 am Worship Service in Sanctuary
URL:https://cpchouston.org/event/test-for-feature/2027-04-04/
LOCATION:CPC\, 8300 Katy Fwy\, Houston\, TX\, 77024\, United States
ATTACH;FMTTYPE=image/png:https://cpchouston.org/wp-content/uploads/2021/09/In-Person-Worship-Events-2020.png
END:VEVENT
BEGIN:VEVENT
DTSTART;TZID=America/Chicago:20270404T110000
DTEND;TZID=America/Chicago:20270404T121500
DTSTAMP:20260421T164523
CREATED:20210916T150630Z
LAST-MODIFIED:20210916T150630Z
UID:23138-1806836400-1806840900@cpchouston.org
SUMMARY:Worship Service
DESCRIPTION:Sunday Morning Schedule\n8:30 am Worship Service in Sanctuary & livestreamed here: Worship Livestream\n10:00 am Sunday School\n11:00 am Worship Service in Sanctuary
URL:https://cpchouston.org/event/test-for-feature/2027-04-04/
LOCATION:CPC\, 8300 Katy Fwy\, Houston\, TX\, 77024\, United States
ATTACH;FMTTYPE=image/png:https://cpchouston.org/wp-content/uploads/2021/09/In-Person-Worship-Events-2020.png
END:VEVENT
BEGIN:VEVENT
DTSTART;TZID=America/Chicago:20270411T083000
DTEND;TZID=America/Chicago:20270411T094500
DTSTAMP:20260421T164523
CREATED:20210916T150630Z
LAST-MODIFIED:20210916T150630Z
UID:23183-1807432200-1807436700@cpchouston.org
SUMMARY:Worship Service
DESCRIPTION:Sunday Morning Schedule\n8:30 am Worship Service in Sanctuary & livestreamed here: Worship Livestream\n10:00 am Sunday School\n11:00 am Worship Service in Sanctuary
URL:https://cpchouston.org/event/test-for-feature/2027-04-11/
LOCATION:CPC\, 8300 Katy Fwy\, Houston\, TX\, 77024\, United States
ATTACH;FMTTYPE=image/png:https://cpchouston.org/wp-content/uploads/2021/09/In-Person-Worship-Events-2020.png
END:VEVENT
BEGIN:VEVENT
DTSTART;TZID=America/Chicago:20270411T110000
DTEND;TZID=America/Chicago:20270411T121500
DTSTAMP:20260421T164523
CREATED:20210916T150630Z
LAST-MODIFIED:20210916T150630Z
UID:23184-1807441200-1807445700@cpchouston.org
SUMMARY:Worship Service
DESCRIPTION:Sunday Morning Schedule\n8:30 am Worship Service in Sanctuary & livestreamed here: Worship Livestream\n10:00 am Sunday School\n11:00 am Worship Service in Sanctuary
URL:https://cpchouston.org/event/test-for-feature/2027-04-11/
LOCATION:CPC\, 8300 Katy Fwy\, Houston\, TX\, 77024\, United States
ATTACH;FMTTYPE=image/png:https://cpchouston.org/wp-content/uploads/2021/09/In-Person-Worship-Events-2020.png
END:VEVENT
BEGIN:VEVENT
DTSTART;TZID=America/Chicago:20270418T083000
DTEND;TZID=America/Chicago:20270418T094500
DTSTAMP:20260421T164523
CREATED:20210916T150630Z
LAST-MODIFIED:20210916T150630Z
UID:23222-1808037000-1808041500@cpchouston.org
SUMMARY:Worship Service
DESCRIPTION:Sunday Morning Schedule\n8:30 am Worship Service in Sanctuary & livestreamed here: Worship Livestream\n10:00 am Sunday School\n11:00 am Worship Service in Sanctuary
URL:https://cpchouston.org/event/test-for-feature/2027-04-18/
LOCATION:CPC\, 8300 Katy Fwy\, Houston\, TX\, 77024\, United States
ATTACH;FMTTYPE=image/png:https://cpchouston.org/wp-content/uploads/2021/09/In-Person-Worship-Events-2020.png
END:VEVENT
BEGIN:VEVENT
DTSTART;TZID=America/Chicago:20270418T110000
DTEND;TZID=America/Chicago:20270418T121500
DTSTAMP:20260421T164523
CREATED:20210916T150630Z
LAST-MODIFIED:20210916T150630Z
UID:23223-1808046000-1808050500@cpchouston.org
SUMMARY:Worship Service
DESCRIPTION:Sunday Morning Schedule\n8:30 am Worship Service in Sanctuary & livestreamed here: Worship Livestream\n10:00 am Sunday School\n11:00 am Worship Service in Sanctuary
URL:https://cpchouston.org/event/test-for-feature/2027-04-18/
LOCATION:CPC\, 8300 Katy Fwy\, Houston\, TX\, 77024\, United States
ATTACH;FMTTYPE=image/png:https://cpchouston.org/wp-content/uploads/2021/09/In-Person-Worship-Events-2020.png
END:VEVENT
END:VCALENDAR