BEGIN:VCALENDAR
VERSION:2.0
PRODID:-//Christ Presbyterian Church of Houston - ECPv6.15.20//NONSGML v1.0//EN
CALSCALE:GREGORIAN
METHOD:PUBLISH
X-WR-CALNAME:Christ Presbyterian Church of Houston
X-ORIGINAL-URL:https://cpchouston.org
X-WR-CALDESC:Events for Christ Presbyterian Church of Houston
REFRESH-INTERVAL;VALUE=DURATION:PT1H
X-Robots-Tag:noindex
X-PUBLISHED-TTL:PT1H
BEGIN:VTIMEZONE
TZID:America/Chicago
BEGIN:DAYLIGHT
TZOFFSETFROM:-0600
TZOFFSETTO:-0500
TZNAME:CDT
DTSTART:20230312T080000
END:DAYLIGHT
BEGIN:STANDARD
TZOFFSETFROM:-0500
TZOFFSETTO:-0600
TZNAME:CST
DTSTART:20231105T070000
END:STANDARD
BEGIN:DAYLIGHT
TZOFFSETFROM:-0600
TZOFFSETTO:-0500
TZNAME:CDT
DTSTART:20240310T080000
END:DAYLIGHT
BEGIN:STANDARD
TZOFFSETFROM:-0500
TZOFFSETTO:-0600
TZNAME:CST
DTSTART:20241103T070000
END:STANDARD
BEGIN:DAYLIGHT
TZOFFSETFROM:-0600
TZOFFSETTO:-0500
TZNAME:CDT
DTSTART:20250309T080000
END:DAYLIGHT
BEGIN:STANDARD
TZOFFSETFROM:-0500
TZOFFSETTO:-0600
TZNAME:CST
DTSTART:20251102T070000
END:STANDARD
BEGIN:DAYLIGHT
TZOFFSETFROM:-0600
TZOFFSETTO:-0500
TZNAME:CDT
DTSTART:20260308T080000
END:DAYLIGHT
BEGIN:STANDARD
TZOFFSETFROM:-0500
TZOFFSETTO:-0600
TZNAME:CST
DTSTART:20261101T070000
END:STANDARD
END:VTIMEZONE
BEGIN:VEVENT
DTSTART;TZID=America/Chicago:20250115T120000
DTEND;TZID=America/Chicago:20250115T143000
DTSTAMP:20260421T104332
CREATED:20221228T194937Z
LAST-MODIFIED:20250522T214639Z
UID:18296-1736942400-1736951400@cpchouston.org
SUMMARY:Lessons & Laughter
DESCRIPTION:Make baby blankets for new babies\, prayer shawls for the Tumaini orphanage\, and great friendships. Wednesdays at 12 pm in the SonRise Cafe. (Please note that on December 4\, 2024 we will meet in the Parlor instead of the SonRise Cafe.) \nIf you don’t already knit\, but would love to learn\, this is the place for you!
URL:https://cpchouston.org/event/lessons-laughter-4/2025-01-15/
LOCATION:CPC\, 8300 Katy Fwy\, Houston\, TX\, 77024\, United States
CATEGORIES:Women
END:VEVENT
BEGIN:VEVENT
DTSTART;TZID=America/Chicago:20250115T093000
DTEND;TZID=America/Chicago:20250115T110000
DTSTAMP:20260421T104332
CREATED:20240815T174529Z
LAST-MODIFIED:20250120T220327Z
UID:17480-1736933400-1736938800@cpchouston.org
SUMMARY:Women's Bible Study
DESCRIPTION:Fall 2024/Spring 2025 \nLeviticus & Hebrews: The Necessity of the Cross \nJoin Mikie Bellis and the women of CPC for our study of Leviticus and Hebrews. \nWeekly lessons are provided free of charge\, and weekly lectures are presented live on Tuesday evenings and Wednesday mornings. The podcast is posted on Tuesdays and the lecture videos are posted on the CPC website on Wednesday afternoons here: Women’s Bible Study Videos. \nSchedule: Small group discussion of the lecture and lesson is offered: \n\nWednesdays from 9:30-11 am (lunch served at 11 am)\nAn online small group meets on Wednesdays from 1:30-2:30 pm\n\nChildcare \n\nOn Wednesdays\, we offer an enhanced children’s Bible study focusing on the truths of the women’s weekly lessons. Childcare will be provided through lunch\, until 12:00. Women are encouraged to stay for lunch to develop deeper relationships with one another while your children eat lunch with their friends. Childcare is provided for children in 5th grade and under. If you have a homeschool student older than 5th grade\, please contact Angela Ikard for details about our homeschool room. \nRegister online: Women’s Bible Study Registration
URL:https://cpchouston.org/event/womens-bible-study-5/2025-01-15/
LOCATION:CPC\, 8300 Katy Fwy\, Houston\, TX\, 77024\, United States
CATEGORIES:Bible Study,Women
ATTACH;FMTTYPE=image/png:https://cpchouston.org/wp-content/uploads/2022/08/Womens-Bible-Study-2022-2023-Events.png
END:VEVENT
BEGIN:VEVENT
DTSTART;TZID=America/Chicago:20250112T110000
DTEND;TZID=America/Chicago:20250112T121500
DTSTAMP:20260421T104332
CREATED:20210916T150630Z
LAST-MODIFIED:20260128T214038Z
UID:15421-1736679600-1736684100@cpchouston.org
SUMMARY:Worship Service
DESCRIPTION:Sunday Morning Schedule\n8:30 am Worship Service in Sanctuary & livestreamed here: Worship Livestream\n10:00 am Sunday School\n11:00 am Worship Service in Sanctuary
URL:https://cpchouston.org/event/test-for-feature/2025-01-12/
LOCATION:CPC\, 8300 Katy Fwy\, Houston\, TX\, 77024\, United States
ATTACH;FMTTYPE=image/png:https://cpchouston.org/wp-content/uploads/2021/09/In-Person-Worship-Events-2020.png
END:VEVENT
BEGIN:VEVENT
DTSTART;TZID=America/Chicago:20250112T083000
DTEND;TZID=America/Chicago:20250112T094500
DTSTAMP:20260421T104332
CREATED:20210916T150630Z
LAST-MODIFIED:20260128T214036Z
UID:15420-1736670600-1736675100@cpchouston.org
SUMMARY:Worship Service
DESCRIPTION:Sunday Morning Schedule\n8:30 am Worship Service in Sanctuary & livestreamed here: Worship Livestream\n10:00 am Sunday School\n11:00 am Worship Service in Sanctuary
URL:https://cpchouston.org/event/test-for-feature/2025-01-12/
LOCATION:CPC\, 8300 Katy Fwy\, Houston\, TX\, 77024\, United States
ATTACH;FMTTYPE=image/png:https://cpchouston.org/wp-content/uploads/2021/09/In-Person-Worship-Events-2020.png
END:VEVENT
BEGIN:VEVENT
DTSTART;TZID=America/Chicago:20250109T180000
DTEND;TZID=America/Chicago:20250109T203000
DTSTAMP:20260421T104332
CREATED:20240822T130747Z
LAST-MODIFIED:20241216T152041Z
UID:17643-1736445600-1736454600@cpchouston.org
SUMMARY:English Classes
DESCRIPTION:Christ Presbyterian Church welcomes our community for conversational English classes! \nClasses are free. Students need to purchase a book for $40. \nThursdays\, 6:00-8:30 pm\nSeptember 12\, 2024 through May 8\, 2025\nAll levels of English welcome!\nNew students are welcome every Thursday.\nPlease register using the button below. \nLocation: Classes are held at 8300 Katy Freeway\, Houston\, TX 77024. \nQuestions: Contact Axel Sotelo at asotelo@cpchouston.org \n\nClass Registration
URL:https://cpchouston.org/event/english-classes-3/2025-01-09/
LOCATION:CPC\, 8300 Katy Fwy\, Houston\, TX\, 77024\, United States
CATEGORIES:ESL
ATTACH;FMTTYPE=image/png:https://cpchouston.org/wp-content/uploads/2024/08/English-Classes-Digital-2024-events.png
END:VEVENT
BEGIN:VEVENT
DTSTART;TZID=America/Chicago:20250108T120000
DTEND;TZID=America/Chicago:20250108T143000
DTSTAMP:20260421T104332
CREATED:20221228T194937Z
LAST-MODIFIED:20250522T214638Z
UID:18295-1736337600-1736346600@cpchouston.org
SUMMARY:Lessons & Laughter
DESCRIPTION:Make baby blankets for new babies\, prayer shawls for the Tumaini orphanage\, and great friendships. Wednesdays at 12 pm in the SonRise Cafe. (Please note that on December 4\, 2024 we will meet in the Parlor instead of the SonRise Cafe.) \nIf you don’t already knit\, but would love to learn\, this is the place for you!
URL:https://cpchouston.org/event/lessons-laughter-4/2025-01-08/
LOCATION:CPC\, 8300 Katy Fwy\, Houston\, TX\, 77024\, United States
CATEGORIES:Women
END:VEVENT
BEGIN:VEVENT
DTSTART;TZID=America/Chicago:20250105T110000
DTEND;TZID=America/Chicago:20250105T121500
DTSTAMP:20260421T104332
CREATED:20241216T153332Z
LAST-MODIFIED:20241216T153353Z
UID:18921-1736074800-1736079300@cpchouston.org
SUMMARY:Worship Service
DESCRIPTION:Sunday Morning Schedule January 58:30 am Worship Service in Sanctuary & livestreamed here: Worship Livestream10:00 am All-Church Prayer11:00 am Worship Service in Sanctuary
URL:https://cpchouston.org/event/worship-service-8/
LOCATION:CPC\, 8300 Katy Fwy\, Houston\, TX\, 77024\, United States
ATTACH;FMTTYPE=image/png:https://cpchouston.org/wp-content/uploads/2021/09/In-Person-Worship-Events-2020.png
END:VEVENT
BEGIN:VEVENT
DTSTART;TZID=America/Chicago:20250105T100000
DTEND;TZID=America/Chicago:20250105T104500
DTSTAMP:20260421T104332
CREATED:20241211T201137Z
LAST-MODIFIED:20241211T201137Z
UID:18742-1736071200-1736073900@cpchouston.org
SUMMARY:All-Church Prayer
DESCRIPTION:All adults are encouraged to come to our All-Church Prayer Gathering on January 5 at 10 am in the Chapel. We will pray together for CPC ministries\, the needs and challenges facing us as individual believers and families\, the circumstances and burdens that confront believers and unbelievers alike in our fallen world\, and the advance of the gospel in our own midst and beyond. \nAdult Sunday school classes will not meet. Middle school and high school students join their parents for this time of prayer. Children’s Ministry will meet as usual.
URL:https://cpchouston.org/event/all-church-prayer-4/
LOCATION:CPC\, 8300 Katy Fwy\, Houston\, TX\, 77024\, United States
CATEGORIES:Featured Event
ATTACH;FMTTYPE=image/png:https://cpchouston.org/wp-content/uploads/2021/12/All-Church-Prayer-9-2018-Events.png
END:VEVENT
BEGIN:VEVENT
DTSTART;TZID=America/Chicago:20250105T083000
DTEND;TZID=America/Chicago:20250105T094500
DTSTAMP:20260421T104332
CREATED:20241216T153111Z
LAST-MODIFIED:20241216T153238Z
UID:18912-1736065800-1736070300@cpchouston.org
SUMMARY:Worship Service
DESCRIPTION:Sunday Morning Schedule January 5\n8:30 am Worship Service in Sanctuary & livestreamed here: Worship Livestream\n10:00 am All-Church Prayer\n11:00 am Worship Service in Sanctuary
URL:https://cpchouston.org/event/worship-service-7/
LOCATION:CPC\, 8300 Katy Fwy\, Houston\, TX\, 77024\, United States
ATTACH;FMTTYPE=image/png:https://cpchouston.org/wp-content/uploads/2021/09/In-Person-Worship-Events-2020.png
END:VEVENT
BEGIN:VEVENT
DTSTART;VALUE=DATE:20250101
DTEND;VALUE=DATE:20250102
DTSTAMP:20260421T104332
CREATED:20241119T150144Z
LAST-MODIFIED:20241119T164516Z
UID:18537-1735689600-1735775999@cpchouston.org
SUMMARY:New Year's Day
DESCRIPTION:Happy New Year! \nThe church offices will be closed January 1.
URL:https://cpchouston.org/event/new-years-day/
LOCATION:CPC\, 8300 Katy Fwy\, Houston\, TX\, 77024\, United States
END:VEVENT
BEGIN:VEVENT
DTSTART;TZID=America/Chicago:20241229T100000
DTEND;TZID=America/Chicago:20241229T111500
DTSTAMP:20260421T104332
CREATED:20241115T183052Z
LAST-MODIFIED:20241115T183052Z
UID:18476-1735466400-1735470900@cpchouston.org
SUMMARY:Worship Service
DESCRIPTION:On Sunday\, December 29\, we will have one combined worship service at 10 am in the Sanctuary. Sunday school classes will not meet.
URL:https://cpchouston.org/event/worship-service-6/
LOCATION:CPC\, 8300 Katy Fwy\, Houston\, TX\, 77024\, United States
CATEGORIES:Featured Event
ATTACH;FMTTYPE=image/png:https://cpchouston.org/wp-content/uploads/2024/11/modified-schedule-december-29-2024.png
END:VEVENT
BEGIN:VEVENT
DTSTART;VALUE=DATE:20241225
DTEND;VALUE=DATE:20241226
DTSTAMP:20260421T104332
CREATED:20241107T192414Z
LAST-MODIFIED:20241121T192556Z
UID:18249-1735084800-1735171199@cpchouston.org
SUMMARY:Christmas Worship and Events
DESCRIPTION:Join us throughout the Christmas season! \nAdvent Worship Services\n8:30 & 11:00 am Sundays\, Dec. 1–22 \nYoung Adults Hymn Sing\n6:00 pm Friday\, December 6 \nFamily Ministry Christmas Party\n6:30 pm Friday\, December 6\nDetails & Registration: Family Christmas Party \nChildren’s Christmas Party\n12:30 pm Sunday\, December 8\n5th grade & younger\nDetails & Registration: Children’s Christmas Party \nStudent Ministry Christmas Party\n12:30 pm Sunday\, December 8 \nHandel’s Messiah\n8:00 pm December 12\, 13 & 14\nMore information about Messiah \nYoung Adults Christmas Party\n6:00 pm Sunday\, December 15 \nChristmas Eve Worship \nTuesday\, December 24\n4:30 pm Family Candlelight Nativity Service\n6:00 pm Communion Candlelight Lessons & Carols \nSunday\, December 29\n10:00 am Worship Service (No Sunday School) \nOffice Closures: Please note that the church office will be closed December 23-27\, and January 1.
URL:https://cpchouston.org/event/christmas-worship-and-events/
LOCATION:CPC\, 8300 Katy Fwy\, Houston\, TX\, 77024\, United States
CATEGORIES:Christmas,Featured Event
ATTACH;FMTTYPE=image/png:https://cpchouston.org/wp-content/uploads/2024/11/Christmas-Worship-and-Events-2024.png
END:VEVENT
BEGIN:VEVENT
DTSTART;TZID=America/Chicago:20241224T180000
DTEND;TZID=America/Chicago:20241224T191500
DTSTAMP:20260421T104332
CREATED:20241115T183725Z
LAST-MODIFIED:20241115T183725Z
UID:18484-1735063200-1735067700@cpchouston.org
SUMMARY:Christmas Eve Worship
DESCRIPTION:Christmas Eve Worship \nJoin the family of Christ Presbyterian Church for worship this Christmas Eve! \n4:30 pm Family Candlelight Nativity Service\n6:00 pm Communion Candlelight Lessons & Carols \nSee all 2024 Christmas Worship & Events
URL:https://cpchouston.org/event/christmas-eve-worship-6/
LOCATION:CPC\, 8300 Katy Fwy\, Houston\, TX\, 77024\, United States
CATEGORIES:Christmas
ATTACH;FMTTYPE=image/png:https://cpchouston.org/wp-content/uploads/2024/11/Christmas-Worship-and-Events-2024.png
END:VEVENT
BEGIN:VEVENT
DTSTART;TZID=America/Chicago:20241224T163000
DTEND;TZID=America/Chicago:20241224T173000
DTSTAMP:20260421T104332
CREATED:20241115T183444Z
LAST-MODIFIED:20241115T183618Z
UID:18480-1735057800-1735061400@cpchouston.org
SUMMARY:Christmas Eve Worship
DESCRIPTION:Christmas Eve Worship \nJoin the family of Christ Presbyterian Church for worship this Christmas Eve! \n4:30 pm Family Candlelight Nativity Service\n6:00 pm Communion Candlelight Lessons & Carols \nSee all 2024 Christmas Worship & Events
URL:https://cpchouston.org/event/christmas-eve-worship-5/
LOCATION:CPC\, 8300 Katy Fwy\, Houston\, TX\, 77024\, United States
CATEGORIES:Christmas
ATTACH;FMTTYPE=image/png:https://cpchouston.org/wp-content/uploads/2024/11/Christmas-Worship-and-Events-2024.png
END:VEVENT
BEGIN:VEVENT
DTSTART;VALUE=DATE:20241223
DTEND;VALUE=DATE:20241228
DTSTAMP:20260421T104332
CREATED:20241119T150100Z
LAST-MODIFIED:20241119T150100Z
UID:18535-1734912000-1735343999@cpchouston.org
SUMMARY:Church Office Closed
DESCRIPTION:The church offices will be closed December 23-27.
URL:https://cpchouston.org/event/church-office-closed-11/
LOCATION:CPC\, 8300 Katy Fwy\, Houston\, TX\, 77024\, United States
END:VEVENT
BEGIN:VEVENT
DTSTART;TZID=America/Chicago:20241222T110000
DTEND;TZID=America/Chicago:20241222T121500
DTSTAMP:20260421T104332
CREATED:20210916T150630Z
LAST-MODIFIED:20260128T214034Z
UID:15294-1734865200-1734869700@cpchouston.org
SUMMARY:Worship Service
DESCRIPTION:Sunday Morning Schedule\n8:30 am Worship Service in Sanctuary & livestreamed here: Worship Livestream\n10:00 am Sunday School\n11:00 am Worship Service in Sanctuary
URL:https://cpchouston.org/event/test-for-feature/2024-12-22/
LOCATION:CPC\, 8300 Katy Fwy\, Houston\, TX\, 77024\, United States
ATTACH;FMTTYPE=image/png:https://cpchouston.org/wp-content/uploads/2021/09/In-Person-Worship-Events-2020.png
END:VEVENT
BEGIN:VEVENT
DTSTART;TZID=America/Chicago:20241222T083000
DTEND;TZID=America/Chicago:20241222T094500
DTSTAMP:20260421T104332
CREATED:20210916T150630Z
LAST-MODIFIED:20260128T214032Z
UID:15293-1734856200-1734860700@cpchouston.org
SUMMARY:Worship Service
DESCRIPTION:Sunday Morning Schedule\n8:30 am Worship Service in Sanctuary & livestreamed here: Worship Livestream\n10:00 am Sunday School\n11:00 am Worship Service in Sanctuary
URL:https://cpchouston.org/event/test-for-feature/2024-12-22/
LOCATION:CPC\, 8300 Katy Fwy\, Houston\, TX\, 77024\, United States
ATTACH;FMTTYPE=image/png:https://cpchouston.org/wp-content/uploads/2021/09/In-Person-Worship-Events-2020.png
END:VEVENT
BEGIN:VEVENT
DTSTART;TZID=America/Chicago:20241219T180000
DTEND;TZID=America/Chicago:20241219T203000
DTSTAMP:20260421T104332
CREATED:20240822T130747Z
LAST-MODIFIED:20241216T152040Z
UID:17640-1734631200-1734640200@cpchouston.org
SUMMARY:English Classes
DESCRIPTION:Christ Presbyterian Church welcomes our community for conversational English classes! \nClasses are free. Students need to purchase a book for $40. \nThursdays\, 6:00-8:30 pm\nSeptember 12\, 2024 through May 8\, 2025\nAll levels of English welcome!\nNew students are welcome every Thursday.\nPlease register using the button below. \nLocation: Classes are held at 8300 Katy Freeway\, Houston\, TX 77024. \nQuestions: Contact Axel Sotelo at asotelo@cpchouston.org \n\nClass Registration
URL:https://cpchouston.org/event/english-classes-3/2024-12-19/
LOCATION:CPC\, 8300 Katy Fwy\, Houston\, TX\, 77024\, United States
CATEGORIES:ESL
ATTACH;FMTTYPE=image/png:https://cpchouston.org/wp-content/uploads/2024/08/English-Classes-Digital-2024-events.png
END:VEVENT
BEGIN:VEVENT
DTSTART;TZID=America/Chicago:20241215T110000
DTEND;TZID=America/Chicago:20241215T121500
DTSTAMP:20260421T104332
CREATED:20210916T150630Z
LAST-MODIFIED:20260128T214031Z
UID:15191-1734260400-1734264900@cpchouston.org
SUMMARY:Worship Service
DESCRIPTION:Sunday Morning Schedule\n8:30 am Worship Service in Sanctuary & livestreamed here: Worship Livestream\n10:00 am Sunday School\n11:00 am Worship Service in Sanctuary
URL:https://cpchouston.org/event/test-for-feature/2024-12-15/
LOCATION:CPC\, 8300 Katy Fwy\, Houston\, TX\, 77024\, United States
ATTACH;FMTTYPE=image/png:https://cpchouston.org/wp-content/uploads/2021/09/In-Person-Worship-Events-2020.png
END:VEVENT
BEGIN:VEVENT
DTSTART;TZID=America/Chicago:20241215T083000
DTEND;TZID=America/Chicago:20241215T094500
DTSTAMP:20260421T104332
CREATED:20210916T150630Z
LAST-MODIFIED:20260128T214030Z
UID:15190-1734251400-1734255900@cpchouston.org
SUMMARY:Worship Service
DESCRIPTION:Sunday Morning Schedule\n8:30 am Worship Service in Sanctuary & livestreamed here: Worship Livestream\n10:00 am Sunday School\n11:00 am Worship Service in Sanctuary
URL:https://cpchouston.org/event/test-for-feature/2024-12-15/
LOCATION:CPC\, 8300 Katy Fwy\, Houston\, TX\, 77024\, United States
ATTACH;FMTTYPE=image/png:https://cpchouston.org/wp-content/uploads/2021/09/In-Person-Worship-Events-2020.png
END:VEVENT
BEGIN:VEVENT
DTSTART;TZID=America/Chicago:20241212T180000
DTEND;TZID=America/Chicago:20241212T203000
DTSTAMP:20260421T104332
CREATED:20240822T130747Z
LAST-MODIFIED:20241216T152040Z
UID:17639-1734026400-1734035400@cpchouston.org
SUMMARY:English Classes
DESCRIPTION:Christ Presbyterian Church welcomes our community for conversational English classes! \nClasses are free. Students need to purchase a book for $40. \nThursdays\, 6:00-8:30 pm\nSeptember 12\, 2024 through May 8\, 2025\nAll levels of English welcome!\nNew students are welcome every Thursday.\nPlease register using the button below. \nLocation: Classes are held at 8300 Katy Freeway\, Houston\, TX 77024. \nQuestions: Contact Axel Sotelo at asotelo@cpchouston.org \n\nClass Registration
URL:https://cpchouston.org/event/english-classes-3/2024-12-12/
LOCATION:CPC\, 8300 Katy Fwy\, Houston\, TX\, 77024\, United States
CATEGORIES:ESL
ATTACH;FMTTYPE=image/png:https://cpchouston.org/wp-content/uploads/2024/08/English-Classes-Digital-2024-events.png
END:VEVENT
BEGIN:VEVENT
DTSTART;VALUE=DATE:20241212
DTEND;VALUE=DATE:20241215
DTSTAMP:20260421T104332
CREATED:20240917T175548Z
LAST-MODIFIED:20241031T153522Z
UID:17886-1733961600-1734220799@cpchouston.org
SUMMARY:Handel's Messiah
DESCRIPTION:The Concert Choir & Orchestra\, along with special guest soloists\, present Handel’s Messiah at 8 pm December 12\, 13 & 14\, 2024. \nFree general admission tickets will be available at 7 pm each evening for that evening’s performance. Tickets are distributed on a first-come\, first-served basis\, so please arrive early. \nAs our twentieth season unfolds\, we anticipate yet another wonderful experience for the Christmas season. The CPC choir and orchestra along with special guest soloists will once again delight you with this special masterwork. Handel’s Messiah has become a wonderful tradition here at Christ Presbyterian Church in Houston. \nThis year’s Messiah performances will again be highlighted by our 17th century Flemish harpsichord. This instrument is an authentic Flemish style single manual instrument after Ruckers as designed by Marc Ducornet with all parts and materials from Atelier Marc Ducornet in Paris\, custom built by Gerald Self. \nIt is an honor to be able to present this wonderful masterwork. This has become a Christmas tradition for many of you\, and hopefully\, many more in the future. “For unto us a Child is born\, unto us a Son is given; and the government shall be upon His shoulder: and His name shall be called Wonderful\, Counselor\, The Mighty\, God\, The Everlasting Father\, The Prince Of Peace” (Isaiah 9:6). \nLearn more: Music & Worship
URL:https://cpchouston.org/event/handels-messiah-6/
LOCATION:CPC\, 8300 Katy Fwy\, Houston\, TX\, 77024\, United States
CATEGORIES:Christmas,Featured Event,Music & Worship
END:VEVENT
BEGIN:VEVENT
DTSTART;TZID=America/Chicago:20241211T190000
DTEND;TZID=America/Chicago:20241211T210000
DTSTAMP:20260421T104332
CREATED:20240917T181308Z
LAST-MODIFIED:20240917T181308Z
UID:17905-1733943600-1733950800@cpchouston.org
SUMMARY:Messiah Rehearsal
DESCRIPTION:On Wednesday\, December 11\, we will rehearse for Handel’s Messiah at 7:00 pm in the Sanctuary. The Worship Choir will not rehearse. Performances are December 12\, 13 & 14. Interested in joining the Concert Choir? Please contact BJ McDougal in the church office at 713-526-1188.
URL:https://cpchouston.org/event/messiah-rehearsal-4/
LOCATION:CPC\, 8300 Katy Fwy\, Houston\, TX\, 77024\, United States
CATEGORIES:Music & Worship
ATTACH;FMTTYPE=image/png:https://cpchouston.org/wp-content/uploads/2024/09/Messiah-rehearsals-09-2024-events.png
END:VEVENT
BEGIN:VEVENT
DTSTART;TZID=America/Chicago:20241211T120000
DTEND;TZID=America/Chicago:20241211T143000
DTSTAMP:20260421T104332
CREATED:20221228T194937Z
LAST-MODIFIED:20250522T214638Z
UID:18294-1733918400-1733927400@cpchouston.org
SUMMARY:Lessons & Laughter
DESCRIPTION:Make baby blankets for new babies\, prayer shawls for the Tumaini orphanage\, and great friendships. Wednesdays at 12 pm in the SonRise Cafe. (Please note that on December 4\, 2024 we will meet in the Parlor instead of the SonRise Cafe.) \nIf you don’t already knit\, but would love to learn\, this is the place for you!
URL:https://cpchouston.org/event/lessons-laughter-4/2024-12-11/
LOCATION:CPC\, 8300 Katy Fwy\, Houston\, TX\, 77024\, United States
CATEGORIES:Women
END:VEVENT
BEGIN:VEVENT
DTSTART;TZID=America/Chicago:20241208T123000
DTEND;TZID=America/Chicago:20241208T143000
DTSTAMP:20260421T104332
CREATED:20241114T125406Z
LAST-MODIFIED:20241206T210216Z
UID:18352-1733661000-1733668200@cpchouston.org
SUMMARY:Children's Ministry Christmas Party
DESCRIPTION:Children of all ages\, 5th grade and under\, are invited to the Children’s Ministry Christmas Party on Sunday\, December 8\, from 12:30-2:30. \n					\n									Register
URL:https://cpchouston.org/event/childrens-ministry-christmas-party-2/
LOCATION:CPC\, 8300 Katy Fwy\, Houston\, TX\, 77024\, United States
CATEGORIES:Featured Event
ATTACH;FMTTYPE=image/png:https://cpchouston.org/wp-content/uploads/2024/11/Childrens-Christmas-Party-2024-Digital-events-1.png
END:VEVENT
BEGIN:VEVENT
DTSTART;TZID=America/Chicago:20241208T110000
DTEND;TZID=America/Chicago:20241208T121500
DTSTAMP:20260421T104332
CREATED:20210916T150630Z
LAST-MODIFIED:20260128T214029Z
UID:15163-1733655600-1733660100@cpchouston.org
SUMMARY:Worship Service
DESCRIPTION:Sunday Morning Schedule\n8:30 am Worship Service in Sanctuary & livestreamed here: Worship Livestream\n10:00 am Sunday School\n11:00 am Worship Service in Sanctuary
URL:https://cpchouston.org/event/test-for-feature/2024-12-08/
LOCATION:CPC\, 8300 Katy Fwy\, Houston\, TX\, 77024\, United States
ATTACH;FMTTYPE=image/png:https://cpchouston.org/wp-content/uploads/2021/09/In-Person-Worship-Events-2020.png
END:VEVENT
BEGIN:VEVENT
DTSTART;TZID=America/Chicago:20241208T083000
DTEND;TZID=America/Chicago:20241208T094500
DTSTAMP:20260421T104332
CREATED:20210916T150630Z
LAST-MODIFIED:20260128T214028Z
UID:15162-1733646600-1733651100@cpchouston.org
SUMMARY:Worship Service
DESCRIPTION:Sunday Morning Schedule\n8:30 am Worship Service in Sanctuary & livestreamed here: Worship Livestream\n10:00 am Sunday School\n11:00 am Worship Service in Sanctuary
URL:https://cpchouston.org/event/test-for-feature/2024-12-08/
LOCATION:CPC\, 8300 Katy Fwy\, Houston\, TX\, 77024\, United States
ATTACH;FMTTYPE=image/png:https://cpchouston.org/wp-content/uploads/2021/09/In-Person-Worship-Events-2020.png
END:VEVENT
BEGIN:VEVENT
DTSTART;TZID=America/Chicago:20241207T140000
DTEND;TZID=America/Chicago:20241207T153000
DTSTAMP:20260421T104332
CREATED:20241203T202856Z
LAST-MODIFIED:20241207T212259Z
UID:18657-1733580000-1733585400@cpchouston.org
SUMMARY:Memorial Service for Dan Greninger
DESCRIPTION:
URL:https://cpchouston.org/event/memorial-service-for-dan-greninger/
LOCATION:CPC\, 8300 Katy Fwy\, Houston\, TX\, 77024\, United States
ATTACH;FMTTYPE=image/png:https://cpchouston.org/wp-content/uploads/2024/12/Memorial-Service-Dan-Greninger.png
END:VEVENT
BEGIN:VEVENT
DTSTART;TZID=America/Chicago:20241206T183000
DTEND;TZID=America/Chicago:20241206T210000
DTSTAMP:20260421T104332
CREATED:20241114T125910Z
LAST-MODIFIED:20241114T130020Z
UID:18364-1733509800-1733518800@cpchouston.org
SUMMARY:Family Ministry Christmas Party
DESCRIPTION:Families\, you are invited to CPC’s annual Family Ministry Christmas Party on Friday\, December 6th\, 6:30-9:00! Enjoy a delicious meal and fellowship with friends. Wear your tackiest or classiest Christmas sweater\, prizes will be awarded! \nChildcare will be provided for children in 5th grade and younger\, at CPC. You may drop-off your children beginning at 6:00 and head over to the Harris home to join the party! \n\nRSVP
URL:https://cpchouston.org/event/family-ministry-christmas-party-2/
LOCATION:Off-Campus\, Houston\, United States
CATEGORIES:Featured Event
ATTACH;FMTTYPE=image/png:https://cpchouston.org/wp-content/uploads/2024/11/Family-Ministry-Christmas-Party-2024-Digital-Events-1.png
END:VEVENT
BEGIN:VEVENT
DTSTART;TZID=America/Chicago:20241205T180000
DTEND;TZID=America/Chicago:20241205T203000
DTSTAMP:20260421T104332
CREATED:20240822T130747Z
LAST-MODIFIED:20241216T152040Z
UID:17638-1733421600-1733430600@cpchouston.org
SUMMARY:English Classes
DESCRIPTION:Christ Presbyterian Church welcomes our community for conversational English classes! \nClasses are free. Students need to purchase a book for $40. \nThursdays\, 6:00-8:30 pm\nSeptember 12\, 2024 through May 8\, 2025\nAll levels of English welcome!\nNew students are welcome every Thursday.\nPlease register using the button below. \nLocation: Classes are held at 8300 Katy Freeway\, Houston\, TX 77024. \nQuestions: Contact Axel Sotelo at asotelo@cpchouston.org \n\nClass Registration
URL:https://cpchouston.org/event/english-classes-3/2024-12-05/
LOCATION:CPC\, 8300 Katy Fwy\, Houston\, TX\, 77024\, United States
CATEGORIES:ESL
ATTACH;FMTTYPE=image/png:https://cpchouston.org/wp-content/uploads/2024/08/English-Classes-Digital-2024-events.png
END:VEVENT
END:VCALENDAR