BEGIN:VCALENDAR
VERSION:2.0
PRODID:-//Christ Presbyterian Church of Houston - ECPv6.15.20//NONSGML v1.0//EN
CALSCALE:GREGORIAN
METHOD:PUBLISH
X-ORIGINAL-URL:https://cpchouston.org
X-WR-CALDESC:Events for Christ Presbyterian Church of Houston
REFRESH-INTERVAL;VALUE=DURATION:PT1H
X-Robots-Tag:noindex
X-PUBLISHED-TTL:PT1H
BEGIN:VTIMEZONE
TZID:America/Chicago
BEGIN:DAYLIGHT
TZOFFSETFROM:-0600
TZOFFSETTO:-0500
TZNAME:CDT
DTSTART:20250309T080000
END:DAYLIGHT
BEGIN:STANDARD
TZOFFSETFROM:-0500
TZOFFSETTO:-0600
TZNAME:CST
DTSTART:20251102T070000
END:STANDARD
BEGIN:DAYLIGHT
TZOFFSETFROM:-0600
TZOFFSETTO:-0500
TZNAME:CDT
DTSTART:20260308T080000
END:DAYLIGHT
BEGIN:STANDARD
TZOFFSETFROM:-0500
TZOFFSETTO:-0600
TZNAME:CST
DTSTART:20261101T070000
END:STANDARD
BEGIN:DAYLIGHT
TZOFFSETFROM:-0600
TZOFFSETTO:-0500
TZNAME:CDT
DTSTART:20270314T080000
END:DAYLIGHT
BEGIN:STANDARD
TZOFFSETFROM:-0500
TZOFFSETTO:-0600
TZNAME:CST
DTSTART:20271107T070000
END:STANDARD
BEGIN:DAYLIGHT
TZOFFSETFROM:-0600
TZOFFSETTO:-0500
TZNAME:CDT
DTSTART:20280312T080000
END:DAYLIGHT
BEGIN:STANDARD
TZOFFSETFROM:-0500
TZOFFSETTO:-0600
TZNAME:CST
DTSTART:20281105T070000
END:STANDARD
END:VTIMEZONE
BEGIN:VEVENT
DTSTART;TZID=America/Chicago:20261129T110000
DTEND;TZID=America/Chicago:20261129T121500
DTSTAMP:20260421T184830
CREATED:20210916T150630Z
LAST-MODIFIED:20260128T214453Z
UID:22152-1795950000-1795954500@cpchouston.org
SUMMARY:Worship Service
DESCRIPTION:Sunday Morning Schedule\n8:30 am Worship Service in Sanctuary & livestreamed here: Worship Livestream\n10:00 am Sunday School\n11:00 am Worship Service in Sanctuary
URL:https://cpchouston.org/event/test-for-feature/2026-11-29/
LOCATION:CPC\, 8300 Katy Fwy\, Houston\, TX\, 77024\, United States
ATTACH;FMTTYPE=image/png:https://cpchouston.org/wp-content/uploads/2021/09/In-Person-Worship-Events-2020.png
END:VEVENT
BEGIN:VEVENT
DTSTART;TZID=America/Chicago:20261202T120000
DTEND;TZID=America/Chicago:20261202T140000
DTSTAMP:20260421T184830
CREATED:20250910T193710Z
LAST-MODIFIED:20260302T221626Z
UID:22743-1796212800-1796220000@cpchouston.org
SUMMARY:Lessons & Laughter
DESCRIPTION:We make baby blankets for new babies and prayer shawls for those who are hospitalized and for the grieving. We also make scarves and lap blankets for “Eyes on Me” ministry. We meet Wednesdays at 12 pm in the SonRise Cafe for great fellowship and prayer time. \nIf you don’t already knit or crochet but would love to learn\, this is the place for you! If any questions\, contact the church office. \n 
URL:https://cpchouston.org/event/lessons-laughter-5/2026-12-02/
LOCATION:CPC\, 8300 Katy Fwy\, Houston\, TX\, 77024\, United States
CATEGORIES:Women
END:VEVENT
BEGIN:VEVENT
DTSTART;TZID=America/Chicago:20261206T083000
DTEND;TZID=America/Chicago:20261206T094500
DTSTAMP:20260421T184830
CREATED:20210916T150630Z
LAST-MODIFIED:20260128T214454Z
UID:22182-1796545800-1796550300@cpchouston.org
SUMMARY:Worship Service
DESCRIPTION:Sunday Morning Schedule\n8:30 am Worship Service in Sanctuary & livestreamed here: Worship Livestream\n10:00 am Sunday School\n11:00 am Worship Service in Sanctuary
URL:https://cpchouston.org/event/test-for-feature/2026-12-06/
LOCATION:CPC\, 8300 Katy Fwy\, Houston\, TX\, 77024\, United States
ATTACH;FMTTYPE=image/png:https://cpchouston.org/wp-content/uploads/2021/09/In-Person-Worship-Events-2020.png
END:VEVENT
BEGIN:VEVENT
DTSTART;TZID=America/Chicago:20261206T110000
DTEND;TZID=America/Chicago:20261206T121500
DTSTAMP:20260421T184830
CREATED:20210916T150630Z
LAST-MODIFIED:20260128T214455Z
UID:22183-1796554800-1796559300@cpchouston.org
SUMMARY:Worship Service
DESCRIPTION:Sunday Morning Schedule\n8:30 am Worship Service in Sanctuary & livestreamed here: Worship Livestream\n10:00 am Sunday School\n11:00 am Worship Service in Sanctuary
URL:https://cpchouston.org/event/test-for-feature/2026-12-06/
LOCATION:CPC\, 8300 Katy Fwy\, Houston\, TX\, 77024\, United States
ATTACH;FMTTYPE=image/png:https://cpchouston.org/wp-content/uploads/2021/09/In-Person-Worship-Events-2020.png
END:VEVENT
BEGIN:VEVENT
DTSTART;TZID=America/Chicago:20261209T120000
DTEND;TZID=America/Chicago:20261209T140000
DTSTAMP:20260421T184830
CREATED:20250910T193710Z
LAST-MODIFIED:20260302T221627Z
UID:22744-1796817600-1796824800@cpchouston.org
SUMMARY:Lessons & Laughter
DESCRIPTION:We make baby blankets for new babies and prayer shawls for those who are hospitalized and for the grieving. We also make scarves and lap blankets for “Eyes on Me” ministry. We meet Wednesdays at 12 pm in the SonRise Cafe for great fellowship and prayer time. \nIf you don’t already knit or crochet but would love to learn\, this is the place for you! If any questions\, contact the church office. \n 
URL:https://cpchouston.org/event/lessons-laughter-5/2026-12-09/
LOCATION:CPC\, 8300 Katy Fwy\, Houston\, TX\, 77024\, United States
CATEGORIES:Women
END:VEVENT
BEGIN:VEVENT
DTSTART;TZID=America/Chicago:20261213T083000
DTEND;TZID=America/Chicago:20261213T094500
DTSTAMP:20260421T184830
CREATED:20210916T150630Z
LAST-MODIFIED:20260128T214457Z
UID:22215-1797150600-1797155100@cpchouston.org
SUMMARY:Worship Service
DESCRIPTION:Sunday Morning Schedule\n8:30 am Worship Service in Sanctuary & livestreamed here: Worship Livestream\n10:00 am Sunday School\n11:00 am Worship Service in Sanctuary
URL:https://cpchouston.org/event/test-for-feature/2026-12-13/
LOCATION:CPC\, 8300 Katy Fwy\, Houston\, TX\, 77024\, United States
ATTACH;FMTTYPE=image/png:https://cpchouston.org/wp-content/uploads/2021/09/In-Person-Worship-Events-2020.png
END:VEVENT
BEGIN:VEVENT
DTSTART;TZID=America/Chicago:20261213T110000
DTEND;TZID=America/Chicago:20261213T121500
DTSTAMP:20260421T184830
CREATED:20210916T150630Z
LAST-MODIFIED:20260128T214458Z
UID:22216-1797159600-1797164100@cpchouston.org
SUMMARY:Worship Service
DESCRIPTION:Sunday Morning Schedule\n8:30 am Worship Service in Sanctuary & livestreamed here: Worship Livestream\n10:00 am Sunday School\n11:00 am Worship Service in Sanctuary
URL:https://cpchouston.org/event/test-for-feature/2026-12-13/
LOCATION:CPC\, 8300 Katy Fwy\, Houston\, TX\, 77024\, United States
ATTACH;FMTTYPE=image/png:https://cpchouston.org/wp-content/uploads/2021/09/In-Person-Worship-Events-2020.png
END:VEVENT
BEGIN:VEVENT
DTSTART;TZID=America/Chicago:20261216T120000
DTEND;TZID=America/Chicago:20261216T140000
DTSTAMP:20260421T184830
CREATED:20250910T193710Z
LAST-MODIFIED:20260302T221628Z
UID:22745-1797422400-1797429600@cpchouston.org
SUMMARY:Lessons & Laughter
DESCRIPTION:We make baby blankets for new babies and prayer shawls for those who are hospitalized and for the grieving. We also make scarves and lap blankets for “Eyes on Me” ministry. We meet Wednesdays at 12 pm in the SonRise Cafe for great fellowship and prayer time. \nIf you don’t already knit or crochet but would love to learn\, this is the place for you! If any questions\, contact the church office. \n 
URL:https://cpchouston.org/event/lessons-laughter-5/2026-12-16/
LOCATION:CPC\, 8300 Katy Fwy\, Houston\, TX\, 77024\, United States
CATEGORIES:Women
END:VEVENT
BEGIN:VEVENT
DTSTART;TZID=America/Chicago:20261220T083000
DTEND;TZID=America/Chicago:20261220T094500
DTSTAMP:20260421T184830
CREATED:20210916T150630Z
LAST-MODIFIED:20260128T214459Z
UID:22239-1797755400-1797759900@cpchouston.org
SUMMARY:Worship Service
DESCRIPTION:Sunday Morning Schedule\n8:30 am Worship Service in Sanctuary & livestreamed here: Worship Livestream\n10:00 am Sunday School\n11:00 am Worship Service in Sanctuary
URL:https://cpchouston.org/event/test-for-feature/2026-12-20/
LOCATION:CPC\, 8300 Katy Fwy\, Houston\, TX\, 77024\, United States
ATTACH;FMTTYPE=image/png:https://cpchouston.org/wp-content/uploads/2021/09/In-Person-Worship-Events-2020.png
END:VEVENT
BEGIN:VEVENT
DTSTART;TZID=America/Chicago:20261220T110000
DTEND;TZID=America/Chicago:20261220T121500
DTSTAMP:20260421T184830
CREATED:20210916T150630Z
LAST-MODIFIED:20260128T214500Z
UID:22240-1797764400-1797768900@cpchouston.org
SUMMARY:Worship Service
DESCRIPTION:Sunday Morning Schedule\n8:30 am Worship Service in Sanctuary & livestreamed here: Worship Livestream\n10:00 am Sunday School\n11:00 am Worship Service in Sanctuary
URL:https://cpchouston.org/event/test-for-feature/2026-12-20/
LOCATION:CPC\, 8300 Katy Fwy\, Houston\, TX\, 77024\, United States
ATTACH;FMTTYPE=image/png:https://cpchouston.org/wp-content/uploads/2021/09/In-Person-Worship-Events-2020.png
END:VEVENT
BEGIN:VEVENT
DTSTART;TZID=America/Chicago:20261223T120000
DTEND;TZID=America/Chicago:20261223T140000
DTSTAMP:20260421T184830
CREATED:20250910T193710Z
LAST-MODIFIED:20260302T221629Z
UID:22746-1798027200-1798034400@cpchouston.org
SUMMARY:Lessons & Laughter
DESCRIPTION:We make baby blankets for new babies and prayer shawls for those who are hospitalized and for the grieving. We also make scarves and lap blankets for “Eyes on Me” ministry. We meet Wednesdays at 12 pm in the SonRise Cafe for great fellowship and prayer time. \nIf you don’t already knit or crochet but would love to learn\, this is the place for you! If any questions\, contact the church office. \n 
URL:https://cpchouston.org/event/lessons-laughter-5/2026-12-23/
LOCATION:CPC\, 8300 Katy Fwy\, Houston\, TX\, 77024\, United States
CATEGORIES:Women
END:VEVENT
BEGIN:VEVENT
DTSTART;TZID=America/Chicago:20261227T083000
DTEND;TZID=America/Chicago:20261227T094500
DTSTAMP:20260421T184830
CREATED:20210916T150630Z
LAST-MODIFIED:20260128T214502Z
UID:22333-1798360200-1798364700@cpchouston.org
SUMMARY:Worship Service
DESCRIPTION:Sunday Morning Schedule\n8:30 am Worship Service in Sanctuary & livestreamed here: Worship Livestream\n10:00 am Sunday School\n11:00 am Worship Service in Sanctuary
URL:https://cpchouston.org/event/test-for-feature/2026-12-27/
LOCATION:CPC\, 8300 Katy Fwy\, Houston\, TX\, 77024\, United States
ATTACH;FMTTYPE=image/png:https://cpchouston.org/wp-content/uploads/2021/09/In-Person-Worship-Events-2020.png
END:VEVENT
BEGIN:VEVENT
DTSTART;TZID=America/Chicago:20261227T110000
DTEND;TZID=America/Chicago:20261227T121500
DTSTAMP:20260421T184830
CREATED:20210916T150630Z
LAST-MODIFIED:20260128T214504Z
UID:22334-1798369200-1798373700@cpchouston.org
SUMMARY:Worship Service
DESCRIPTION:Sunday Morning Schedule\n8:30 am Worship Service in Sanctuary & livestreamed here: Worship Livestream\n10:00 am Sunday School\n11:00 am Worship Service in Sanctuary
URL:https://cpchouston.org/event/test-for-feature/2026-12-27/
LOCATION:CPC\, 8300 Katy Fwy\, Houston\, TX\, 77024\, United States
ATTACH;FMTTYPE=image/png:https://cpchouston.org/wp-content/uploads/2021/09/In-Person-Worship-Events-2020.png
END:VEVENT
BEGIN:VEVENT
DTSTART;TZID=America/Chicago:20261230T120000
DTEND;TZID=America/Chicago:20261230T140000
DTSTAMP:20260421T184830
CREATED:20250910T193710Z
LAST-MODIFIED:20260302T221630Z
UID:22747-1798632000-1798639200@cpchouston.org
SUMMARY:Lessons & Laughter
DESCRIPTION:We make baby blankets for new babies and prayer shawls for those who are hospitalized and for the grieving. We also make scarves and lap blankets for “Eyes on Me” ministry. We meet Wednesdays at 12 pm in the SonRise Cafe for great fellowship and prayer time. \nIf you don’t already knit or crochet but would love to learn\, this is the place for you! If any questions\, contact the church office. \n 
URL:https://cpchouston.org/event/lessons-laughter-5/2026-12-30/
LOCATION:CPC\, 8300 Katy Fwy\, Houston\, TX\, 77024\, United States
CATEGORIES:Women
END:VEVENT
BEGIN:VEVENT
DTSTART;TZID=America/Chicago:20270103T083000
DTEND;TZID=America/Chicago:20270103T094500
DTSTAMP:20260421T184830
CREATED:20210916T150630Z
LAST-MODIFIED:20260128T214507Z
UID:22371-1798965000-1798969500@cpchouston.org
SUMMARY:Worship Service
DESCRIPTION:Sunday Morning Schedule\n8:30 am Worship Service in Sanctuary & livestreamed here: Worship Livestream\n10:00 am Sunday School\n11:00 am Worship Service in Sanctuary
URL:https://cpchouston.org/event/test-for-feature/2027-01-03/
LOCATION:CPC\, 8300 Katy Fwy\, Houston\, TX\, 77024\, United States
ATTACH;FMTTYPE=image/png:https://cpchouston.org/wp-content/uploads/2021/09/In-Person-Worship-Events-2020.png
END:VEVENT
BEGIN:VEVENT
DTSTART;TZID=America/Chicago:20270103T110000
DTEND;TZID=America/Chicago:20270103T121500
DTSTAMP:20260421T184830
CREATED:20210916T150630Z
LAST-MODIFIED:20260128T214509Z
UID:22372-1798974000-1798978500@cpchouston.org
SUMMARY:Worship Service
DESCRIPTION:Sunday Morning Schedule\n8:30 am Worship Service in Sanctuary & livestreamed here: Worship Livestream\n10:00 am Sunday School\n11:00 am Worship Service in Sanctuary
URL:https://cpchouston.org/event/test-for-feature/2027-01-03/
LOCATION:CPC\, 8300 Katy Fwy\, Houston\, TX\, 77024\, United States
ATTACH;FMTTYPE=image/png:https://cpchouston.org/wp-content/uploads/2021/09/In-Person-Worship-Events-2020.png
END:VEVENT
BEGIN:VEVENT
DTSTART;TZID=America/Chicago:20270110T083000
DTEND;TZID=America/Chicago:20270110T094500
DTSTAMP:20260421T184830
CREATED:20210916T150630Z
LAST-MODIFIED:20260128T214510Z
UID:22450-1799569800-1799574300@cpchouston.org
SUMMARY:Worship Service
DESCRIPTION:Sunday Morning Schedule\n8:30 am Worship Service in Sanctuary & livestreamed here: Worship Livestream\n10:00 am Sunday School\n11:00 am Worship Service in Sanctuary
URL:https://cpchouston.org/event/test-for-feature/2027-01-10/
LOCATION:CPC\, 8300 Katy Fwy\, Houston\, TX\, 77024\, United States
ATTACH;FMTTYPE=image/png:https://cpchouston.org/wp-content/uploads/2021/09/In-Person-Worship-Events-2020.png
END:VEVENT
BEGIN:VEVENT
DTSTART;TZID=America/Chicago:20270110T110000
DTEND;TZID=America/Chicago:20270110T121500
DTSTAMP:20260421T184830
CREATED:20210916T150630Z
LAST-MODIFIED:20260128T214511Z
UID:22451-1799578800-1799583300@cpchouston.org
SUMMARY:Worship Service
DESCRIPTION:Sunday Morning Schedule\n8:30 am Worship Service in Sanctuary & livestreamed here: Worship Livestream\n10:00 am Sunday School\n11:00 am Worship Service in Sanctuary
URL:https://cpchouston.org/event/test-for-feature/2027-01-10/
LOCATION:CPC\, 8300 Katy Fwy\, Houston\, TX\, 77024\, United States
ATTACH;FMTTYPE=image/png:https://cpchouston.org/wp-content/uploads/2021/09/In-Person-Worship-Events-2020.png
END:VEVENT
BEGIN:VEVENT
DTSTART;TZID=America/Chicago:20270117T083000
DTEND;TZID=America/Chicago:20270117T094500
DTSTAMP:20260421T184830
CREATED:20210916T150630Z
LAST-MODIFIED:20260128T214512Z
UID:22483-1800174600-1800179100@cpchouston.org
SUMMARY:Worship Service
DESCRIPTION:Sunday Morning Schedule\n8:30 am Worship Service in Sanctuary & livestreamed here: Worship Livestream\n10:00 am Sunday School\n11:00 am Worship Service in Sanctuary
URL:https://cpchouston.org/event/test-for-feature/2027-01-17/
LOCATION:CPC\, 8300 Katy Fwy\, Houston\, TX\, 77024\, United States
ATTACH;FMTTYPE=image/png:https://cpchouston.org/wp-content/uploads/2021/09/In-Person-Worship-Events-2020.png
END:VEVENT
BEGIN:VEVENT
DTSTART;TZID=America/Chicago:20270117T110000
DTEND;TZID=America/Chicago:20270117T121500
DTSTAMP:20260421T184830
CREATED:20210916T150630Z
LAST-MODIFIED:20260128T214514Z
UID:22484-1800183600-1800188100@cpchouston.org
SUMMARY:Worship Service
DESCRIPTION:Sunday Morning Schedule\n8:30 am Worship Service in Sanctuary & livestreamed here: Worship Livestream\n10:00 am Sunday School\n11:00 am Worship Service in Sanctuary
URL:https://cpchouston.org/event/test-for-feature/2027-01-17/
LOCATION:CPC\, 8300 Katy Fwy\, Houston\, TX\, 77024\, United States
ATTACH;FMTTYPE=image/png:https://cpchouston.org/wp-content/uploads/2021/09/In-Person-Worship-Events-2020.png
END:VEVENT
BEGIN:VEVENT
DTSTART;TZID=America/Chicago:20270124T083000
DTEND;TZID=America/Chicago:20270124T094500
DTSTAMP:20260421T184830
CREATED:20210916T150630Z
LAST-MODIFIED:20260128T214515Z
UID:22539-1800779400-1800783900@cpchouston.org
SUMMARY:Worship Service
DESCRIPTION:Sunday Morning Schedule\n8:30 am Worship Service in Sanctuary & livestreamed here: Worship Livestream\n10:00 am Sunday School\n11:00 am Worship Service in Sanctuary
URL:https://cpchouston.org/event/test-for-feature/2027-01-24/
LOCATION:CPC\, 8300 Katy Fwy\, Houston\, TX\, 77024\, United States
ATTACH;FMTTYPE=image/png:https://cpchouston.org/wp-content/uploads/2021/09/In-Person-Worship-Events-2020.png
END:VEVENT
BEGIN:VEVENT
DTSTART;TZID=America/Chicago:20270124T110000
DTEND;TZID=America/Chicago:20270124T121500
DTSTAMP:20260421T184830
CREATED:20210916T150630Z
LAST-MODIFIED:20260128T214516Z
UID:22540-1800788400-1800792900@cpchouston.org
SUMMARY:Worship Service
DESCRIPTION:Sunday Morning Schedule\n8:30 am Worship Service in Sanctuary & livestreamed here: Worship Livestream\n10:00 am Sunday School\n11:00 am Worship Service in Sanctuary
URL:https://cpchouston.org/event/test-for-feature/2027-01-24/
LOCATION:CPC\, 8300 Katy Fwy\, Houston\, TX\, 77024\, United States
ATTACH;FMTTYPE=image/png:https://cpchouston.org/wp-content/uploads/2021/09/In-Person-Worship-Events-2020.png
END:VEVENT
BEGIN:VEVENT
DTSTART;TZID=America/Chicago:20270131T083000
DTEND;TZID=America/Chicago:20270131T094500
DTSTAMP:20260421T184830
CREATED:20210916T150630Z
LAST-MODIFIED:20210916T150630Z
UID:22621-1801384200-1801388700@cpchouston.org
SUMMARY:Worship Service
DESCRIPTION:Sunday Morning Schedule\n8:30 am Worship Service in Sanctuary & livestreamed here: Worship Livestream\n10:00 am Sunday School\n11:00 am Worship Service in Sanctuary
URL:https://cpchouston.org/event/test-for-feature/2027-01-31/
LOCATION:CPC\, 8300 Katy Fwy\, Houston\, TX\, 77024\, United States
ATTACH;FMTTYPE=image/png:https://cpchouston.org/wp-content/uploads/2021/09/In-Person-Worship-Events-2020.png
END:VEVENT
BEGIN:VEVENT
DTSTART;TZID=America/Chicago:20270131T110000
DTEND;TZID=America/Chicago:20270131T121500
DTSTAMP:20260421T184830
CREATED:20210916T150630Z
LAST-MODIFIED:20210916T150630Z
UID:22622-1801393200-1801397700@cpchouston.org
SUMMARY:Worship Service
DESCRIPTION:Sunday Morning Schedule\n8:30 am Worship Service in Sanctuary & livestreamed here: Worship Livestream\n10:00 am Sunday School\n11:00 am Worship Service in Sanctuary
URL:https://cpchouston.org/event/test-for-feature/2027-01-31/
LOCATION:CPC\, 8300 Katy Fwy\, Houston\, TX\, 77024\, United States
ATTACH;FMTTYPE=image/png:https://cpchouston.org/wp-content/uploads/2021/09/In-Person-Worship-Events-2020.png
END:VEVENT
BEGIN:VEVENT
DTSTART;TZID=America/Chicago:20270207T083000
DTEND;TZID=America/Chicago:20270207T094500
DTSTAMP:20260421T184830
CREATED:20210916T150630Z
LAST-MODIFIED:20210916T150630Z
UID:22653-1801989000-1801993500@cpchouston.org
SUMMARY:Worship Service
DESCRIPTION:Sunday Morning Schedule\n8:30 am Worship Service in Sanctuary & livestreamed here: Worship Livestream\n10:00 am Sunday School\n11:00 am Worship Service in Sanctuary
URL:https://cpchouston.org/event/test-for-feature/2027-02-07/
LOCATION:CPC\, 8300 Katy Fwy\, Houston\, TX\, 77024\, United States
ATTACH;FMTTYPE=image/png:https://cpchouston.org/wp-content/uploads/2021/09/In-Person-Worship-Events-2020.png
END:VEVENT
BEGIN:VEVENT
DTSTART;TZID=America/Chicago:20270207T110000
DTEND;TZID=America/Chicago:20270207T121500
DTSTAMP:20260421T184830
CREATED:20210916T150630Z
LAST-MODIFIED:20210916T150630Z
UID:22654-1801998000-1802002500@cpchouston.org
SUMMARY:Worship Service
DESCRIPTION:Sunday Morning Schedule\n8:30 am Worship Service in Sanctuary & livestreamed here: Worship Livestream\n10:00 am Sunday School\n11:00 am Worship Service in Sanctuary
URL:https://cpchouston.org/event/test-for-feature/2027-02-07/
LOCATION:CPC\, 8300 Katy Fwy\, Houston\, TX\, 77024\, United States
ATTACH;FMTTYPE=image/png:https://cpchouston.org/wp-content/uploads/2021/09/In-Person-Worship-Events-2020.png
END:VEVENT
BEGIN:VEVENT
DTSTART;TZID=America/Chicago:20270214T083000
DTEND;TZID=America/Chicago:20270214T094500
DTSTAMP:20260421T184830
CREATED:20210916T150630Z
LAST-MODIFIED:20210916T150630Z
UID:22798-1802593800-1802598300@cpchouston.org
SUMMARY:Worship Service
DESCRIPTION:Sunday Morning Schedule\n8:30 am Worship Service in Sanctuary & livestreamed here: Worship Livestream\n10:00 am Sunday School\n11:00 am Worship Service in Sanctuary
URL:https://cpchouston.org/event/test-for-feature/2027-02-14/
LOCATION:CPC\, 8300 Katy Fwy\, Houston\, TX\, 77024\, United States
ATTACH;FMTTYPE=image/png:https://cpchouston.org/wp-content/uploads/2021/09/In-Person-Worship-Events-2020.png
END:VEVENT
BEGIN:VEVENT
DTSTART;TZID=America/Chicago:20270214T110000
DTEND;TZID=America/Chicago:20270214T121500
DTSTAMP:20260421T184830
CREATED:20210916T150630Z
LAST-MODIFIED:20210916T150630Z
UID:22799-1802602800-1802607300@cpchouston.org
SUMMARY:Worship Service
DESCRIPTION:Sunday Morning Schedule\n8:30 am Worship Service in Sanctuary & livestreamed here: Worship Livestream\n10:00 am Sunday School\n11:00 am Worship Service in Sanctuary
URL:https://cpchouston.org/event/test-for-feature/2027-02-14/
LOCATION:CPC\, 8300 Katy Fwy\, Houston\, TX\, 77024\, United States
ATTACH;FMTTYPE=image/png:https://cpchouston.org/wp-content/uploads/2021/09/In-Person-Worship-Events-2020.png
END:VEVENT
BEGIN:VEVENT
DTSTART;TZID=America/Chicago:20270221T083000
DTEND;TZID=America/Chicago:20270221T094500
DTSTAMP:20260421T184830
CREATED:20210916T150630Z
LAST-MODIFIED:20210916T150630Z
UID:22881-1803198600-1803203100@cpchouston.org
SUMMARY:Worship Service
DESCRIPTION:Sunday Morning Schedule\n8:30 am Worship Service in Sanctuary & livestreamed here: Worship Livestream\n10:00 am Sunday School\n11:00 am Worship Service in Sanctuary
URL:https://cpchouston.org/event/test-for-feature/2027-02-21/
LOCATION:CPC\, 8300 Katy Fwy\, Houston\, TX\, 77024\, United States
ATTACH;FMTTYPE=image/png:https://cpchouston.org/wp-content/uploads/2021/09/In-Person-Worship-Events-2020.png
END:VEVENT
BEGIN:VEVENT
DTSTART;TZID=America/Chicago:20270221T110000
DTEND;TZID=America/Chicago:20270221T121500
DTSTAMP:20260421T184830
CREATED:20210916T150630Z
LAST-MODIFIED:20210916T150630Z
UID:22882-1803207600-1803212100@cpchouston.org
SUMMARY:Worship Service
DESCRIPTION:Sunday Morning Schedule\n8:30 am Worship Service in Sanctuary & livestreamed here: Worship Livestream\n10:00 am Sunday School\n11:00 am Worship Service in Sanctuary
URL:https://cpchouston.org/event/test-for-feature/2027-02-21/
LOCATION:CPC\, 8300 Katy Fwy\, Houston\, TX\, 77024\, United States
ATTACH;FMTTYPE=image/png:https://cpchouston.org/wp-content/uploads/2021/09/In-Person-Worship-Events-2020.png
END:VEVENT
END:VCALENDAR