BEGIN:VCALENDAR
VERSION:2.0
PRODID:-//Christ Presbyterian Church of Houston - ECPv6.15.20//NONSGML v1.0//EN
CALSCALE:GREGORIAN
METHOD:PUBLISH
X-WR-CALNAME:Christ Presbyterian Church of Houston
X-ORIGINAL-URL:https://cpchouston.org
X-WR-CALDESC:Events for Christ Presbyterian Church of Houston
REFRESH-INTERVAL;VALUE=DURATION:PT1H
X-Robots-Tag:noindex
X-PUBLISHED-TTL:PT1H
BEGIN:VTIMEZONE
TZID:America/Chicago
BEGIN:DAYLIGHT
TZOFFSETFROM:-0600
TZOFFSETTO:-0500
TZNAME:CDT
DTSTART:20230312T080000
END:DAYLIGHT
BEGIN:STANDARD
TZOFFSETFROM:-0500
TZOFFSETTO:-0600
TZNAME:CST
DTSTART:20231105T070000
END:STANDARD
BEGIN:DAYLIGHT
TZOFFSETFROM:-0600
TZOFFSETTO:-0500
TZNAME:CDT
DTSTART:20240310T080000
END:DAYLIGHT
BEGIN:STANDARD
TZOFFSETFROM:-0500
TZOFFSETTO:-0600
TZNAME:CST
DTSTART:20241103T070000
END:STANDARD
BEGIN:DAYLIGHT
TZOFFSETFROM:-0600
TZOFFSETTO:-0500
TZNAME:CDT
DTSTART:20250309T080000
END:DAYLIGHT
BEGIN:STANDARD
TZOFFSETFROM:-0500
TZOFFSETTO:-0600
TZNAME:CST
DTSTART:20251102T070000
END:STANDARD
BEGIN:DAYLIGHT
TZOFFSETFROM:-0600
TZOFFSETTO:-0500
TZNAME:CDT
DTSTART:20260308T080000
END:DAYLIGHT
BEGIN:STANDARD
TZOFFSETFROM:-0500
TZOFFSETTO:-0600
TZNAME:CST
DTSTART:20261101T070000
END:STANDARD
END:VTIMEZONE
BEGIN:VEVENT
DTSTART;TZID=America/Chicago:20250202T110000
DTEND;TZID=America/Chicago:20250202T121500
DTSTAMP:20260421T073649
CREATED:20210916T150630Z
LAST-MODIFIED:20260128T214045Z
UID:15690-1738494000-1738498500@cpchouston.org
SUMMARY:Worship Service
DESCRIPTION:Sunday Morning Schedule\n8:30 am Worship Service in Sanctuary & livestreamed here: Worship Livestream\n10:00 am Sunday School\n11:00 am Worship Service in Sanctuary
URL:https://cpchouston.org/event/test-for-feature/2025-02-02/
LOCATION:CPC\, 8300 Katy Fwy\, Houston\, TX\, 77024\, United States
ATTACH;FMTTYPE=image/png:https://cpchouston.org/wp-content/uploads/2021/09/In-Person-Worship-Events-2020.png
END:VEVENT
BEGIN:VEVENT
DTSTART;TZID=America/Chicago:20250202T083000
DTEND;TZID=America/Chicago:20250202T094500
DTSTAMP:20260421T073649
CREATED:20210916T150630Z
LAST-MODIFIED:20260128T214043Z
UID:15689-1738485000-1738489500@cpchouston.org
SUMMARY:Worship Service
DESCRIPTION:Sunday Morning Schedule\n8:30 am Worship Service in Sanctuary & livestreamed here: Worship Livestream\n10:00 am Sunday School\n11:00 am Worship Service in Sanctuary
URL:https://cpchouston.org/event/test-for-feature/2025-02-02/
LOCATION:CPC\, 8300 Katy Fwy\, Houston\, TX\, 77024\, United States
ATTACH;FMTTYPE=image/png:https://cpchouston.org/wp-content/uploads/2021/09/In-Person-Worship-Events-2020.png
END:VEVENT
BEGIN:VEVENT
DTSTART;TZID=America/Chicago:20250130T183000
DTEND;TZID=America/Chicago:20250130T203000
DTSTAMP:20260421T073649
CREATED:20241230T182718Z
LAST-MODIFIED:20241230T210352Z
UID:19008-1738261800-1738269000@cpchouston.org
SUMMARY:Journeys
DESCRIPTION:Ladies\, please join us for Journeys\, one of our most loved women’s ministry events at CPC!  We will begin our evening together with fellowship and a charcuterie dinner.  Please bring your favorite appetizer or dessert to share!  Following dinner\, we will have a time of singing and prayer before we hear from our speakers\, Mrs. Stephanie Greene and Mrs. Celeste Garbarino. \nOur evening will be guided by John 13:34-35:\n“A new commandment I give to you\, that you love one another: just as I have loved you\, you also are to love one another.  By this all people will know that you are my disciples\, if you have love for one another.” \nPlease invite your friends and make plans to join us for this special evening of encouragement! \n\nJourneys Registration
URL:https://cpchouston.org/event/journeys-5/
LOCATION:CPC\, 8300 Katy Fwy\, Houston\, TX\, 77024\, United States
CATEGORIES:Featured Event,Women
ATTACH;FMTTYPE=image/png:https://cpchouston.org/wp-content/uploads/2024/12/Journeys-2025-Digital-Events.png
END:VEVENT
BEGIN:VEVENT
DTSTART;TZID=America/Chicago:20250130T180000
DTEND;TZID=America/Chicago:20250130T203000
DTSTAMP:20260421T073649
CREATED:20240822T130747Z
LAST-MODIFIED:20241216T152042Z
UID:17646-1738260000-1738269000@cpchouston.org
SUMMARY:English Classes
DESCRIPTION:Christ Presbyterian Church welcomes our community for conversational English classes! \nClasses are free. Students need to purchase a book for $40. \nThursdays\, 6:00-8:30 pm\nSeptember 12\, 2024 through May 8\, 2025\nAll levels of English welcome!\nNew students are welcome every Thursday.\nPlease register using the button below. \nLocation: Classes are held at 8300 Katy Freeway\, Houston\, TX 77024. \nQuestions: Contact Axel Sotelo at asotelo@cpchouston.org \n\nClass Registration
URL:https://cpchouston.org/event/english-classes-3/2025-01-30/
LOCATION:CPC\, 8300 Katy Fwy\, Houston\, TX\, 77024\, United States
CATEGORIES:ESL
ATTACH;FMTTYPE=image/png:https://cpchouston.org/wp-content/uploads/2024/08/English-Classes-Digital-2024-events.png
END:VEVENT
BEGIN:VEVENT
DTSTART;TZID=America/Chicago:20250129T183000
DTEND;TZID=America/Chicago:20250129T200000
DTSTAMP:20260421T073649
CREATED:20240806T182302Z
LAST-MODIFIED:20250120T220507Z
UID:19023-1738175400-1738180800@cpchouston.org
SUMMARY:Choir Rehearsal
DESCRIPTION:The Worship Choir needs voices this fall! Come be part of leading our congregation in worship. We rehearse Wednesday nights at 6:30 pm in the Sanctuary. Our church has a rich history of choral singing\, and you can be a part of this important ministry here at CPC. Learn more by contacting the church office.
URL:https://cpchouston.org/event/choir-rehearsal-6/2025-01-29/
LOCATION:CPC\, 8300 Katy Fwy\, Houston\, TX\, 77024\, United States
CATEGORIES:Music & Worship
ATTACH;FMTTYPE=image/png:https://cpchouston.org/wp-content/uploads/2022/10/Worship-Choir-08-2022-EVENTS.png
END:VEVENT
BEGIN:VEVENT
DTSTART;TZID=America/Chicago:20250129T120000
DTEND;TZID=America/Chicago:20250129T143000
DTSTAMP:20260421T073649
CREATED:20221228T194937Z
LAST-MODIFIED:20250522T214639Z
UID:18298-1738152000-1738161000@cpchouston.org
SUMMARY:Lessons & Laughter
DESCRIPTION:Make baby blankets for new babies\, prayer shawls for the Tumaini orphanage\, and great friendships. Wednesdays at 12 pm in the SonRise Cafe. (Please note that on December 4\, 2024 we will meet in the Parlor instead of the SonRise Cafe.) \nIf you don’t already knit\, but would love to learn\, this is the place for you!
URL:https://cpchouston.org/event/lessons-laughter-4/2025-01-29/
LOCATION:CPC\, 8300 Katy Fwy\, Houston\, TX\, 77024\, United States
CATEGORIES:Women
END:VEVENT
BEGIN:VEVENT
DTSTART;TZID=America/Chicago:20250129T093000
DTEND;TZID=America/Chicago:20250129T110000
DTSTAMP:20260421T073649
CREATED:20240815T174529Z
LAST-MODIFIED:20250120T220327Z
UID:17486-1738143000-1738148400@cpchouston.org
SUMMARY:Women's Bible Study
DESCRIPTION:Fall 2024/Spring 2025 \nLeviticus & Hebrews: The Necessity of the Cross \nJoin Mikie Bellis and the women of CPC for our study of Leviticus and Hebrews. \nWeekly lessons are provided free of charge\, and weekly lectures are presented live on Tuesday evenings and Wednesday mornings. The podcast is posted on Tuesdays and the lecture videos are posted on the CPC website on Wednesday afternoons here: Women’s Bible Study Videos. \nSchedule: Small group discussion of the lecture and lesson is offered: \n\nWednesdays from 9:30-11 am (lunch served at 11 am)\nAn online small group meets on Wednesdays from 1:30-2:30 pm\n\nChildcare \n\nOn Wednesdays\, we offer an enhanced children’s Bible study focusing on the truths of the women’s weekly lessons. Childcare will be provided through lunch\, until 12:00. Women are encouraged to stay for lunch to develop deeper relationships with one another while your children eat lunch with their friends. Childcare is provided for children in 5th grade and under. If you have a homeschool student older than 5th grade\, please contact Angela Ikard for details about our homeschool room. \nRegister online: Women’s Bible Study Registration
URL:https://cpchouston.org/event/womens-bible-study-5/2025-01-29/
LOCATION:CPC\, 8300 Katy Fwy\, Houston\, TX\, 77024\, United States
CATEGORIES:Bible Study,Women
ATTACH;FMTTYPE=image/png:https://cpchouston.org/wp-content/uploads/2022/08/Womens-Bible-Study-2022-2023-Events.png
END:VEVENT
BEGIN:VEVENT
DTSTART;TZID=America/Chicago:20250126T123000
DTEND;TZID=America/Chicago:20250126T133000
DTSTAMP:20260421T073649
CREATED:20241210T224931Z
LAST-MODIFIED:20241210T225057Z
UID:18720-1737894600-1737898200@cpchouston.org
SUMMARY:City Group Luncheon
DESCRIPTION:There will be a City Group lunch on January 26\, 2025\, at 12:30 in the Chapel. If you are a current City Group leader\, are interested in becoming a City Group leader\, or would like to join a City Group\, this lunch is for you! Lunch and childcare will be provided. Click below to register. \n					\n									Luncheon RSVP
URL:https://cpchouston.org/event/city-group-luncheon/
LOCATION:CPC\, 8300 Katy Fwy\, Houston\, TX\, 77024\, United States
CATEGORIES:Featured Event
ATTACH;FMTTYPE=image/png:https://cpchouston.org/wp-content/uploads/2024/12/City-Group-Luncheon-2025-Events.png
END:VEVENT
BEGIN:VEVENT
DTSTART;TZID=America/Chicago:20250126T110000
DTEND;TZID=America/Chicago:20250126T121500
DTSTAMP:20260421T073649
CREATED:20210916T150630Z
LAST-MODIFIED:20260128T214042Z
UID:15625-1737889200-1737893700@cpchouston.org
SUMMARY:Worship Service
DESCRIPTION:Sunday Morning Schedule\n8:30 am Worship Service in Sanctuary & livestreamed here: Worship Livestream\n10:00 am Sunday School\n11:00 am Worship Service in Sanctuary
URL:https://cpchouston.org/event/test-for-feature/2025-01-26/
LOCATION:CPC\, 8300 Katy Fwy\, Houston\, TX\, 77024\, United States
ATTACH;FMTTYPE=image/png:https://cpchouston.org/wp-content/uploads/2021/09/In-Person-Worship-Events-2020.png
END:VEVENT
BEGIN:VEVENT
DTSTART;TZID=America/Chicago:20250126T083000
DTEND;TZID=America/Chicago:20250126T094500
DTSTAMP:20260421T073649
CREATED:20210916T150630Z
LAST-MODIFIED:20260128T214041Z
UID:15624-1737880200-1737884700@cpchouston.org
SUMMARY:Worship Service
DESCRIPTION:Sunday Morning Schedule\n8:30 am Worship Service in Sanctuary & livestreamed here: Worship Livestream\n10:00 am Sunday School\n11:00 am Worship Service in Sanctuary
URL:https://cpchouston.org/event/test-for-feature/2025-01-26/
LOCATION:CPC\, 8300 Katy Fwy\, Houston\, TX\, 77024\, United States
ATTACH;FMTTYPE=image/png:https://cpchouston.org/wp-content/uploads/2021/09/In-Person-Worship-Events-2020.png
END:VEVENT
BEGIN:VEVENT
DTSTART;TZID=America/Chicago:20250123T180000
DTEND;TZID=America/Chicago:20250123T203000
DTSTAMP:20260421T073649
CREATED:20240822T130747Z
LAST-MODIFIED:20241216T152041Z
UID:17645-1737655200-1737664200@cpchouston.org
SUMMARY:English Classes
DESCRIPTION:Christ Presbyterian Church welcomes our community for conversational English classes! \nClasses are free. Students need to purchase a book for $40. \nThursdays\, 6:00-8:30 pm\nSeptember 12\, 2024 through May 8\, 2025\nAll levels of English welcome!\nNew students are welcome every Thursday.\nPlease register using the button below. \nLocation: Classes are held at 8300 Katy Freeway\, Houston\, TX 77024. \nQuestions: Contact Axel Sotelo at asotelo@cpchouston.org \n\nClass Registration
URL:https://cpchouston.org/event/english-classes-3/2025-01-23/
LOCATION:CPC\, 8300 Katy Fwy\, Houston\, TX\, 77024\, United States
CATEGORIES:ESL
ATTACH;FMTTYPE=image/png:https://cpchouston.org/wp-content/uploads/2024/08/English-Classes-Digital-2024-events.png
END:VEVENT
BEGIN:VEVENT
DTSTART;VALUE=DATE:20250120
DTEND;VALUE=DATE:20250123
DTSTAMP:20260421T073649
CREATED:20250120T220934Z
LAST-MODIFIED:20250121T001209Z
UID:19199-1737331200-1737590399@cpchouston.org
SUMMARY:Church Building Closed
DESCRIPTION:Due to the expected winter storm\, the church building will be closed Monday\, January 20\, through Wednesday\, January 22. All activities scheduled at the church during this time have been cancelled.
URL:https://cpchouston.org/event/church-building-closed/
LOCATION:CPC\, 8300 Katy Fwy\, Houston\, TX\, 77024\, United States
CATEGORIES:Featured Event
ATTACH;FMTTYPE=image/png:https://cpchouston.org/wp-content/uploads/2025/01/CHURCH-BUILDING-CLOSED.png
END:VEVENT
BEGIN:VEVENT
DTSTART;TZID=America/Chicago:20250119T110000
DTEND;TZID=America/Chicago:20250119T121500
DTSTAMP:20260421T073649
CREATED:20210916T150630Z
LAST-MODIFIED:20260128T214040Z
UID:15536-1737284400-1737288900@cpchouston.org
SUMMARY:Worship Service
DESCRIPTION:Sunday Morning Schedule\n8:30 am Worship Service in Sanctuary & livestreamed here: Worship Livestream\n10:00 am Sunday School\n11:00 am Worship Service in Sanctuary
URL:https://cpchouston.org/event/test-for-feature/2025-01-19/
LOCATION:CPC\, 8300 Katy Fwy\, Houston\, TX\, 77024\, United States
ATTACH;FMTTYPE=image/png:https://cpchouston.org/wp-content/uploads/2021/09/In-Person-Worship-Events-2020.png
END:VEVENT
BEGIN:VEVENT
DTSTART;TZID=America/Chicago:20250119T083000
DTEND;TZID=America/Chicago:20250119T094500
DTSTAMP:20260421T073649
CREATED:20210916T150630Z
LAST-MODIFIED:20260128T214039Z
UID:15535-1737275400-1737279900@cpchouston.org
SUMMARY:Worship Service
DESCRIPTION:Sunday Morning Schedule\n8:30 am Worship Service in Sanctuary & livestreamed here: Worship Livestream\n10:00 am Sunday School\n11:00 am Worship Service in Sanctuary
URL:https://cpchouston.org/event/test-for-feature/2025-01-19/
LOCATION:CPC\, 8300 Katy Fwy\, Houston\, TX\, 77024\, United States
ATTACH;FMTTYPE=image/png:https://cpchouston.org/wp-content/uploads/2021/09/In-Person-Worship-Events-2020.png
END:VEVENT
BEGIN:VEVENT
DTSTART;TZID=America/Chicago:20250116T180000
DTEND;TZID=America/Chicago:20250116T203000
DTSTAMP:20260421T073649
CREATED:20240822T130747Z
LAST-MODIFIED:20241216T152041Z
UID:17644-1737050400-1737059400@cpchouston.org
SUMMARY:English Classes
DESCRIPTION:Christ Presbyterian Church welcomes our community for conversational English classes! \nClasses are free. Students need to purchase a book for $40. \nThursdays\, 6:00-8:30 pm\nSeptember 12\, 2024 through May 8\, 2025\nAll levels of English welcome!\nNew students are welcome every Thursday.\nPlease register using the button below. \nLocation: Classes are held at 8300 Katy Freeway\, Houston\, TX 77024. \nQuestions: Contact Axel Sotelo at asotelo@cpchouston.org \n\nClass Registration
URL:https://cpchouston.org/event/english-classes-3/2025-01-16/
LOCATION:CPC\, 8300 Katy Fwy\, Houston\, TX\, 77024\, United States
CATEGORIES:ESL
ATTACH;FMTTYPE=image/png:https://cpchouston.org/wp-content/uploads/2024/08/English-Classes-Digital-2024-events.png
END:VEVENT
BEGIN:VEVENT
DTSTART;TZID=America/Chicago:20250115T183000
DTEND;TZID=America/Chicago:20250115T200000
DTSTAMP:20260421T073649
CREATED:20240806T182302Z
LAST-MODIFIED:20250120T220506Z
UID:19021-1736965800-1736971200@cpchouston.org
SUMMARY:Choir Rehearsal
DESCRIPTION:The Worship Choir needs voices this fall! Come be part of leading our congregation in worship. We rehearse Wednesday nights at 6:30 pm in the Sanctuary. Our church has a rich history of choral singing\, and you can be a part of this important ministry here at CPC. Learn more by contacting the church office.
URL:https://cpchouston.org/event/choir-rehearsal-6/2025-01-15/
LOCATION:CPC\, 8300 Katy Fwy\, Houston\, TX\, 77024\, United States
CATEGORIES:Music & Worship
ATTACH;FMTTYPE=image/png:https://cpchouston.org/wp-content/uploads/2022/10/Worship-Choir-08-2022-EVENTS.png
END:VEVENT
BEGIN:VEVENT
DTSTART;TZID=America/Chicago:20250115T120000
DTEND;TZID=America/Chicago:20250115T143000
DTSTAMP:20260421T073649
CREATED:20221228T194937Z
LAST-MODIFIED:20250522T214639Z
UID:18296-1736942400-1736951400@cpchouston.org
SUMMARY:Lessons & Laughter
DESCRIPTION:Make baby blankets for new babies\, prayer shawls for the Tumaini orphanage\, and great friendships. Wednesdays at 12 pm in the SonRise Cafe. (Please note that on December 4\, 2024 we will meet in the Parlor instead of the SonRise Cafe.) \nIf you don’t already knit\, but would love to learn\, this is the place for you!
URL:https://cpchouston.org/event/lessons-laughter-4/2025-01-15/
LOCATION:CPC\, 8300 Katy Fwy\, Houston\, TX\, 77024\, United States
CATEGORIES:Women
END:VEVENT
BEGIN:VEVENT
DTSTART;TZID=America/Chicago:20250115T093000
DTEND;TZID=America/Chicago:20250115T110000
DTSTAMP:20260421T073649
CREATED:20240815T174529Z
LAST-MODIFIED:20250120T220327Z
UID:17480-1736933400-1736938800@cpchouston.org
SUMMARY:Women's Bible Study
DESCRIPTION:Fall 2024/Spring 2025 \nLeviticus & Hebrews: The Necessity of the Cross \nJoin Mikie Bellis and the women of CPC for our study of Leviticus and Hebrews. \nWeekly lessons are provided free of charge\, and weekly lectures are presented live on Tuesday evenings and Wednesday mornings. The podcast is posted on Tuesdays and the lecture videos are posted on the CPC website on Wednesday afternoons here: Women’s Bible Study Videos. \nSchedule: Small group discussion of the lecture and lesson is offered: \n\nWednesdays from 9:30-11 am (lunch served at 11 am)\nAn online small group meets on Wednesdays from 1:30-2:30 pm\n\nChildcare \n\nOn Wednesdays\, we offer an enhanced children’s Bible study focusing on the truths of the women’s weekly lessons. Childcare will be provided through lunch\, until 12:00. Women are encouraged to stay for lunch to develop deeper relationships with one another while your children eat lunch with their friends. Childcare is provided for children in 5th grade and under. If you have a homeschool student older than 5th grade\, please contact Angela Ikard for details about our homeschool room. \nRegister online: Women’s Bible Study Registration
URL:https://cpchouston.org/event/womens-bible-study-5/2025-01-15/
LOCATION:CPC\, 8300 Katy Fwy\, Houston\, TX\, 77024\, United States
CATEGORIES:Bible Study,Women
ATTACH;FMTTYPE=image/png:https://cpchouston.org/wp-content/uploads/2022/08/Womens-Bible-Study-2022-2023-Events.png
END:VEVENT
BEGIN:VEVENT
DTSTART;TZID=America/Chicago:20250112T110000
DTEND;TZID=America/Chicago:20250112T121500
DTSTAMP:20260421T073649
CREATED:20210916T150630Z
LAST-MODIFIED:20260128T214038Z
UID:15421-1736679600-1736684100@cpchouston.org
SUMMARY:Worship Service
DESCRIPTION:Sunday Morning Schedule\n8:30 am Worship Service in Sanctuary & livestreamed here: Worship Livestream\n10:00 am Sunday School\n11:00 am Worship Service in Sanctuary
URL:https://cpchouston.org/event/test-for-feature/2025-01-12/
LOCATION:CPC\, 8300 Katy Fwy\, Houston\, TX\, 77024\, United States
ATTACH;FMTTYPE=image/png:https://cpchouston.org/wp-content/uploads/2021/09/In-Person-Worship-Events-2020.png
END:VEVENT
BEGIN:VEVENT
DTSTART;TZID=America/Chicago:20250112T083000
DTEND;TZID=America/Chicago:20250112T094500
DTSTAMP:20260421T073649
CREATED:20210916T150630Z
LAST-MODIFIED:20260128T214036Z
UID:15420-1736670600-1736675100@cpchouston.org
SUMMARY:Worship Service
DESCRIPTION:Sunday Morning Schedule\n8:30 am Worship Service in Sanctuary & livestreamed here: Worship Livestream\n10:00 am Sunday School\n11:00 am Worship Service in Sanctuary
URL:https://cpchouston.org/event/test-for-feature/2025-01-12/
LOCATION:CPC\, 8300 Katy Fwy\, Houston\, TX\, 77024\, United States
ATTACH;FMTTYPE=image/png:https://cpchouston.org/wp-content/uploads/2021/09/In-Person-Worship-Events-2020.png
END:VEVENT
BEGIN:VEVENT
DTSTART;TZID=America/Chicago:20250109T180000
DTEND;TZID=America/Chicago:20250109T203000
DTSTAMP:20260421T073649
CREATED:20240822T130747Z
LAST-MODIFIED:20241216T152041Z
UID:17643-1736445600-1736454600@cpchouston.org
SUMMARY:English Classes
DESCRIPTION:Christ Presbyterian Church welcomes our community for conversational English classes! \nClasses are free. Students need to purchase a book for $40. \nThursdays\, 6:00-8:30 pm\nSeptember 12\, 2024 through May 8\, 2025\nAll levels of English welcome!\nNew students are welcome every Thursday.\nPlease register using the button below. \nLocation: Classes are held at 8300 Katy Freeway\, Houston\, TX 77024. \nQuestions: Contact Axel Sotelo at asotelo@cpchouston.org \n\nClass Registration
URL:https://cpchouston.org/event/english-classes-3/2025-01-09/
LOCATION:CPC\, 8300 Katy Fwy\, Houston\, TX\, 77024\, United States
CATEGORIES:ESL
ATTACH;FMTTYPE=image/png:https://cpchouston.org/wp-content/uploads/2024/08/English-Classes-Digital-2024-events.png
END:VEVENT
BEGIN:VEVENT
DTSTART;TZID=America/Chicago:20250108T120000
DTEND;TZID=America/Chicago:20250108T143000
DTSTAMP:20260421T073649
CREATED:20221228T194937Z
LAST-MODIFIED:20250522T214638Z
UID:18295-1736337600-1736346600@cpchouston.org
SUMMARY:Lessons & Laughter
DESCRIPTION:Make baby blankets for new babies\, prayer shawls for the Tumaini orphanage\, and great friendships. Wednesdays at 12 pm in the SonRise Cafe. (Please note that on December 4\, 2024 we will meet in the Parlor instead of the SonRise Cafe.) \nIf you don’t already knit\, but would love to learn\, this is the place for you!
URL:https://cpchouston.org/event/lessons-laughter-4/2025-01-08/
LOCATION:CPC\, 8300 Katy Fwy\, Houston\, TX\, 77024\, United States
CATEGORIES:Women
END:VEVENT
BEGIN:VEVENT
DTSTART;TZID=America/Chicago:20250105T110000
DTEND;TZID=America/Chicago:20250105T121500
DTSTAMP:20260421T073649
CREATED:20241216T153332Z
LAST-MODIFIED:20241216T153353Z
UID:18921-1736074800-1736079300@cpchouston.org
SUMMARY:Worship Service
DESCRIPTION:Sunday Morning Schedule January 58:30 am Worship Service in Sanctuary & livestreamed here: Worship Livestream10:00 am All-Church Prayer11:00 am Worship Service in Sanctuary
URL:https://cpchouston.org/event/worship-service-8/
LOCATION:CPC\, 8300 Katy Fwy\, Houston\, TX\, 77024\, United States
ATTACH;FMTTYPE=image/png:https://cpchouston.org/wp-content/uploads/2021/09/In-Person-Worship-Events-2020.png
END:VEVENT
BEGIN:VEVENT
DTSTART;TZID=America/Chicago:20250105T100000
DTEND;TZID=America/Chicago:20250105T104500
DTSTAMP:20260421T073649
CREATED:20241211T201137Z
LAST-MODIFIED:20241211T201137Z
UID:18742-1736071200-1736073900@cpchouston.org
SUMMARY:All-Church Prayer
DESCRIPTION:All adults are encouraged to come to our All-Church Prayer Gathering on January 5 at 10 am in the Chapel. We will pray together for CPC ministries\, the needs and challenges facing us as individual believers and families\, the circumstances and burdens that confront believers and unbelievers alike in our fallen world\, and the advance of the gospel in our own midst and beyond. \nAdult Sunday school classes will not meet. Middle school and high school students join their parents for this time of prayer. Children’s Ministry will meet as usual.
URL:https://cpchouston.org/event/all-church-prayer-4/
LOCATION:CPC\, 8300 Katy Fwy\, Houston\, TX\, 77024\, United States
CATEGORIES:Featured Event
ATTACH;FMTTYPE=image/png:https://cpchouston.org/wp-content/uploads/2021/12/All-Church-Prayer-9-2018-Events.png
END:VEVENT
BEGIN:VEVENT
DTSTART;TZID=America/Chicago:20250105T083000
DTEND;TZID=America/Chicago:20250105T094500
DTSTAMP:20260421T073649
CREATED:20241216T153111Z
LAST-MODIFIED:20241216T153238Z
UID:18912-1736065800-1736070300@cpchouston.org
SUMMARY:Worship Service
DESCRIPTION:Sunday Morning Schedule January 5\n8:30 am Worship Service in Sanctuary & livestreamed here: Worship Livestream\n10:00 am All-Church Prayer\n11:00 am Worship Service in Sanctuary
URL:https://cpchouston.org/event/worship-service-7/
LOCATION:CPC\, 8300 Katy Fwy\, Houston\, TX\, 77024\, United States
ATTACH;FMTTYPE=image/png:https://cpchouston.org/wp-content/uploads/2021/09/In-Person-Worship-Events-2020.png
END:VEVENT
BEGIN:VEVENT
DTSTART;VALUE=DATE:20250101
DTEND;VALUE=DATE:20250102
DTSTAMP:20260421T073649
CREATED:20241119T150144Z
LAST-MODIFIED:20241119T164516Z
UID:18537-1735689600-1735775999@cpchouston.org
SUMMARY:New Year's Day
DESCRIPTION:Happy New Year! \nThe church offices will be closed January 1.
URL:https://cpchouston.org/event/new-years-day/
LOCATION:CPC\, 8300 Katy Fwy\, Houston\, TX\, 77024\, United States
END:VEVENT
BEGIN:VEVENT
DTSTART;TZID=America/Chicago:20241229T100000
DTEND;TZID=America/Chicago:20241229T111500
DTSTAMP:20260421T073649
CREATED:20241115T183052Z
LAST-MODIFIED:20241115T183052Z
UID:18476-1735466400-1735470900@cpchouston.org
SUMMARY:Worship Service
DESCRIPTION:On Sunday\, December 29\, we will have one combined worship service at 10 am in the Sanctuary. Sunday school classes will not meet.
URL:https://cpchouston.org/event/worship-service-6/
LOCATION:CPC\, 8300 Katy Fwy\, Houston\, TX\, 77024\, United States
CATEGORIES:Featured Event
ATTACH;FMTTYPE=image/png:https://cpchouston.org/wp-content/uploads/2024/11/modified-schedule-december-29-2024.png
END:VEVENT
BEGIN:VEVENT
DTSTART;VALUE=DATE:20241225
DTEND;VALUE=DATE:20241226
DTSTAMP:20260421T073649
CREATED:20241107T192414Z
LAST-MODIFIED:20241121T192556Z
UID:18249-1735084800-1735171199@cpchouston.org
SUMMARY:Christmas Worship and Events
DESCRIPTION:Join us throughout the Christmas season! \nAdvent Worship Services\n8:30 & 11:00 am Sundays\, Dec. 1–22 \nYoung Adults Hymn Sing\n6:00 pm Friday\, December 6 \nFamily Ministry Christmas Party\n6:30 pm Friday\, December 6\nDetails & Registration: Family Christmas Party \nChildren’s Christmas Party\n12:30 pm Sunday\, December 8\n5th grade & younger\nDetails & Registration: Children’s Christmas Party \nStudent Ministry Christmas Party\n12:30 pm Sunday\, December 8 \nHandel’s Messiah\n8:00 pm December 12\, 13 & 14\nMore information about Messiah \nYoung Adults Christmas Party\n6:00 pm Sunday\, December 15 \nChristmas Eve Worship \nTuesday\, December 24\n4:30 pm Family Candlelight Nativity Service\n6:00 pm Communion Candlelight Lessons & Carols \nSunday\, December 29\n10:00 am Worship Service (No Sunday School) \nOffice Closures: Please note that the church office will be closed December 23-27\, and January 1.
URL:https://cpchouston.org/event/christmas-worship-and-events/
LOCATION:CPC\, 8300 Katy Fwy\, Houston\, TX\, 77024\, United States
CATEGORIES:Christmas,Featured Event
ATTACH;FMTTYPE=image/png:https://cpchouston.org/wp-content/uploads/2024/11/Christmas-Worship-and-Events-2024.png
END:VEVENT
BEGIN:VEVENT
DTSTART;TZID=America/Chicago:20241224T180000
DTEND;TZID=America/Chicago:20241224T191500
DTSTAMP:20260421T073649
CREATED:20241115T183725Z
LAST-MODIFIED:20241115T183725Z
UID:18484-1735063200-1735067700@cpchouston.org
SUMMARY:Christmas Eve Worship
DESCRIPTION:Christmas Eve Worship \nJoin the family of Christ Presbyterian Church for worship this Christmas Eve! \n4:30 pm Family Candlelight Nativity Service\n6:00 pm Communion Candlelight Lessons & Carols \nSee all 2024 Christmas Worship & Events
URL:https://cpchouston.org/event/christmas-eve-worship-6/
LOCATION:CPC\, 8300 Katy Fwy\, Houston\, TX\, 77024\, United States
CATEGORIES:Christmas
ATTACH;FMTTYPE=image/png:https://cpchouston.org/wp-content/uploads/2024/11/Christmas-Worship-and-Events-2024.png
END:VEVENT
BEGIN:VEVENT
DTSTART;TZID=America/Chicago:20241224T163000
DTEND;TZID=America/Chicago:20241224T173000
DTSTAMP:20260421T073649
CREATED:20241115T183444Z
LAST-MODIFIED:20241115T183618Z
UID:18480-1735057800-1735061400@cpchouston.org
SUMMARY:Christmas Eve Worship
DESCRIPTION:Christmas Eve Worship \nJoin the family of Christ Presbyterian Church for worship this Christmas Eve! \n4:30 pm Family Candlelight Nativity Service\n6:00 pm Communion Candlelight Lessons & Carols \nSee all 2024 Christmas Worship & Events
URL:https://cpchouston.org/event/christmas-eve-worship-5/
LOCATION:CPC\, 8300 Katy Fwy\, Houston\, TX\, 77024\, United States
CATEGORIES:Christmas
ATTACH;FMTTYPE=image/png:https://cpchouston.org/wp-content/uploads/2024/11/Christmas-Worship-and-Events-2024.png
END:VEVENT
END:VCALENDAR