BEGIN:VCALENDAR
VERSION:2.0
PRODID:-//Christ Presbyterian Church of Houston - ECPv6.15.20//NONSGML v1.0//EN
CALSCALE:GREGORIAN
METHOD:PUBLISH
X-ORIGINAL-URL:https://cpchouston.org
X-WR-CALDESC:Events for Christ Presbyterian Church of Houston
REFRESH-INTERVAL;VALUE=DURATION:PT1H
X-Robots-Tag:noindex
X-PUBLISHED-TTL:PT1H
BEGIN:VTIMEZONE
TZID:America/Chicago
BEGIN:DAYLIGHT
TZOFFSETFROM:-0600
TZOFFSETTO:-0500
TZNAME:CDT
DTSTART:20240310T080000
END:DAYLIGHT
BEGIN:STANDARD
TZOFFSETFROM:-0500
TZOFFSETTO:-0600
TZNAME:CST
DTSTART:20241103T070000
END:STANDARD
BEGIN:DAYLIGHT
TZOFFSETFROM:-0600
TZOFFSETTO:-0500
TZNAME:CDT
DTSTART:20250309T080000
END:DAYLIGHT
BEGIN:STANDARD
TZOFFSETFROM:-0500
TZOFFSETTO:-0600
TZNAME:CST
DTSTART:20251102T070000
END:STANDARD
BEGIN:DAYLIGHT
TZOFFSETFROM:-0600
TZOFFSETTO:-0500
TZNAME:CDT
DTSTART:20260308T080000
END:DAYLIGHT
BEGIN:STANDARD
TZOFFSETFROM:-0500
TZOFFSETTO:-0600
TZNAME:CST
DTSTART:20261101T070000
END:STANDARD
END:VTIMEZONE
BEGIN:VEVENT
DTSTART;TZID=America/Chicago:20251001T093000
DTEND;TZID=America/Chicago:20251001T110000
DTSTAMP:20260421T005653
CREATED:20250731T200036Z
LAST-MODIFIED:20260108T170754Z
UID:20767-1759311000-1759316400@cpchouston.org
SUMMARY:Women's Bible Study
DESCRIPTION:Fall 2025/Spring 2026 \nJudges & Romans: Ruined to Righteous \nJoin Mikie Bellis and the women of CPC for our study of Judges & Romans. \nWeekly lessons are provided free of charge\, and weekly lectures are presented live on Wednesday mornings. The podcast is posted on Tuesdays and the lecture audio is posted on the CPC website on Wednesday afternoons here: Women’s Bible Study. \nSchedule: Small group discussion of the lecture and lesson is offered: \n\nWednesdays from 9:30-11 am at CPC (lunch served at 11 am)\nOnline-only small groups meets on Tuesdays from 7-8 pm and Wednesdays from 1:30-2:30 pm\n\nChildcare \n\nOn Wednesdays\, we offer an enhanced children’s Bible study focusing on the truths of the women’s weekly lessons. Childcare will be provided through lunch\, until 12:00. Women are encouraged to stay for lunch to develop deeper relationships with one another while your children eat lunch with their friends. Childcare is provided for children in 5th grade and under. If you have a homeschool student older than 5th grade\, please contact Angela Ikard for details about our homeschool room. \nRegister online: Women’s Bible Study Registration
URL:https://cpchouston.org/event/womens-bible-study-6/2025-10-01/
LOCATION:CPC\, 8300 Katy Fwy\, Houston\, TX\, 77024\, United States
CATEGORIES:Women
ATTACH;FMTTYPE=image/png:https://cpchouston.org/wp-content/uploads/2022/08/Womens-Bible-Study-2022-2023-Events.png
END:VEVENT
BEGIN:VEVENT
DTSTART;TZID=America/Chicago:20251001T120000
DTEND;TZID=America/Chicago:20251001T140000
DTSTAMP:20260421T005653
CREATED:20250910T193710Z
LAST-MODIFIED:20260302T221527Z
UID:21240-1759320000-1759327200@cpchouston.org
SUMMARY:Lessons & Laughter
DESCRIPTION:We make baby blankets for new babies and prayer shawls for those who are hospitalized and for the grieving. We also make scarves and lap blankets for “Eyes on Me” ministry. We meet Wednesdays at 12 pm in the SonRise Cafe for great fellowship and prayer time. \nIf you don’t already knit or crochet but would love to learn\, this is the place for you! If any questions\, contact the church office. \n 
URL:https://cpchouston.org/event/lessons-laughter-5/2025-10-01/
LOCATION:CPC\, 8300 Katy Fwy\, Houston\, TX\, 77024\, United States
CATEGORIES:Women
END:VEVENT
BEGIN:VEVENT
DTSTART;TZID=America/Chicago:20251001T183000
DTEND;TZID=America/Chicago:20251001T200000
DTSTAMP:20260421T005653
CREATED:20250731T190942Z
LAST-MODIFIED:20251119T185124Z
UID:20732-1759343400-1759348800@cpchouston.org
SUMMARY:Choir Rehearsal
DESCRIPTION:The Worship Choir needs voices this fall! Come be part of leading our congregation in worship. We rehearse Wednesday nights at 6:30 pm in the Sanctuary. Our church has a rich history of choral singing\, and you can be a part of this important ministry here at CPC. Learn more by contacting the church office.
URL:https://cpchouston.org/event/choir-rehearsal-7/2025-10-01/
LOCATION:CPC\, 8300 Katy Fwy\, Houston\, TX\, 77024\, United States
CATEGORIES:Music & Worship
ATTACH;FMTTYPE=image/png:https://cpchouston.org/wp-content/uploads/2022/10/Worship-Choir-08-2022-EVENTS.png
END:VEVENT
BEGIN:VEVENT
DTSTART;TZID=America/Chicago:20251001T193000
DTEND;TZID=America/Chicago:20251001T203000
DTSTAMP:20260421T005653
CREATED:20250731T191157Z
LAST-MODIFIED:20251119T185159Z
UID:20743-1759347000-1759350600@cpchouston.org
SUMMARY:Messiah Rehearsal
DESCRIPTION:Rehearsals for Handel’s Messiah are Wednesdays at 7:30 pm in the Sanctuary. Performances are December 11\, 12 & 13. Interested in joining the Concert Choir? Please contact BJ McDougal in the church office for information.
URL:https://cpchouston.org/event/messiah-rehearsal-5/2025-10-01/
LOCATION:CPC\, 8300 Katy Fwy\, Houston\, TX\, 77024\, United States
CATEGORIES:Music & Worship
ATTACH;FMTTYPE=image/jpeg:https://cpchouston.org/wp-content/uploads/2025/09/Messiah-rehearsals-Events.jpg
END:VEVENT
BEGIN:VEVENT
DTSTART;TZID=America/Chicago:20251002T180000
DTEND;TZID=America/Chicago:20251002T203000
DTSTAMP:20260421T005653
CREATED:20251027T175208Z
LAST-MODIFIED:20260304T223844Z
UID:21722-1759428000-1759437000@cpchouston.org
SUMMARY:English Classes
DESCRIPTION:Christ Presbyterian Church welcomes our community for conversational English classes! \nClasses are free. Students need to purchase a book for $40. \nThursdays\, 6:00-8:30 pm\nSeptember 4\, 2025 through May 7\, 2026\nAll levels of English welcome! \nNew students are welcome every Thursday. \nPlease register using the link below. \nQuestions: Contact Axel Sotelo in the church office. \nRegister online: English Classes Registration
URL:https://cpchouston.org/event/english-classes-4/2025-10-02/
LOCATION:CPC\, 8300 Katy Fwy\, Houston\, TX\, 77024\, United States
CATEGORIES:ESL
ATTACH;FMTTYPE=image/png:https://cpchouston.org/wp-content/uploads/2024/08/English-Classes-Digital-2024-events.png
END:VEVENT
BEGIN:VEVENT
DTSTART;TZID=America/Chicago:20251005T083000
DTEND;TZID=America/Chicago:20251005T094500
DTSTAMP:20260421T005653
CREATED:20210916T150630Z
LAST-MODIFIED:20260128T214217Z
UID:18064-1759653000-1759657500@cpchouston.org
SUMMARY:Worship Service
DESCRIPTION:Sunday Morning Schedule\n8:30 am Worship Service in Sanctuary & livestreamed here: Worship Livestream\n10:00 am Sunday School\n11:00 am Worship Service in Sanctuary
URL:https://cpchouston.org/event/test-for-feature/2025-10-05/
LOCATION:CPC\, 8300 Katy Fwy\, Houston\, TX\, 77024\, United States
ATTACH;FMTTYPE=image/png:https://cpchouston.org/wp-content/uploads/2021/09/In-Person-Worship-Events-2020.png
END:VEVENT
BEGIN:VEVENT
DTSTART;TZID=America/Chicago:20251005T110000
DTEND;TZID=America/Chicago:20251005T121500
DTSTAMP:20260421T005653
CREATED:20210916T150630Z
LAST-MODIFIED:20260128T214219Z
UID:18065-1759662000-1759666500@cpchouston.org
SUMMARY:Worship Service
DESCRIPTION:Sunday Morning Schedule\n8:30 am Worship Service in Sanctuary & livestreamed here: Worship Livestream\n10:00 am Sunday School\n11:00 am Worship Service in Sanctuary
URL:https://cpchouston.org/event/test-for-feature/2025-10-05/
LOCATION:CPC\, 8300 Katy Fwy\, Houston\, TX\, 77024\, United States
ATTACH;FMTTYPE=image/png:https://cpchouston.org/wp-content/uploads/2021/09/In-Person-Worship-Events-2020.png
END:VEVENT
BEGIN:VEVENT
DTSTART;TZID=America/Chicago:20251005T123000
DTEND;TZID=America/Chicago:20251005T143000
DTSTAMP:20260421T005653
CREATED:20250924T212936Z
LAST-MODIFIED:20250924T213107Z
UID:21371-1759667400-1759674600@cpchouston.org
SUMMARY:Youth and Children's Lunches
DESCRIPTION:Youth and children are invited to stay after the second worship service on October 5 for Cane’s chicken tenders\, fellowship\, and fun! Please sign up using the buttons below below. \n					\n									Youth Lunch RSVP\n					\n					\n									Children’s Lunch RSVP
URL:https://cpchouston.org/event/youth-and-childrens-lunches-2/
LOCATION:CPC\, 8300 Katy Fwy\, Houston\, TX\, 77024\, United States
CATEGORIES:Children,Featured Event,Students
ATTACH;FMTTYPE=image/png:https://cpchouston.org/wp-content/uploads/2025/09/Youth-and-Children-Lunches-Digital-Events.png
END:VEVENT
BEGIN:VEVENT
DTSTART;TZID=America/Chicago:20251007T064500
DTEND;TZID=America/Chicago:20251007T074500
DTSTAMP:20260421T005653
CREATED:20250813T151707Z
LAST-MODIFIED:20250813T151946Z
UID:20896-1759819500-1759823100@cpchouston.org
SUMMARY:Men's Bible Study
DESCRIPTION:The Men’s Bible Study returns this fall on Tuesday\, September 2\, 6:45 – 7:45 am in the Chapel. Breakfast tacos will be served\, and Ministry Staff along with seminarians will be teaching through the Psalms. \n\nBible Study Registration
URL:https://cpchouston.org/event/mens-bible-study-7/2025-10-07/
LOCATION:CPC\, 8300 Katy Fwy\, Houston\, TX\, 77024\, United States
CATEGORIES:Bible Study,Men
ATTACH;FMTTYPE=image/png:https://cpchouston.org/wp-content/uploads/2025/08/Mens-Bible-Study-Events-1.png
END:VEVENT
BEGIN:VEVENT
DTSTART;TZID=America/Chicago:20251008T093000
DTEND;TZID=America/Chicago:20251008T110000
DTSTAMP:20260421T005653
CREATED:20250731T200036Z
LAST-MODIFIED:20260108T170755Z
UID:20768-1759915800-1759921200@cpchouston.org
SUMMARY:Women's Bible Study
DESCRIPTION:Fall 2025/Spring 2026 \nJudges & Romans: Ruined to Righteous \nJoin Mikie Bellis and the women of CPC for our study of Judges & Romans. \nWeekly lessons are provided free of charge\, and weekly lectures are presented live on Wednesday mornings. The podcast is posted on Tuesdays and the lecture audio is posted on the CPC website on Wednesday afternoons here: Women’s Bible Study. \nSchedule: Small group discussion of the lecture and lesson is offered: \n\nWednesdays from 9:30-11 am at CPC (lunch served at 11 am)\nOnline-only small groups meets on Tuesdays from 7-8 pm and Wednesdays from 1:30-2:30 pm\n\nChildcare \n\nOn Wednesdays\, we offer an enhanced children’s Bible study focusing on the truths of the women’s weekly lessons. Childcare will be provided through lunch\, until 12:00. Women are encouraged to stay for lunch to develop deeper relationships with one another while your children eat lunch with their friends. Childcare is provided for children in 5th grade and under. If you have a homeschool student older than 5th grade\, please contact Angela Ikard for details about our homeschool room. \nRegister online: Women’s Bible Study Registration
URL:https://cpchouston.org/event/womens-bible-study-6/2025-10-08/
LOCATION:CPC\, 8300 Katy Fwy\, Houston\, TX\, 77024\, United States
CATEGORIES:Women
ATTACH;FMTTYPE=image/png:https://cpchouston.org/wp-content/uploads/2022/08/Womens-Bible-Study-2022-2023-Events.png
END:VEVENT
BEGIN:VEVENT
DTSTART;TZID=America/Chicago:20251008T120000
DTEND;TZID=America/Chicago:20251008T140000
DTSTAMP:20260421T005653
CREATED:20250910T193710Z
LAST-MODIFIED:20260302T221528Z
UID:21241-1759924800-1759932000@cpchouston.org
SUMMARY:Lessons & Laughter
DESCRIPTION:We make baby blankets for new babies and prayer shawls for those who are hospitalized and for the grieving. We also make scarves and lap blankets for “Eyes on Me” ministry. We meet Wednesdays at 12 pm in the SonRise Cafe for great fellowship and prayer time. \nIf you don’t already knit or crochet but would love to learn\, this is the place for you! If any questions\, contact the church office. \n 
URL:https://cpchouston.org/event/lessons-laughter-5/2025-10-08/
LOCATION:CPC\, 8300 Katy Fwy\, Houston\, TX\, 77024\, United States
CATEGORIES:Women
END:VEVENT
BEGIN:VEVENT
DTSTART;TZID=America/Chicago:20251008T183000
DTEND;TZID=America/Chicago:20251008T200000
DTSTAMP:20260421T005653
CREATED:20250731T190942Z
LAST-MODIFIED:20251119T185124Z
UID:20733-1759948200-1759953600@cpchouston.org
SUMMARY:Choir Rehearsal
DESCRIPTION:The Worship Choir needs voices this fall! Come be part of leading our congregation in worship. We rehearse Wednesday nights at 6:30 pm in the Sanctuary. Our church has a rich history of choral singing\, and you can be a part of this important ministry here at CPC. Learn more by contacting the church office.
URL:https://cpchouston.org/event/choir-rehearsal-7/2025-10-08/
LOCATION:CPC\, 8300 Katy Fwy\, Houston\, TX\, 77024\, United States
CATEGORIES:Music & Worship
ATTACH;FMTTYPE=image/png:https://cpchouston.org/wp-content/uploads/2022/10/Worship-Choir-08-2022-EVENTS.png
END:VEVENT
BEGIN:VEVENT
DTSTART;TZID=America/Chicago:20251008T193000
DTEND;TZID=America/Chicago:20251008T203000
DTSTAMP:20260421T005653
CREATED:20250731T191157Z
LAST-MODIFIED:20251119T185200Z
UID:21322-1759951800-1759955400@cpchouston.org
SUMMARY:Messiah Rehearsal
DESCRIPTION:Rehearsals for Handel’s Messiah are Wednesdays at 7:30 pm in the Sanctuary. Performances are December 11\, 12 & 13. Interested in joining the Concert Choir? Please contact BJ McDougal in the church office for information.
URL:https://cpchouston.org/event/messiah-rehearsal-5/2025-10-08/
LOCATION:CPC\, 8300 Katy Fwy\, Houston\, TX\, 77024\, United States
CATEGORIES:Music & Worship
ATTACH;FMTTYPE=image/jpeg:https://cpchouston.org/wp-content/uploads/2025/09/Messiah-rehearsals-Events.jpg
END:VEVENT
BEGIN:VEVENT
DTSTART;TZID=America/Chicago:20251009T180000
DTEND;TZID=America/Chicago:20251009T203000
DTSTAMP:20260421T005653
CREATED:20251027T175208Z
LAST-MODIFIED:20260304T223845Z
UID:21723-1760032800-1760041800@cpchouston.org
SUMMARY:English Classes
DESCRIPTION:Christ Presbyterian Church welcomes our community for conversational English classes! \nClasses are free. Students need to purchase a book for $40. \nThursdays\, 6:00-8:30 pm\nSeptember 4\, 2025 through May 7\, 2026\nAll levels of English welcome! \nNew students are welcome every Thursday. \nPlease register using the link below. \nQuestions: Contact Axel Sotelo in the church office. \nRegister online: English Classes Registration
URL:https://cpchouston.org/event/english-classes-4/2025-10-09/
LOCATION:CPC\, 8300 Katy Fwy\, Houston\, TX\, 77024\, United States
CATEGORIES:ESL
ATTACH;FMTTYPE=image/png:https://cpchouston.org/wp-content/uploads/2024/08/English-Classes-Digital-2024-events.png
END:VEVENT
BEGIN:VEVENT
DTSTART;TZID=America/Chicago:20251011T100000
DTEND;TZID=America/Chicago:20251011T120000
DTSTAMP:20260421T005653
CREATED:20250911T170121Z
LAST-MODIFIED:20250930T162837Z
UID:21251-1760176800-1760184000@cpchouston.org
SUMMARY:Journeys
DESCRIPTION:Ladies\, please join us for Fall Journeys\, one of our most loved women’s ministry events at CPC! Join us Saturday\, October 11\, at 10 am. We will begin our morning together with fellowship and a brunch before we hear from our speakers\, Katy Boatman and Mary Hambly\, about their journeys.  \nOur morning will be guided by this year’s theme verse\, Galatians 5:25: “If we live by the Spirit\, let us also keep in step with the Spirit.” \nPlease invite your friends and make plans to join us for this special morning of encouragement! \n					\n									Journeys RSVP
URL:https://cpchouston.org/event/journeys-6/
LOCATION:CPC\, 8300 Katy Fwy\, Houston\, TX\, 77024\, United States
CATEGORIES:Featured Event,Women
ATTACH;FMTTYPE=image/png:https://cpchouston.org/wp-content/uploads/2025/09/Journeys-Fall-2025-Digital-events-2.png
END:VEVENT
BEGIN:VEVENT
DTSTART;TZID=America/Chicago:20251012T083000
DTEND;TZID=America/Chicago:20251012T094500
DTSTAMP:20260421T005653
CREATED:20210916T150630Z
LAST-MODIFIED:20260128T214220Z
UID:18112-1760257800-1760262300@cpchouston.org
SUMMARY:Worship Service
DESCRIPTION:Sunday Morning Schedule\n8:30 am Worship Service in Sanctuary & livestreamed here: Worship Livestream\n10:00 am Sunday School\n11:00 am Worship Service in Sanctuary
URL:https://cpchouston.org/event/test-for-feature/2025-10-12/
LOCATION:CPC\, 8300 Katy Fwy\, Houston\, TX\, 77024\, United States
ATTACH;FMTTYPE=image/png:https://cpchouston.org/wp-content/uploads/2021/09/In-Person-Worship-Events-2020.png
END:VEVENT
BEGIN:VEVENT
DTSTART;TZID=America/Chicago:20251012T110000
DTEND;TZID=America/Chicago:20251012T121500
DTSTAMP:20260421T005653
CREATED:20210916T150630Z
LAST-MODIFIED:20260128T214221Z
UID:18113-1760266800-1760271300@cpchouston.org
SUMMARY:Worship Service
DESCRIPTION:Sunday Morning Schedule\n8:30 am Worship Service in Sanctuary & livestreamed here: Worship Livestream\n10:00 am Sunday School\n11:00 am Worship Service in Sanctuary
URL:https://cpchouston.org/event/test-for-feature/2025-10-12/
LOCATION:CPC\, 8300 Katy Fwy\, Houston\, TX\, 77024\, United States
ATTACH;FMTTYPE=image/png:https://cpchouston.org/wp-content/uploads/2021/09/In-Person-Worship-Events-2020.png
END:VEVENT
BEGIN:VEVENT
DTSTART;TZID=America/Chicago:20251014T064500
DTEND;TZID=America/Chicago:20251014T074500
DTSTAMP:20260421T005653
CREATED:20250813T151707Z
LAST-MODIFIED:20250813T151947Z
UID:20897-1760424300-1760427900@cpchouston.org
SUMMARY:Men's Bible Study
DESCRIPTION:The Men’s Bible Study returns this fall on Tuesday\, September 2\, 6:45 – 7:45 am in the Chapel. Breakfast tacos will be served\, and Ministry Staff along with seminarians will be teaching through the Psalms. \n\nBible Study Registration
URL:https://cpchouston.org/event/mens-bible-study-7/2025-10-14/
LOCATION:CPC\, 8300 Katy Fwy\, Houston\, TX\, 77024\, United States
CATEGORIES:Bible Study,Men
ATTACH;FMTTYPE=image/png:https://cpchouston.org/wp-content/uploads/2025/08/Mens-Bible-Study-Events-1.png
END:VEVENT
BEGIN:VEVENT
DTSTART;TZID=America/Chicago:20251015T093000
DTEND;TZID=America/Chicago:20251015T110000
DTSTAMP:20260421T005653
CREATED:20250731T200036Z
LAST-MODIFIED:20260108T170756Z
UID:20769-1760520600-1760526000@cpchouston.org
SUMMARY:Women's Bible Study
DESCRIPTION:Fall 2025/Spring 2026 \nJudges & Romans: Ruined to Righteous \nJoin Mikie Bellis and the women of CPC for our study of Judges & Romans. \nWeekly lessons are provided free of charge\, and weekly lectures are presented live on Wednesday mornings. The podcast is posted on Tuesdays and the lecture audio is posted on the CPC website on Wednesday afternoons here: Women’s Bible Study. \nSchedule: Small group discussion of the lecture and lesson is offered: \n\nWednesdays from 9:30-11 am at CPC (lunch served at 11 am)\nOnline-only small groups meets on Tuesdays from 7-8 pm and Wednesdays from 1:30-2:30 pm\n\nChildcare \n\nOn Wednesdays\, we offer an enhanced children’s Bible study focusing on the truths of the women’s weekly lessons. Childcare will be provided through lunch\, until 12:00. Women are encouraged to stay for lunch to develop deeper relationships with one another while your children eat lunch with their friends. Childcare is provided for children in 5th grade and under. If you have a homeschool student older than 5th grade\, please contact Angela Ikard for details about our homeschool room. \nRegister online: Women’s Bible Study Registration
URL:https://cpchouston.org/event/womens-bible-study-6/2025-10-15/
LOCATION:CPC\, 8300 Katy Fwy\, Houston\, TX\, 77024\, United States
CATEGORIES:Women
ATTACH;FMTTYPE=image/png:https://cpchouston.org/wp-content/uploads/2022/08/Womens-Bible-Study-2022-2023-Events.png
END:VEVENT
BEGIN:VEVENT
DTSTART;TZID=America/Chicago:20251015T120000
DTEND;TZID=America/Chicago:20251015T140000
DTSTAMP:20260421T005653
CREATED:20250910T193710Z
LAST-MODIFIED:20260302T221529Z
UID:21242-1760529600-1760536800@cpchouston.org
SUMMARY:Lessons & Laughter
DESCRIPTION:We make baby blankets for new babies and prayer shawls for those who are hospitalized and for the grieving. We also make scarves and lap blankets for “Eyes on Me” ministry. We meet Wednesdays at 12 pm in the SonRise Cafe for great fellowship and prayer time. \nIf you don’t already knit or crochet but would love to learn\, this is the place for you! If any questions\, contact the church office. \n 
URL:https://cpchouston.org/event/lessons-laughter-5/2025-10-15/
LOCATION:CPC\, 8300 Katy Fwy\, Houston\, TX\, 77024\, United States
CATEGORIES:Women
END:VEVENT
BEGIN:VEVENT
DTSTART;TZID=America/Chicago:20251015T183000
DTEND;TZID=America/Chicago:20251015T200000
DTSTAMP:20260421T005653
CREATED:20250731T190942Z
LAST-MODIFIED:20251119T185124Z
UID:20734-1760553000-1760558400@cpchouston.org
SUMMARY:Choir Rehearsal
DESCRIPTION:The Worship Choir needs voices this fall! Come be part of leading our congregation in worship. We rehearse Wednesday nights at 6:30 pm in the Sanctuary. Our church has a rich history of choral singing\, and you can be a part of this important ministry here at CPC. Learn more by contacting the church office.
URL:https://cpchouston.org/event/choir-rehearsal-7/2025-10-15/
LOCATION:CPC\, 8300 Katy Fwy\, Houston\, TX\, 77024\, United States
CATEGORIES:Music & Worship
ATTACH;FMTTYPE=image/png:https://cpchouston.org/wp-content/uploads/2022/10/Worship-Choir-08-2022-EVENTS.png
END:VEVENT
BEGIN:VEVENT
DTSTART;TZID=America/Chicago:20251015T193000
DTEND;TZID=America/Chicago:20251015T203000
DTSTAMP:20260421T005653
CREATED:20250731T191157Z
LAST-MODIFIED:20251119T185200Z
UID:21323-1760556600-1760560200@cpchouston.org
SUMMARY:Messiah Rehearsal
DESCRIPTION:Rehearsals for Handel’s Messiah are Wednesdays at 7:30 pm in the Sanctuary. Performances are December 11\, 12 & 13. Interested in joining the Concert Choir? Please contact BJ McDougal in the church office for information.
URL:https://cpchouston.org/event/messiah-rehearsal-5/2025-10-15/
LOCATION:CPC\, 8300 Katy Fwy\, Houston\, TX\, 77024\, United States
CATEGORIES:Music & Worship
ATTACH;FMTTYPE=image/jpeg:https://cpchouston.org/wp-content/uploads/2025/09/Messiah-rehearsals-Events.jpg
END:VEVENT
BEGIN:VEVENT
DTSTART;TZID=America/Chicago:20251016T180000
DTEND;TZID=America/Chicago:20251016T203000
DTSTAMP:20260421T005653
CREATED:20251027T175208Z
LAST-MODIFIED:20260304T223846Z
UID:21724-1760637600-1760646600@cpchouston.org
SUMMARY:English Classes
DESCRIPTION:Christ Presbyterian Church welcomes our community for conversational English classes! \nClasses are free. Students need to purchase a book for $40. \nThursdays\, 6:00-8:30 pm\nSeptember 4\, 2025 through May 7\, 2026\nAll levels of English welcome! \nNew students are welcome every Thursday. \nPlease register using the link below. \nQuestions: Contact Axel Sotelo in the church office. \nRegister online: English Classes Registration
URL:https://cpchouston.org/event/english-classes-4/2025-10-16/
LOCATION:CPC\, 8300 Katy Fwy\, Houston\, TX\, 77024\, United States
CATEGORIES:ESL
ATTACH;FMTTYPE=image/png:https://cpchouston.org/wp-content/uploads/2024/08/English-Classes-Digital-2024-events.png
END:VEVENT
BEGIN:VEVENT
DTSTART;TZID=America/Chicago:20251019T083000
DTEND;TZID=America/Chicago:20251019T094500
DTSTAMP:20260421T005653
CREATED:20210916T150630Z
LAST-MODIFIED:20260128T214222Z
UID:18148-1760862600-1760867100@cpchouston.org
SUMMARY:Worship Service
DESCRIPTION:Sunday Morning Schedule\n8:30 am Worship Service in Sanctuary & livestreamed here: Worship Livestream\n10:00 am Sunday School\n11:00 am Worship Service in Sanctuary
URL:https://cpchouston.org/event/test-for-feature/2025-10-19/
LOCATION:CPC\, 8300 Katy Fwy\, Houston\, TX\, 77024\, United States
ATTACH;FMTTYPE=image/png:https://cpchouston.org/wp-content/uploads/2021/09/In-Person-Worship-Events-2020.png
END:VEVENT
BEGIN:VEVENT
DTSTART;TZID=America/Chicago:20251019T110000
DTEND;TZID=America/Chicago:20251019T121500
DTSTAMP:20260421T005653
CREATED:20210916T150630Z
LAST-MODIFIED:20260128T214223Z
UID:18149-1760871600-1760876100@cpchouston.org
SUMMARY:Worship Service
DESCRIPTION:Sunday Morning Schedule\n8:30 am Worship Service in Sanctuary & livestreamed here: Worship Livestream\n10:00 am Sunday School\n11:00 am Worship Service in Sanctuary
URL:https://cpchouston.org/event/test-for-feature/2025-10-19/
LOCATION:CPC\, 8300 Katy Fwy\, Houston\, TX\, 77024\, United States
ATTACH;FMTTYPE=image/png:https://cpchouston.org/wp-content/uploads/2021/09/In-Person-Worship-Events-2020.png
END:VEVENT
BEGIN:VEVENT
DTSTART;TZID=America/Chicago:20251021T064500
DTEND;TZID=America/Chicago:20251021T074500
DTSTAMP:20260421T005653
CREATED:20250813T151707Z
LAST-MODIFIED:20250813T151948Z
UID:20898-1761029100-1761032700@cpchouston.org
SUMMARY:Men's Bible Study
DESCRIPTION:The Men’s Bible Study returns this fall on Tuesday\, September 2\, 6:45 – 7:45 am in the Chapel. Breakfast tacos will be served\, and Ministry Staff along with seminarians will be teaching through the Psalms. \n\nBible Study Registration
URL:https://cpchouston.org/event/mens-bible-study-7/2025-10-21/
LOCATION:CPC\, 8300 Katy Fwy\, Houston\, TX\, 77024\, United States
CATEGORIES:Bible Study,Men
ATTACH;FMTTYPE=image/png:https://cpchouston.org/wp-content/uploads/2025/08/Mens-Bible-Study-Events-1.png
END:VEVENT
BEGIN:VEVENT
DTSTART;TZID=America/Chicago:20251022T093000
DTEND;TZID=America/Chicago:20251022T110000
DTSTAMP:20260421T005653
CREATED:20250731T200036Z
LAST-MODIFIED:20260108T170757Z
UID:20770-1761125400-1761130800@cpchouston.org
SUMMARY:Women's Bible Study
DESCRIPTION:Fall 2025/Spring 2026 \nJudges & Romans: Ruined to Righteous \nJoin Mikie Bellis and the women of CPC for our study of Judges & Romans. \nWeekly lessons are provided free of charge\, and weekly lectures are presented live on Wednesday mornings. The podcast is posted on Tuesdays and the lecture audio is posted on the CPC website on Wednesday afternoons here: Women’s Bible Study. \nSchedule: Small group discussion of the lecture and lesson is offered: \n\nWednesdays from 9:30-11 am at CPC (lunch served at 11 am)\nOnline-only small groups meets on Tuesdays from 7-8 pm and Wednesdays from 1:30-2:30 pm\n\nChildcare \n\nOn Wednesdays\, we offer an enhanced children’s Bible study focusing on the truths of the women’s weekly lessons. Childcare will be provided through lunch\, until 12:00. Women are encouraged to stay for lunch to develop deeper relationships with one another while your children eat lunch with their friends. Childcare is provided for children in 5th grade and under. If you have a homeschool student older than 5th grade\, please contact Angela Ikard for details about our homeschool room. \nRegister online: Women’s Bible Study Registration
URL:https://cpchouston.org/event/womens-bible-study-6/2025-10-22/
LOCATION:CPC\, 8300 Katy Fwy\, Houston\, TX\, 77024\, United States
CATEGORIES:Women
ATTACH;FMTTYPE=image/png:https://cpchouston.org/wp-content/uploads/2022/08/Womens-Bible-Study-2022-2023-Events.png
END:VEVENT
BEGIN:VEVENT
DTSTART;TZID=America/Chicago:20251022T120000
DTEND;TZID=America/Chicago:20251022T140000
DTSTAMP:20260421T005653
CREATED:20250910T193710Z
LAST-MODIFIED:20260302T221530Z
UID:21243-1761134400-1761141600@cpchouston.org
SUMMARY:Lessons & Laughter
DESCRIPTION:We make baby blankets for new babies and prayer shawls for those who are hospitalized and for the grieving. We also make scarves and lap blankets for “Eyes on Me” ministry. We meet Wednesdays at 12 pm in the SonRise Cafe for great fellowship and prayer time. \nIf you don’t already knit or crochet but would love to learn\, this is the place for you! If any questions\, contact the church office. \n 
URL:https://cpchouston.org/event/lessons-laughter-5/2025-10-22/
LOCATION:CPC\, 8300 Katy Fwy\, Houston\, TX\, 77024\, United States
CATEGORIES:Women
END:VEVENT
BEGIN:VEVENT
DTSTART;TZID=America/Chicago:20251022T183000
DTEND;TZID=America/Chicago:20251022T200000
DTSTAMP:20260421T005653
CREATED:20250731T190942Z
LAST-MODIFIED:20251119T185125Z
UID:20735-1761157800-1761163200@cpchouston.org
SUMMARY:Choir Rehearsal
DESCRIPTION:The Worship Choir needs voices this fall! Come be part of leading our congregation in worship. We rehearse Wednesday nights at 6:30 pm in the Sanctuary. Our church has a rich history of choral singing\, and you can be a part of this important ministry here at CPC. Learn more by contacting the church office.
URL:https://cpchouston.org/event/choir-rehearsal-7/2025-10-22/
LOCATION:CPC\, 8300 Katy Fwy\, Houston\, TX\, 77024\, United States
CATEGORIES:Music & Worship
ATTACH;FMTTYPE=image/png:https://cpchouston.org/wp-content/uploads/2022/10/Worship-Choir-08-2022-EVENTS.png
END:VEVENT
BEGIN:VEVENT
DTSTART;TZID=America/Chicago:20251022T193000
DTEND;TZID=America/Chicago:20251022T203000
DTSTAMP:20260421T005653
CREATED:20250731T191157Z
LAST-MODIFIED:20251119T185200Z
UID:21324-1761161400-1761165000@cpchouston.org
SUMMARY:Messiah Rehearsal
DESCRIPTION:Rehearsals for Handel’s Messiah are Wednesdays at 7:30 pm in the Sanctuary. Performances are December 11\, 12 & 13. Interested in joining the Concert Choir? Please contact BJ McDougal in the church office for information.
URL:https://cpchouston.org/event/messiah-rehearsal-5/2025-10-22/
LOCATION:CPC\, 8300 Katy Fwy\, Houston\, TX\, 77024\, United States
CATEGORIES:Music & Worship
ATTACH;FMTTYPE=image/jpeg:https://cpchouston.org/wp-content/uploads/2025/09/Messiah-rehearsals-Events.jpg
END:VEVENT
END:VCALENDAR