BEGIN:VCALENDAR
VERSION:2.0
PRODID:-//Christ Presbyterian Church of Houston - ECPv6.15.20//NONSGML v1.0//EN
CALSCALE:GREGORIAN
METHOD:PUBLISH
X-WR-CALNAME:Christ Presbyterian Church of Houston
X-ORIGINAL-URL:https://cpchouston.org
X-WR-CALDESC:Events for Christ Presbyterian Church of Houston
REFRESH-INTERVAL;VALUE=DURATION:PT1H
X-Robots-Tag:noindex
X-PUBLISHED-TTL:PT1H
BEGIN:VTIMEZONE
TZID:America/Chicago
BEGIN:DAYLIGHT
TZOFFSETFROM:-0600
TZOFFSETTO:-0500
TZNAME:CDT
DTSTART:20250309T080000
END:DAYLIGHT
BEGIN:STANDARD
TZOFFSETFROM:-0500
TZOFFSETTO:-0600
TZNAME:CST
DTSTART:20251102T070000
END:STANDARD
BEGIN:DAYLIGHT
TZOFFSETFROM:-0600
TZOFFSETTO:-0500
TZNAME:CDT
DTSTART:20260308T080000
END:DAYLIGHT
BEGIN:STANDARD
TZOFFSETFROM:-0500
TZOFFSETTO:-0600
TZNAME:CST
DTSTART:20261101T070000
END:STANDARD
BEGIN:DAYLIGHT
TZOFFSETFROM:-0600
TZOFFSETTO:-0500
TZNAME:CDT
DTSTART:20270314T080000
END:DAYLIGHT
BEGIN:STANDARD
TZOFFSETFROM:-0500
TZOFFSETTO:-0600
TZNAME:CST
DTSTART:20271107T070000
END:STANDARD
END:VTIMEZONE
BEGIN:VEVENT
DTSTART;TZID=America/Chicago:20260222T083000
DTEND;TZID=America/Chicago:20260222T094500
DTSTAMP:20260420T185026
CREATED:20210916T150630Z
LAST-MODIFIED:20260128T214305Z
UID:19499-1771749000-1771753500@cpchouston.org
SUMMARY:Worship Service
DESCRIPTION:Sunday Morning Schedule\n8:30 am Worship Service in Sanctuary & livestreamed here: Worship Livestream\n10:00 am Sunday School\n11:00 am Worship Service in Sanctuary
URL:https://cpchouston.org/event/test-for-feature/2026-02-22/
LOCATION:CPC\, 8300 Katy Fwy\, Houston\, TX\, 77024\, United States
ATTACH;FMTTYPE=image/png:https://cpchouston.org/wp-content/uploads/2021/09/In-Person-Worship-Events-2020.png
END:VEVENT
BEGIN:VEVENT
DTSTART;TZID=America/Chicago:20260222T110000
DTEND;TZID=America/Chicago:20260222T121500
DTSTAMP:20260420T185026
CREATED:20210916T150630Z
LAST-MODIFIED:20260128T214306Z
UID:19500-1771758000-1771762500@cpchouston.org
SUMMARY:Worship Service
DESCRIPTION:Sunday Morning Schedule\n8:30 am Worship Service in Sanctuary & livestreamed here: Worship Livestream\n10:00 am Sunday School\n11:00 am Worship Service in Sanctuary
URL:https://cpchouston.org/event/test-for-feature/2026-02-22/
LOCATION:CPC\, 8300 Katy Fwy\, Houston\, TX\, 77024\, United States
ATTACH;FMTTYPE=image/png:https://cpchouston.org/wp-content/uploads/2021/09/In-Person-Worship-Events-2020.png
END:VEVENT
BEGIN:VEVENT
DTSTART;TZID=America/Chicago:20260223T150000
DTEND;TZID=America/Chicago:20260223T163000
DTSTAMP:20260420T185026
CREATED:20260220T195001Z
LAST-MODIFIED:20260223T221452Z
UID:22872-1771858800-1771864200@cpchouston.org
SUMMARY:Memorial Service for Carol Thurman
DESCRIPTION:We extend our sympathy to Rick Thurman in the loss of his mother Carol Thurman\, on Saturday\, February 7. Please pray for comfort for Rick and Leannah during this difficult time. A memorial service will be held at CPC at 3 pm this Monday\, February 23\, followed by a reception and visitation. \nA recording of the memorial service is below.
URL:https://cpchouston.org/event/memorial-service-for-carol-thurman/
LOCATION:CPC\, 8300 Katy Fwy\, Houston\, TX\, 77024\, United States
CATEGORIES:Featured Event
ATTACH;FMTTYPE=image/png:https://cpchouston.org/wp-content/uploads/2026/02/Memorial-Service-Carol-Thurman.png
END:VEVENT
BEGIN:VEVENT
DTSTART;TZID=America/Chicago:20260224T064500
DTEND;TZID=America/Chicago:20260224T074500
DTSTAMP:20260420T185026
CREATED:20251222T155103Z
LAST-MODIFIED:20260409T152025Z
UID:22361-1771915500-1771919100@cpchouston.org
SUMMARY:Men's Bible Study
DESCRIPTION:The Men’s Bible Study meets Tuesdays\, 6:45 – 7:45 am\, in the Chapel. Breakfast tacos will be served\, and ministry staff along with seminarians will be teaching through the Psalms. \nBible Study Registration
URL:https://cpchouston.org/event/mens-bible-study-8/2026-02-24/
LOCATION:CPC\, 8300 Katy Fwy\, Houston\, TX\, 77024\, United States
CATEGORIES:Men
ATTACH;FMTTYPE=image/png:https://cpchouston.org/wp-content/uploads/2025/08/Mens-Bible-Study-Events-1.png
END:VEVENT
BEGIN:VEVENT
DTSTART;TZID=America/Chicago:20260225T093000
DTEND;TZID=America/Chicago:20260225T110000
DTSTAMP:20260420T185026
CREATED:20250731T200036Z
LAST-MODIFIED:20260108T170814Z
UID:20781-1772011800-1772017200@cpchouston.org
SUMMARY:Women's Bible Study
DESCRIPTION:Fall 2025/Spring 2026 \nJudges & Romans: Ruined to Righteous \nJoin Mikie Bellis and the women of CPC for our study of Judges & Romans. \nWeekly lessons are provided free of charge\, and weekly lectures are presented live on Wednesday mornings. The podcast is posted on Tuesdays and the lecture audio is posted on the CPC website on Wednesday afternoons here: Women’s Bible Study. \nSchedule: Small group discussion of the lecture and lesson is offered: \n\nWednesdays from 9:30-11 am at CPC (lunch served at 11 am)\nOnline-only small groups meets on Tuesdays from 7-8 pm and Wednesdays from 1:30-2:30 pm\n\nChildcare \n\nOn Wednesdays\, we offer an enhanced children’s Bible study focusing on the truths of the women’s weekly lessons. Childcare will be provided through lunch\, until 12:00. Women are encouraged to stay for lunch to develop deeper relationships with one another while your children eat lunch with their friends. Childcare is provided for children in 5th grade and under. If you have a homeschool student older than 5th grade\, please contact Angela Ikard for details about our homeschool room. \nRegister online: Women’s Bible Study Registration
URL:https://cpchouston.org/event/womens-bible-study-6/2026-02-25/
LOCATION:CPC\, 8300 Katy Fwy\, Houston\, TX\, 77024\, United States
CATEGORIES:Women
ATTACH;FMTTYPE=image/png:https://cpchouston.org/wp-content/uploads/2022/08/Womens-Bible-Study-2022-2023-Events.png
END:VEVENT
BEGIN:VEVENT
DTSTART;TZID=America/Chicago:20260225T120000
DTEND;TZID=America/Chicago:20260225T140000
DTSTAMP:20260420T185026
CREATED:20250910T193710Z
LAST-MODIFIED:20260302T221550Z
UID:22665-1772020800-1772028000@cpchouston.org
SUMMARY:Lessons & Laughter
DESCRIPTION:We make baby blankets for new babies and prayer shawls for those who are hospitalized and for the grieving. We also make scarves and lap blankets for “Eyes on Me” ministry. We meet Wednesdays at 12 pm in the SonRise Cafe for great fellowship and prayer time. \nIf you don’t already knit or crochet but would love to learn\, this is the place for you! If any questions\, contact the church office. \n 
URL:https://cpchouston.org/event/lessons-laughter-5/2026-02-25/
LOCATION:CPC\, 8300 Katy Fwy\, Houston\, TX\, 77024\, United States
CATEGORIES:Women
END:VEVENT
BEGIN:VEVENT
DTSTART;TZID=America/Chicago:20260225T183000
DTEND;TZID=America/Chicago:20260225T200000
DTSTAMP:20260420T185026
CREATED:20251222T211915Z
LAST-MODIFIED:20251222T211954Z
UID:22290-1772044200-1772049600@cpchouston.org
SUMMARY:Choir Rehearsal
DESCRIPTION:The Worship Choir needs voices! Come be part of leading our congregation in worship. We rehearse Wednesday nights at 6:30 pm in the Sanctuary. Our church has a rich history of choral singing\, and you can be a part of this important ministry here at CPC. Learn more by contacting the church office.
URL:https://cpchouston.org/event/choir-rehearsal-8/2026-02-25/
LOCATION:CPC\, 8300 Katy Fwy\, Houston\, TX\, 77024\, United States
CATEGORIES:Music & Worship
ATTACH;FMTTYPE=image/png:https://cpchouston.org/wp-content/uploads/2022/10/Worship-Choir-08-2022-EVENTS.png
END:VEVENT
BEGIN:VEVENT
DTSTART;TZID=America/Chicago:20260226T180000
DTEND;TZID=America/Chicago:20260226T203000
DTSTAMP:20260420T185026
CREATED:20251027T175208Z
LAST-MODIFIED:20260304T223923Z
UID:21744-1772128800-1772137800@cpchouston.org
SUMMARY:English Classes
DESCRIPTION:Christ Presbyterian Church welcomes our community for conversational English classes! \nClasses are free. Students need to purchase a book for $40. \nThursdays\, 6:00-8:30 pm\nSeptember 4\, 2025 through May 7\, 2026\nAll levels of English welcome! \nNew students are welcome every Thursday. \nPlease register using the link below. \nQuestions: Contact Axel Sotelo in the church office. \nRegister online: English Classes Registration
URL:https://cpchouston.org/event/english-classes-4/2026-02-26/
LOCATION:CPC\, 8300 Katy Fwy\, Houston\, TX\, 77024\, United States
CATEGORIES:ESL
ATTACH;FMTTYPE=image/png:https://cpchouston.org/wp-content/uploads/2024/08/English-Classes-Digital-2024-events.png
END:VEVENT
BEGIN:VEVENT
DTSTART;TZID=America/Chicago:20260301T083000
DTEND;TZID=America/Chicago:20260301T094500
DTSTAMP:20260420T185026
CREATED:20210916T150630Z
LAST-MODIFIED:20260128T214307Z
UID:19598-1772353800-1772358300@cpchouston.org
SUMMARY:Worship Service
DESCRIPTION:Sunday Morning Schedule\n8:30 am Worship Service in Sanctuary & livestreamed here: Worship Livestream\n10:00 am Sunday School\n11:00 am Worship Service in Sanctuary
URL:https://cpchouston.org/event/test-for-feature/2026-03-01/
LOCATION:CPC\, 8300 Katy Fwy\, Houston\, TX\, 77024\, United States
ATTACH;FMTTYPE=image/png:https://cpchouston.org/wp-content/uploads/2021/09/In-Person-Worship-Events-2020.png
END:VEVENT
BEGIN:VEVENT
DTSTART;TZID=America/Chicago:20260301T110000
DTEND;TZID=America/Chicago:20260301T121500
DTSTAMP:20260420T185026
CREATED:20210916T150630Z
LAST-MODIFIED:20260128T214308Z
UID:19599-1772362800-1772367300@cpchouston.org
SUMMARY:Worship Service
DESCRIPTION:Sunday Morning Schedule\n8:30 am Worship Service in Sanctuary & livestreamed here: Worship Livestream\n10:00 am Sunday School\n11:00 am Worship Service in Sanctuary
URL:https://cpchouston.org/event/test-for-feature/2026-03-01/
LOCATION:CPC\, 8300 Katy Fwy\, Houston\, TX\, 77024\, United States
ATTACH;FMTTYPE=image/png:https://cpchouston.org/wp-content/uploads/2021/09/In-Person-Worship-Events-2020.png
END:VEVENT
BEGIN:VEVENT
DTSTART;TZID=America/Chicago:20260303T064500
DTEND;TZID=America/Chicago:20260303T074500
DTSTAMP:20260420T185026
CREATED:20251222T155103Z
LAST-MODIFIED:20260409T152027Z
UID:22362-1772520300-1772523900@cpchouston.org
SUMMARY:Men's Bible Study
DESCRIPTION:The Men’s Bible Study meets Tuesdays\, 6:45 – 7:45 am\, in the Chapel. Breakfast tacos will be served\, and ministry staff along with seminarians will be teaching through the Psalms. \nBible Study Registration
URL:https://cpchouston.org/event/mens-bible-study-8/2026-03-03/
LOCATION:CPC\, 8300 Katy Fwy\, Houston\, TX\, 77024\, United States
CATEGORIES:Men
ATTACH;FMTTYPE=image/png:https://cpchouston.org/wp-content/uploads/2025/08/Mens-Bible-Study-Events-1.png
END:VEVENT
BEGIN:VEVENT
DTSTART;TZID=America/Chicago:20260304T093000
DTEND;TZID=America/Chicago:20260304T110000
DTSTAMP:20260420T185026
CREATED:20250731T200036Z
LAST-MODIFIED:20260108T170815Z
UID:20782-1772616600-1772622000@cpchouston.org
SUMMARY:Women's Bible Study
DESCRIPTION:Fall 2025/Spring 2026 \nJudges & Romans: Ruined to Righteous \nJoin Mikie Bellis and the women of CPC for our study of Judges & Romans. \nWeekly lessons are provided free of charge\, and weekly lectures are presented live on Wednesday mornings. The podcast is posted on Tuesdays and the lecture audio is posted on the CPC website on Wednesday afternoons here: Women’s Bible Study. \nSchedule: Small group discussion of the lecture and lesson is offered: \n\nWednesdays from 9:30-11 am at CPC (lunch served at 11 am)\nOnline-only small groups meets on Tuesdays from 7-8 pm and Wednesdays from 1:30-2:30 pm\n\nChildcare \n\nOn Wednesdays\, we offer an enhanced children’s Bible study focusing on the truths of the women’s weekly lessons. Childcare will be provided through lunch\, until 12:00. Women are encouraged to stay for lunch to develop deeper relationships with one another while your children eat lunch with their friends. Childcare is provided for children in 5th grade and under. If you have a homeschool student older than 5th grade\, please contact Angela Ikard for details about our homeschool room. \nRegister online: Women’s Bible Study Registration
URL:https://cpchouston.org/event/womens-bible-study-6/2026-03-04/
LOCATION:CPC\, 8300 Katy Fwy\, Houston\, TX\, 77024\, United States
CATEGORIES:Women
ATTACH;FMTTYPE=image/png:https://cpchouston.org/wp-content/uploads/2022/08/Womens-Bible-Study-2022-2023-Events.png
END:VEVENT
BEGIN:VEVENT
DTSTART;TZID=America/Chicago:20260304T113000
DTEND;TZID=America/Chicago:20260304T120000
DTSTAMP:20260420T185026
CREATED:20250911T201330Z
LAST-MODIFIED:20250911T214745Z
UID:21275-1772623800-1772625600@cpchouston.org
SUMMARY:Women's Ministry Prayer Meeting
DESCRIPTION:Please join us for our Women’s Ministry Prayer Meeting on Wednesday\, September 24\, 11:30 am to 12 noon\, in Main Building Room 212 following the Women’s Bible Study. Learn more about Women’s Ministry at CPC.
URL:https://cpchouston.org/event/womens-ministry-prayer-meeting-3/2026-03-04/
LOCATION:CPC\, 8300 Katy Fwy\, Houston\, TX\, 77024\, United States
CATEGORIES:Women
ATTACH;FMTTYPE=image/png:https://cpchouston.org/wp-content/uploads/2025/09/WIM-Prayer-Meeting-2025.png
END:VEVENT
BEGIN:VEVENT
DTSTART;TZID=America/Chicago:20260304T120000
DTEND;TZID=America/Chicago:20260304T140000
DTSTAMP:20260420T185026
CREATED:20250910T193710Z
LAST-MODIFIED:20260302T221551Z
UID:22666-1772625600-1772632800@cpchouston.org
SUMMARY:Lessons & Laughter
DESCRIPTION:We make baby blankets for new babies and prayer shawls for those who are hospitalized and for the grieving. We also make scarves and lap blankets for “Eyes on Me” ministry. We meet Wednesdays at 12 pm in the SonRise Cafe for great fellowship and prayer time. \nIf you don’t already knit or crochet but would love to learn\, this is the place for you! If any questions\, contact the church office. \n 
URL:https://cpchouston.org/event/lessons-laughter-5/2026-03-04/
LOCATION:CPC\, 8300 Katy Fwy\, Houston\, TX\, 77024\, United States
CATEGORIES:Women
END:VEVENT
BEGIN:VEVENT
DTSTART;TZID=America/Chicago:20260304T183000
DTEND;TZID=America/Chicago:20260304T200000
DTSTAMP:20260420T185026
CREATED:20251222T211915Z
LAST-MODIFIED:20251222T211955Z
UID:22291-1772649000-1772654400@cpchouston.org
SUMMARY:Choir Rehearsal
DESCRIPTION:The Worship Choir needs voices! Come be part of leading our congregation in worship. We rehearse Wednesday nights at 6:30 pm in the Sanctuary. Our church has a rich history of choral singing\, and you can be a part of this important ministry here at CPC. Learn more by contacting the church office.
URL:https://cpchouston.org/event/choir-rehearsal-8/2026-03-04/
LOCATION:CPC\, 8300 Katy Fwy\, Houston\, TX\, 77024\, United States
CATEGORIES:Music & Worship
ATTACH;FMTTYPE=image/png:https://cpchouston.org/wp-content/uploads/2022/10/Worship-Choir-08-2022-EVENTS.png
END:VEVENT
BEGIN:VEVENT
DTSTART;TZID=America/Chicago:20260305T180000
DTEND;TZID=America/Chicago:20260305T203000
DTSTAMP:20260420T185026
CREATED:20251027T175208Z
LAST-MODIFIED:20260304T223925Z
UID:21745-1772733600-1772742600@cpchouston.org
SUMMARY:English Classes
DESCRIPTION:Christ Presbyterian Church welcomes our community for conversational English classes! \nClasses are free. Students need to purchase a book for $40. \nThursdays\, 6:00-8:30 pm\nSeptember 4\, 2025 through May 7\, 2026\nAll levels of English welcome! \nNew students are welcome every Thursday. \nPlease register using the link below. \nQuestions: Contact Axel Sotelo in the church office. \nRegister online: English Classes Registration
URL:https://cpchouston.org/event/english-classes-4/2026-03-05/
LOCATION:CPC\, 8300 Katy Fwy\, Houston\, TX\, 77024\, United States
CATEGORIES:ESL
ATTACH;FMTTYPE=image/png:https://cpchouston.org/wp-content/uploads/2024/08/English-Classes-Digital-2024-events.png
END:VEVENT
BEGIN:VEVENT
DTSTART;TZID=America/Chicago:20260308T083000
DTEND;TZID=America/Chicago:20260308T094500
DTSTAMP:20260420T185026
CREATED:20210916T150630Z
LAST-MODIFIED:20260128T214309Z
UID:19701-1772958600-1772963100@cpchouston.org
SUMMARY:Worship Service
DESCRIPTION:Sunday Morning Schedule\n8:30 am Worship Service in Sanctuary & livestreamed here: Worship Livestream\n10:00 am Sunday School\n11:00 am Worship Service in Sanctuary
URL:https://cpchouston.org/event/test-for-feature/2026-03-08/
LOCATION:CPC\, 8300 Katy Fwy\, Houston\, TX\, 77024\, United States
ATTACH;FMTTYPE=image/png:https://cpchouston.org/wp-content/uploads/2021/09/In-Person-Worship-Events-2020.png
END:VEVENT
BEGIN:VEVENT
DTSTART;TZID=America/Chicago:20260308T110000
DTEND;TZID=America/Chicago:20260308T121500
DTSTAMP:20260420T185026
CREATED:20210916T150630Z
LAST-MODIFIED:20260128T214311Z
UID:19702-1772967600-1772972100@cpchouston.org
SUMMARY:Worship Service
DESCRIPTION:Sunday Morning Schedule\n8:30 am Worship Service in Sanctuary & livestreamed here: Worship Livestream\n10:00 am Sunday School\n11:00 am Worship Service in Sanctuary
URL:https://cpchouston.org/event/test-for-feature/2026-03-08/
LOCATION:CPC\, 8300 Katy Fwy\, Houston\, TX\, 77024\, United States
ATTACH;FMTTYPE=image/png:https://cpchouston.org/wp-content/uploads/2021/09/In-Person-Worship-Events-2020.png
END:VEVENT
BEGIN:VEVENT
DTSTART;TZID=America/Chicago:20260310T064500
DTEND;TZID=America/Chicago:20260310T074500
DTSTAMP:20260420T185026
CREATED:20251222T155103Z
LAST-MODIFIED:20260409T152029Z
UID:22363-1773125100-1773128700@cpchouston.org
SUMMARY:Men's Bible Study
DESCRIPTION:The Men’s Bible Study meets Tuesdays\, 6:45 – 7:45 am\, in the Chapel. Breakfast tacos will be served\, and ministry staff along with seminarians will be teaching through the Psalms. \nBible Study Registration
URL:https://cpchouston.org/event/mens-bible-study-8/2026-03-10/
LOCATION:CPC\, 8300 Katy Fwy\, Houston\, TX\, 77024\, United States
CATEGORIES:Men
ATTACH;FMTTYPE=image/png:https://cpchouston.org/wp-content/uploads/2025/08/Mens-Bible-Study-Events-1.png
END:VEVENT
BEGIN:VEVENT
DTSTART;TZID=America/Chicago:20260311T183000
DTEND;TZID=America/Chicago:20260311T200000
DTSTAMP:20260420T185026
CREATED:20251222T211915Z
LAST-MODIFIED:20251222T211955Z
UID:22292-1773253800-1773259200@cpchouston.org
SUMMARY:Choir Rehearsal
DESCRIPTION:The Worship Choir needs voices! Come be part of leading our congregation in worship. We rehearse Wednesday nights at 6:30 pm in the Sanctuary. Our church has a rich history of choral singing\, and you can be a part of this important ministry here at CPC. Learn more by contacting the church office.
URL:https://cpchouston.org/event/choir-rehearsal-8/2026-03-11/
LOCATION:CPC\, 8300 Katy Fwy\, Houston\, TX\, 77024\, United States
CATEGORIES:Music & Worship
ATTACH;FMTTYPE=image/png:https://cpchouston.org/wp-content/uploads/2022/10/Worship-Choir-08-2022-EVENTS.png
END:VEVENT
BEGIN:VEVENT
DTSTART;TZID=America/Chicago:20260315T083000
DTEND;TZID=America/Chicago:20260315T094500
DTSTAMP:20260420T185026
CREATED:20210916T150630Z
LAST-MODIFIED:20260128T214312Z
UID:19841-1773563400-1773567900@cpchouston.org
SUMMARY:Worship Service
DESCRIPTION:Sunday Morning Schedule\n8:30 am Worship Service in Sanctuary & livestreamed here: Worship Livestream\n10:00 am Sunday School\n11:00 am Worship Service in Sanctuary
URL:https://cpchouston.org/event/test-for-feature/2026-03-15/
LOCATION:CPC\, 8300 Katy Fwy\, Houston\, TX\, 77024\, United States
ATTACH;FMTTYPE=image/png:https://cpchouston.org/wp-content/uploads/2021/09/In-Person-Worship-Events-2020.png
END:VEVENT
BEGIN:VEVENT
DTSTART;TZID=America/Chicago:20260315T110000
DTEND;TZID=America/Chicago:20260315T121500
DTSTAMP:20260420T185026
CREATED:20210916T150630Z
LAST-MODIFIED:20260128T214313Z
UID:19842-1773572400-1773576900@cpchouston.org
SUMMARY:Worship Service
DESCRIPTION:Sunday Morning Schedule\n8:30 am Worship Service in Sanctuary & livestreamed here: Worship Livestream\n10:00 am Sunday School\n11:00 am Worship Service in Sanctuary
URL:https://cpchouston.org/event/test-for-feature/2026-03-15/
LOCATION:CPC\, 8300 Katy Fwy\, Houston\, TX\, 77024\, United States
ATTACH;FMTTYPE=image/png:https://cpchouston.org/wp-content/uploads/2021/09/In-Person-Worship-Events-2020.png
END:VEVENT
BEGIN:VEVENT
DTSTART;TZID=America/Chicago:20260317T064500
DTEND;TZID=America/Chicago:20260317T074500
DTSTAMP:20260420T185026
CREATED:20251222T155103Z
LAST-MODIFIED:20260409T152032Z
UID:22364-1773729900-1773733500@cpchouston.org
SUMMARY:Men's Bible Study
DESCRIPTION:The Men’s Bible Study meets Tuesdays\, 6:45 – 7:45 am\, in the Chapel. Breakfast tacos will be served\, and ministry staff along with seminarians will be teaching through the Psalms. \nBible Study Registration
URL:https://cpchouston.org/event/mens-bible-study-8/2026-03-17/
LOCATION:CPC\, 8300 Katy Fwy\, Houston\, TX\, 77024\, United States
CATEGORIES:Men
ATTACH;FMTTYPE=image/png:https://cpchouston.org/wp-content/uploads/2025/08/Mens-Bible-Study-Events-1.png
END:VEVENT
BEGIN:VEVENT
DTSTART;TZID=America/Chicago:20260318T093000
DTEND;TZID=America/Chicago:20260318T110000
DTSTAMP:20260420T185026
CREATED:20250731T200036Z
LAST-MODIFIED:20260108T170816Z
UID:20783-1773826200-1773831600@cpchouston.org
SUMMARY:Women's Bible Study
DESCRIPTION:Fall 2025/Spring 2026 \nJudges & Romans: Ruined to Righteous \nJoin Mikie Bellis and the women of CPC for our study of Judges & Romans. \nWeekly lessons are provided free of charge\, and weekly lectures are presented live on Wednesday mornings. The podcast is posted on Tuesdays and the lecture audio is posted on the CPC website on Wednesday afternoons here: Women’s Bible Study. \nSchedule: Small group discussion of the lecture and lesson is offered: \n\nWednesdays from 9:30-11 am at CPC (lunch served at 11 am)\nOnline-only small groups meets on Tuesdays from 7-8 pm and Wednesdays from 1:30-2:30 pm\n\nChildcare \n\nOn Wednesdays\, we offer an enhanced children’s Bible study focusing on the truths of the women’s weekly lessons. Childcare will be provided through lunch\, until 12:00. Women are encouraged to stay for lunch to develop deeper relationships with one another while your children eat lunch with their friends. Childcare is provided for children in 5th grade and under. If you have a homeschool student older than 5th grade\, please contact Angela Ikard for details about our homeschool room. \nRegister online: Women’s Bible Study Registration
URL:https://cpchouston.org/event/womens-bible-study-6/2026-03-18/
LOCATION:CPC\, 8300 Katy Fwy\, Houston\, TX\, 77024\, United States
CATEGORIES:Women
ATTACH;FMTTYPE=image/png:https://cpchouston.org/wp-content/uploads/2022/08/Womens-Bible-Study-2022-2023-Events.png
END:VEVENT
BEGIN:VEVENT
DTSTART;TZID=America/Chicago:20260318T120000
DTEND;TZID=America/Chicago:20260318T140000
DTSTAMP:20260420T185026
CREATED:20250910T193710Z
LAST-MODIFIED:20260302T221552Z
UID:22668-1773835200-1773842400@cpchouston.org
SUMMARY:Lessons & Laughter
DESCRIPTION:We make baby blankets for new babies and prayer shawls for those who are hospitalized and for the grieving. We also make scarves and lap blankets for “Eyes on Me” ministry. We meet Wednesdays at 12 pm in the SonRise Cafe for great fellowship and prayer time. \nIf you don’t already knit or crochet but would love to learn\, this is the place for you! If any questions\, contact the church office. \n 
URL:https://cpchouston.org/event/lessons-laughter-5/2026-03-18/
LOCATION:CPC\, 8300 Katy Fwy\, Houston\, TX\, 77024\, United States
CATEGORIES:Women
END:VEVENT
BEGIN:VEVENT
DTSTART;TZID=America/Chicago:20260318T183000
DTEND;TZID=America/Chicago:20260318T200000
DTSTAMP:20260420T185026
CREATED:20251222T211915Z
LAST-MODIFIED:20251222T211956Z
UID:22293-1773858600-1773864000@cpchouston.org
SUMMARY:Choir Rehearsal
DESCRIPTION:The Worship Choir needs voices! Come be part of leading our congregation in worship. We rehearse Wednesday nights at 6:30 pm in the Sanctuary. Our church has a rich history of choral singing\, and you can be a part of this important ministry here at CPC. Learn more by contacting the church office.
URL:https://cpchouston.org/event/choir-rehearsal-8/2026-03-18/
LOCATION:CPC\, 8300 Katy Fwy\, Houston\, TX\, 77024\, United States
CATEGORIES:Music & Worship
ATTACH;FMTTYPE=image/png:https://cpchouston.org/wp-content/uploads/2022/10/Worship-Choir-08-2022-EVENTS.png
END:VEVENT
BEGIN:VEVENT
DTSTART;TZID=America/Chicago:20260319T180000
DTEND;TZID=America/Chicago:20260319T203000
DTSTAMP:20260420T185026
CREATED:20251027T175208Z
LAST-MODIFIED:20260304T223926Z
UID:21747-1773943200-1773952200@cpchouston.org
SUMMARY:English Classes
DESCRIPTION:Christ Presbyterian Church welcomes our community for conversational English classes! \nClasses are free. Students need to purchase a book for $40. \nThursdays\, 6:00-8:30 pm\nSeptember 4\, 2025 through May 7\, 2026\nAll levels of English welcome! \nNew students are welcome every Thursday. \nPlease register using the link below. \nQuestions: Contact Axel Sotelo in the church office. \nRegister online: English Classes Registration
URL:https://cpchouston.org/event/english-classes-4/2026-03-19/
LOCATION:CPC\, 8300 Katy Fwy\, Houston\, TX\, 77024\, United States
CATEGORIES:ESL
ATTACH;FMTTYPE=image/png:https://cpchouston.org/wp-content/uploads/2024/08/English-Classes-Digital-2024-events.png
END:VEVENT
BEGIN:VEVENT
DTSTART;TZID=America/Chicago:20260322T083000
DTEND;TZID=America/Chicago:20260322T094500
DTSTAMP:20260420T185026
CREATED:20210916T150630Z
LAST-MODIFIED:20260128T214314Z
UID:19866-1774168200-1774172700@cpchouston.org
SUMMARY:Worship Service
DESCRIPTION:Sunday Morning Schedule\n8:30 am Worship Service in Sanctuary & livestreamed here: Worship Livestream\n10:00 am Sunday School\n11:00 am Worship Service in Sanctuary
URL:https://cpchouston.org/event/test-for-feature/2026-03-22/
LOCATION:CPC\, 8300 Katy Fwy\, Houston\, TX\, 77024\, United States
ATTACH;FMTTYPE=image/png:https://cpchouston.org/wp-content/uploads/2021/09/In-Person-Worship-Events-2020.png
END:VEVENT
BEGIN:VEVENT
DTSTART;TZID=America/Chicago:20260322T110000
DTEND;TZID=America/Chicago:20260322T121500
DTSTAMP:20260420T185026
CREATED:20210916T150630Z
LAST-MODIFIED:20260128T214315Z
UID:19867-1774177200-1774181700@cpchouston.org
SUMMARY:Worship Service
DESCRIPTION:Sunday Morning Schedule\n8:30 am Worship Service in Sanctuary & livestreamed here: Worship Livestream\n10:00 am Sunday School\n11:00 am Worship Service in Sanctuary
URL:https://cpchouston.org/event/test-for-feature/2026-03-22/
LOCATION:CPC\, 8300 Katy Fwy\, Houston\, TX\, 77024\, United States
ATTACH;FMTTYPE=image/png:https://cpchouston.org/wp-content/uploads/2021/09/In-Person-Worship-Events-2020.png
END:VEVENT
BEGIN:VEVENT
DTSTART;TZID=America/Chicago:20260324T064500
DTEND;TZID=America/Chicago:20260324T074500
DTSTAMP:20260420T185026
CREATED:20251222T155103Z
LAST-MODIFIED:20260409T152034Z
UID:22365-1774334700-1774338300@cpchouston.org
SUMMARY:Men's Bible Study
DESCRIPTION:The Men’s Bible Study meets Tuesdays\, 6:45 – 7:45 am\, in the Chapel. Breakfast tacos will be served\, and ministry staff along with seminarians will be teaching through the Psalms. \nBible Study Registration
URL:https://cpchouston.org/event/mens-bible-study-8/2026-03-24/
LOCATION:CPC\, 8300 Katy Fwy\, Houston\, TX\, 77024\, United States
CATEGORIES:Men
ATTACH;FMTTYPE=image/png:https://cpchouston.org/wp-content/uploads/2025/08/Mens-Bible-Study-Events-1.png
END:VEVENT
END:VCALENDAR