BEGIN:VCALENDAR
VERSION:2.0
PRODID:-//Christ Presbyterian Church of Houston - ECPv6.15.20//NONSGML v1.0//EN
CALSCALE:GREGORIAN
METHOD:PUBLISH
X-WR-CALNAME:Christ Presbyterian Church of Houston
X-ORIGINAL-URL:https://cpchouston.org
X-WR-CALDESC:Events for Christ Presbyterian Church of Houston
REFRESH-INTERVAL;VALUE=DURATION:PT1H
X-Robots-Tag:noindex
X-PUBLISHED-TTL:PT1H
BEGIN:VTIMEZONE
TZID:America/Chicago
BEGIN:DAYLIGHT
TZOFFSETFROM:-0600
TZOFFSETTO:-0500
TZNAME:CDT
DTSTART:20240310T080000
END:DAYLIGHT
BEGIN:STANDARD
TZOFFSETFROM:-0500
TZOFFSETTO:-0600
TZNAME:CST
DTSTART:20241103T070000
END:STANDARD
BEGIN:DAYLIGHT
TZOFFSETFROM:-0600
TZOFFSETTO:-0500
TZNAME:CDT
DTSTART:20250309T080000
END:DAYLIGHT
BEGIN:STANDARD
TZOFFSETFROM:-0500
TZOFFSETTO:-0600
TZNAME:CST
DTSTART:20251102T070000
END:STANDARD
BEGIN:DAYLIGHT
TZOFFSETFROM:-0600
TZOFFSETTO:-0500
TZNAME:CDT
DTSTART:20260308T080000
END:DAYLIGHT
BEGIN:STANDARD
TZOFFSETFROM:-0500
TZOFFSETTO:-0600
TZNAME:CST
DTSTART:20261101T070000
END:STANDARD
BEGIN:DAYLIGHT
TZOFFSETFROM:-0600
TZOFFSETTO:-0500
TZNAME:CDT
DTSTART:20270314T080000
END:DAYLIGHT
BEGIN:STANDARD
TZOFFSETFROM:-0500
TZOFFSETTO:-0600
TZNAME:CST
DTSTART:20271107T070000
END:STANDARD
END:VTIMEZONE
BEGIN:VEVENT
DTSTART;TZID=America/Chicago:20260107T120000
DTEND;TZID=America/Chicago:20260107T140000
DTSTAMP:20260420T230619
CREATED:20250910T193710Z
LAST-MODIFIED:20260302T221542Z
UID:21967-1767787200-1767794400@cpchouston.org
SUMMARY:Lessons & Laughter
DESCRIPTION:We make baby blankets for new babies and prayer shawls for those who are hospitalized and for the grieving. We also make scarves and lap blankets for “Eyes on Me” ministry. We meet Wednesdays at 12 pm in the SonRise Cafe for great fellowship and prayer time. \nIf you don’t already knit or crochet but would love to learn\, this is the place for you! If any questions\, contact the church office. \n 
URL:https://cpchouston.org/event/lessons-laughter-5/2026-01-07/
LOCATION:CPC\, 8300 Katy Fwy\, Houston\, TX\, 77024\, United States
CATEGORIES:Women
END:VEVENT
BEGIN:VEVENT
DTSTART;TZID=America/Chicago:20260104T110000
DTEND;TZID=America/Chicago:20260104T121500
DTSTAMP:20260420T230619
CREATED:20210916T150630Z
LAST-MODIFIED:20260128T214249Z
UID:19064-1767524400-1767528900@cpchouston.org
SUMMARY:Worship Service
DESCRIPTION:Sunday Morning Schedule\n8:30 am Worship Service in Sanctuary & livestreamed here: Worship Livestream\n10:00 am Sunday School\n11:00 am Worship Service in Sanctuary
URL:https://cpchouston.org/event/test-for-feature/2026-01-04/
LOCATION:CPC\, 8300 Katy Fwy\, Houston\, TX\, 77024\, United States
ATTACH;FMTTYPE=image/png:https://cpchouston.org/wp-content/uploads/2021/09/In-Person-Worship-Events-2020.png
END:VEVENT
BEGIN:VEVENT
DTSTART;TZID=America/Chicago:20260104T100000
DTEND;TZID=America/Chicago:20260104T104500
DTSTAMP:20260420T230619
CREATED:20251216T184930Z
LAST-MODIFIED:20251216T185228Z
UID:22226-1767520800-1767523500@cpchouston.org
SUMMARY:All-Church Prayer
DESCRIPTION:All adults are encouraged to come to our All-Church Prayer Gathering on Sunday\, January 4\, at 10:00 am in the Chapel. Pastor Harris will briefly teach on the topic of prayer before leading us in a time of prayer for 2026. Middle school and high school students will join their parents for this time of prayer. Children’s Ministry will meet as usual.
URL:https://cpchouston.org/event/all-church-prayer-5/
LOCATION:CPC\, 8300 Katy Fwy\, Houston\, TX\, 77024\, United States
CATEGORIES:Featured Event
ATTACH;FMTTYPE=image/png:https://cpchouston.org/wp-content/uploads/2021/12/All-Church-Prayer-9-2018-Events.png
END:VEVENT
BEGIN:VEVENT
DTSTART;TZID=America/Chicago:20260104T083000
DTEND;TZID=America/Chicago:20260104T094500
DTSTAMP:20260420T230619
CREATED:20210916T150630Z
LAST-MODIFIED:20260128T214248Z
UID:19063-1767515400-1767519900@cpchouston.org
SUMMARY:Worship Service
DESCRIPTION:Sunday Morning Schedule\n8:30 am Worship Service in Sanctuary & livestreamed here: Worship Livestream\n10:00 am Sunday School\n11:00 am Worship Service in Sanctuary
URL:https://cpchouston.org/event/test-for-feature/2026-01-04/
LOCATION:CPC\, 8300 Katy Fwy\, Houston\, TX\, 77024\, United States
ATTACH;FMTTYPE=image/png:https://cpchouston.org/wp-content/uploads/2021/09/In-Person-Worship-Events-2020.png
END:VEVENT
BEGIN:VEVENT
DTSTART;TZID=America/Chicago:20251228T100000
DTEND;TZID=America/Chicago:20251228T111500
DTSTAMP:20260420T230619
CREATED:20251030T194547Z
LAST-MODIFIED:20251222T145548Z
UID:21848-1766916000-1766920500@cpchouston.org
SUMMARY:Worship Service
DESCRIPTION:On Sunday\, December 28\, we will have one combined worship service at 10 am in the Sanctuary. Sunday school classes will not meet.
URL:https://cpchouston.org/event/worship-service-9/
LOCATION:CPC\, 8300 Katy Fwy\, Houston\, TX\, 77024\, United States
CATEGORIES:Featured Event
ATTACH;FMTTYPE=image/png:https://cpchouston.org/wp-content/uploads/2025/10/Modified-Schedule-December-28-2025-Events.png
END:VEVENT
BEGIN:VEVENT
DTSTART;VALUE=DATE:20251226
DTEND;VALUE=DATE:20251227
DTSTAMP:20260420T230619
CREATED:20251212T145218Z
LAST-MODIFIED:20251212T233742Z
UID:22208-1766707200-1766793599@cpchouston.org
SUMMARY:Church Office Closed
DESCRIPTION:The church office will be closed December 24\, 25\, and 26.
URL:https://cpchouston.org/event/church-office-closed-14/2025-12-26/
LOCATION:CPC\, 8300 Katy Fwy\, Houston\, TX\, 77024\, United States
END:VEVENT
BEGIN:VEVENT
DTSTART;VALUE=DATE:20251225
DTEND;VALUE=DATE:20251226
DTSTAMP:20260420T230619
CREATED:20251212T145218Z
LAST-MODIFIED:20251212T233742Z
UID:22207-1766620800-1766707199@cpchouston.org
SUMMARY:Church Office Closed
DESCRIPTION:The church office will be closed December 24\, 25\, and 26.
URL:https://cpchouston.org/event/church-office-closed-14/2025-12-25/
LOCATION:CPC\, 8300 Katy Fwy\, Houston\, TX\, 77024\, United States
END:VEVENT
BEGIN:VEVENT
DTSTART;VALUE=DATE:20251225
DTEND;VALUE=DATE:20251226
DTSTAMP:20260420T230619
CREATED:20251104T172855Z
LAST-MODIFIED:20251222T145648Z
UID:21925-1766620800-1766707199@cpchouston.org
SUMMARY:Christmas Worship and Events
DESCRIPTION:Join the family of Christ Presbyterian Church for Christmas worship and events throughout the Christmas season! \nAdvent Worship Services\n8:30 & 11:00 am Sundays\, Nov. 30–Dec. 21 \nFamily Ministry Christmas Party\n6:30 pm Friday\, December 5\nDetails & Registration: Family Christmas Party \nChildren’s Ministry Christmas Party\n12:30 pm Sunday\, December 7\nDetails & Registration: Children’s Christmas Party \nStudent Ministry Christmas Party\n6:30 pm Wednesday\, December 10 \nHandel’s Messiah\n8:00 pm December 11\, 12 & 13\nMore information about Messiah \nYoung Adults Christmas Party\n7:00 pm Sunday\, December 14 \nChristmas Eve Worship\nWednesday\, December 24\n4:30 pm Family Candlelight Nativity Service\n6:00 pm Communion Candlelight Lessons & Carols \nSunday\, December 28\n10:00 am Worship Service (No Sunday School) \nThe church office will be closed December 24-26 and January 1.
URL:https://cpchouston.org/event/christmas-worship-and-events-2/
LOCATION:CPC\, 8300 Katy Fwy\, Houston\, TX\, 77024\, United States
CATEGORIES:Christmas
ATTACH;FMTTYPE=image/png:https://cpchouston.org/wp-content/uploads/2025/10/Christmas-Worship-and-Events-Digital-2025.png
END:VEVENT
BEGIN:VEVENT
DTSTART;TZID=America/Chicago:20251224T180000
DTEND;TZID=America/Chicago:20251224T191500
DTSTAMP:20260420T230619
CREATED:20251104T173215Z
LAST-MODIFIED:20251216T185316Z
UID:21936-1766599200-1766603700@cpchouston.org
SUMMARY:Christmas Eve Worship
DESCRIPTION:Join the family of Christ Presbyterian Church for worship this Christmas Eve! \n4:30 pm Family Candlelight Nativity Service\n6:00 pm Communion Candlelight Lessons & Carols
URL:https://cpchouston.org/event/christmas-eve-worship-8/
LOCATION:CPC\, 8300 Katy Fwy\, Houston\, TX\, 77024\, United States
CATEGORIES:Christmas,Featured Event
ATTACH;FMTTYPE=image/png:https://cpchouston.org/wp-content/uploads/2025/10/Christmas-Eve-Digital-Events.png
END:VEVENT
BEGIN:VEVENT
DTSTART;TZID=America/Chicago:20251224T163000
DTEND;TZID=America/Chicago:20251224T173000
DTSTAMP:20260420T230619
CREATED:20251030T193552Z
LAST-MODIFIED:20251216T185331Z
UID:21779-1766593800-1766597400@cpchouston.org
SUMMARY:Christmas Eve Worship
DESCRIPTION:Join the family of Christ Presbyterian Church for worship this Christmas Eve! \n4:30 pm Family Candlelight Nativity Service\n6:00 pm Communion Candlelight Lessons & Carols
URL:https://cpchouston.org/event/christmas-eve-worship-7/
LOCATION:CPC\, 8300 Katy Fwy\, Houston\, TX\, 77024\, United States
CATEGORIES:Christmas,Featured Event
ATTACH;FMTTYPE=image/png:https://cpchouston.org/wp-content/uploads/2025/10/Christmas-Eve-Digital-Events.png
END:VEVENT
BEGIN:VEVENT
DTSTART;VALUE=DATE:20251224
DTEND;VALUE=DATE:20251225
DTSTAMP:20260420T230619
CREATED:20251212T145218Z
LAST-MODIFIED:20251212T233742Z
UID:22206-1766534400-1766620799@cpchouston.org
SUMMARY:Church Office Closed
DESCRIPTION:The church office will be closed December 24\, 25\, and 26.
URL:https://cpchouston.org/event/church-office-closed-14/2025-12-24/
LOCATION:CPC\, 8300 Katy Fwy\, Houston\, TX\, 77024\, United States
END:VEVENT
BEGIN:VEVENT
DTSTART;TZID=America/Chicago:20251221T110000
DTEND;TZID=America/Chicago:20251221T121500
DTSTAMP:20260420T230619
CREATED:20210916T150630Z
LAST-MODIFIED:20260128T214247Z
UID:18954-1766314800-1766319300@cpchouston.org
SUMMARY:Worship Service
DESCRIPTION:Sunday Morning Schedule\n8:30 am Worship Service in Sanctuary & livestreamed here: Worship Livestream\n10:00 am Sunday School\n11:00 am Worship Service in Sanctuary
URL:https://cpchouston.org/event/test-for-feature/2025-12-21/
LOCATION:CPC\, 8300 Katy Fwy\, Houston\, TX\, 77024\, United States
ATTACH;FMTTYPE=image/png:https://cpchouston.org/wp-content/uploads/2021/09/In-Person-Worship-Events-2020.png
END:VEVENT
BEGIN:VEVENT
DTSTART;TZID=America/Chicago:20251221T083000
DTEND;TZID=America/Chicago:20251221T094500
DTSTAMP:20260420T230619
CREATED:20210916T150630Z
LAST-MODIFIED:20260128T214245Z
UID:18953-1766305800-1766310300@cpchouston.org
SUMMARY:Worship Service
DESCRIPTION:Sunday Morning Schedule\n8:30 am Worship Service in Sanctuary & livestreamed here: Worship Livestream\n10:00 am Sunday School\n11:00 am Worship Service in Sanctuary
URL:https://cpchouston.org/event/test-for-feature/2025-12-21/
LOCATION:CPC\, 8300 Katy Fwy\, Houston\, TX\, 77024\, United States
ATTACH;FMTTYPE=image/png:https://cpchouston.org/wp-content/uploads/2021/09/In-Person-Worship-Events-2020.png
END:VEVENT
BEGIN:VEVENT
DTSTART;TZID=America/Chicago:20251218T180000
DTEND;TZID=America/Chicago:20251218T203000
DTSTAMP:20260420T230619
CREATED:20251027T175208Z
LAST-MODIFIED:20260304T223910Z
UID:21734-1766080800-1766089800@cpchouston.org
SUMMARY:English Classes
DESCRIPTION:Christ Presbyterian Church welcomes our community for conversational English classes! \nClasses are free. Students need to purchase a book for $40. \nThursdays\, 6:00-8:30 pm\nSeptember 4\, 2025 through May 7\, 2026\nAll levels of English welcome! \nNew students are welcome every Thursday. \nPlease register using the link below. \nQuestions: Contact Axel Sotelo in the church office. \nRegister online: English Classes Registration
URL:https://cpchouston.org/event/english-classes-4/2025-12-18/
LOCATION:CPC\, 8300 Katy Fwy\, Houston\, TX\, 77024\, United States
CATEGORIES:ESL
ATTACH;FMTTYPE=image/png:https://cpchouston.org/wp-content/uploads/2024/08/English-Classes-Digital-2024-events.png
END:VEVENT
BEGIN:VEVENT
DTSTART;TZID=America/Chicago:20251214T110000
DTEND;TZID=America/Chicago:20251214T121500
DTSTAMP:20260420T230619
CREATED:20210916T150630Z
LAST-MODIFIED:20260128T214244Z
UID:18765-1765710000-1765714500@cpchouston.org
SUMMARY:Worship Service
DESCRIPTION:Sunday Morning Schedule\n8:30 am Worship Service in Sanctuary & livestreamed here: Worship Livestream\n10:00 am Sunday School\n11:00 am Worship Service in Sanctuary
URL:https://cpchouston.org/event/test-for-feature/2025-12-14/
LOCATION:CPC\, 8300 Katy Fwy\, Houston\, TX\, 77024\, United States
ATTACH;FMTTYPE=image/png:https://cpchouston.org/wp-content/uploads/2021/09/In-Person-Worship-Events-2020.png
END:VEVENT
BEGIN:VEVENT
DTSTART;TZID=America/Chicago:20251214T083000
DTEND;TZID=America/Chicago:20251214T094500
DTSTAMP:20260420T230619
CREATED:20210916T150630Z
LAST-MODIFIED:20260128T214243Z
UID:18764-1765701000-1765705500@cpchouston.org
SUMMARY:Worship Service
DESCRIPTION:Sunday Morning Schedule\n8:30 am Worship Service in Sanctuary & livestreamed here: Worship Livestream\n10:00 am Sunday School\n11:00 am Worship Service in Sanctuary
URL:https://cpchouston.org/event/test-for-feature/2025-12-14/
LOCATION:CPC\, 8300 Katy Fwy\, Houston\, TX\, 77024\, United States
ATTACH;FMTTYPE=image/png:https://cpchouston.org/wp-content/uploads/2021/09/In-Person-Worship-Events-2020.png
END:VEVENT
BEGIN:VEVENT
DTSTART;TZID=America/Chicago:20251211T180000
DTEND;TZID=America/Chicago:20251211T203000
DTSTAMP:20260420T230619
CREATED:20251027T175208Z
LAST-MODIFIED:20260304T223909Z
UID:21733-1765476000-1765485000@cpchouston.org
SUMMARY:English Classes
DESCRIPTION:Christ Presbyterian Church welcomes our community for conversational English classes! \nClasses are free. Students need to purchase a book for $40. \nThursdays\, 6:00-8:30 pm\nSeptember 4\, 2025 through May 7\, 2026\nAll levels of English welcome! \nNew students are welcome every Thursday. \nPlease register using the link below. \nQuestions: Contact Axel Sotelo in the church office. \nRegister online: English Classes Registration
URL:https://cpchouston.org/event/english-classes-4/2025-12-11/
LOCATION:CPC\, 8300 Katy Fwy\, Houston\, TX\, 77024\, United States
CATEGORIES:ESL
ATTACH;FMTTYPE=image/png:https://cpchouston.org/wp-content/uploads/2024/08/English-Classes-Digital-2024-events.png
END:VEVENT
BEGIN:VEVENT
DTSTART;VALUE=DATE:20251211
DTEND;VALUE=DATE:20251214
DTSTAMP:20260420T230619
CREATED:20250918T161525Z
LAST-MODIFIED:20251209T153436Z
UID:21333-1765411200-1765670399@cpchouston.org
SUMMARY:Handel's Messiah
DESCRIPTION:The Concert Choir & Orchestra\, along with special guest soloists\, present Handel’s Messiah at 8 pm December 11\, 12 & 13\, 2025. \nFree general admission tickets will be available at 7 pm each evening for that evening’s performance. Please arrive early to claim your free tickets distributed on a first-come\, first-served basis. \nAs our twenty-first season unfolds\, we anticipate yet another wonderful experience for the Christmas season. The CPC choir and orchestra and special guest soloists will once again delight you with this special masterwork. Please join us for Handel’s Messiah\, which has become a wonderful tradition here at Christ Presbyterian Church in Houston. \nThis year’s Messiah performances feature our 17th century Flemish harpsichord once again. This authentic Flemish style single manual instrument after Ruckers as designed by Marc Ducornet with all parts and materials from Atelier Marc Ducornet in Paris\, was custom built by Gerald Self. \nIt is an honor to be able to present this wonderful masterwork. We hope our performances of Messiah continue to be a favorite Christmas tradition for many more people in our community. “For unto us a Child is born\, unto us a Son is given; and the government shall be upon His shoulder: and His name shall be called Wonderful\, Counselor\, The Mighty\, God\, The Everlasting Father\, The Prince Of Peace” (Isaiah 9:6). \nLearn more: Music & Worship
URL:https://cpchouston.org/event/handels-messiah-7/
LOCATION:CPC\, 8300 Katy Fwy\, Houston\, TX\, 77024\, United States
CATEGORIES:Featured Event,Music & Worship
ATTACH;FMTTYPE=image/png:https://cpchouston.org/wp-content/uploads/2025/09/Messiah-2025-Digital-events-2025.png
END:VEVENT
BEGIN:VEVENT
DTSTART;TZID=America/Chicago:20251210T193000
DTEND;TZID=America/Chicago:20251210T203000
DTSTAMP:20260420T230619
CREATED:20250731T191157Z
LAST-MODIFIED:20251119T185202Z
UID:21331-1765395000-1765398600@cpchouston.org
SUMMARY:Messiah Rehearsal
DESCRIPTION:Rehearsals for Handel’s Messiah are Wednesdays at 7:30 pm in the Sanctuary. Performances are December 11\, 12 & 13. Interested in joining the Concert Choir? Please contact BJ McDougal in the church office for information.
URL:https://cpchouston.org/event/messiah-rehearsal-5/2025-12-10/
LOCATION:CPC\, 8300 Katy Fwy\, Houston\, TX\, 77024\, United States
CATEGORIES:Music & Worship
ATTACH;FMTTYPE=image/jpeg:https://cpchouston.org/wp-content/uploads/2025/09/Messiah-rehearsals-Events.jpg
END:VEVENT
BEGIN:VEVENT
DTSTART;TZID=America/Chicago:20251210T120000
DTEND;TZID=America/Chicago:20251210T140000
DTSTAMP:20260420T230619
CREATED:20250910T193710Z
LAST-MODIFIED:20260302T221541Z
UID:21966-1765368000-1765375200@cpchouston.org
SUMMARY:Lessons & Laughter
DESCRIPTION:We make baby blankets for new babies and prayer shawls for those who are hospitalized and for the grieving. We also make scarves and lap blankets for “Eyes on Me” ministry. We meet Wednesdays at 12 pm in the SonRise Cafe for great fellowship and prayer time. \nIf you don’t already knit or crochet but would love to learn\, this is the place for you! If any questions\, contact the church office. \n 
URL:https://cpchouston.org/event/lessons-laughter-5/2025-12-10/
LOCATION:CPC\, 8300 Katy Fwy\, Houston\, TX\, 77024\, United States
CATEGORIES:Women
END:VEVENT
BEGIN:VEVENT
DTSTART;TZID=America/Chicago:20251207T123000
DTEND;TZID=America/Chicago:20251207T143000
DTSTAMP:20260420T230619
CREATED:20251023T181005Z
LAST-MODIFIED:20251030T150937Z
UID:21654-1765110600-1765117800@cpchouston.org
SUMMARY:Children's Ministry Christmas Party
DESCRIPTION:Let it snow!! Children of all ages\, 5th grade and under\, are invited to the Children’s Ministry Christmas Party on Sunday\, December 7\, from 12:30-2:30 pm. We will enjoy REAL snow\, cookies\, and hot chocolate. Lunch will be provided. Friends are welcome to join us for this fun event; we hope to see you there! \n\nParty RSVP
URL:https://cpchouston.org/event/childrens-ministry-christmas-party-3/
LOCATION:CPC\, 8300 Katy Fwy\, Houston\, TX\, 77024\, United States
CATEGORIES:Children,Christmas,Featured Event
ATTACH;FMTTYPE=image/png:https://cpchouston.org/wp-content/uploads/2025/10/Childrens-Christmas-Party-2025-Events.png
END:VEVENT
BEGIN:VEVENT
DTSTART;TZID=America/Chicago:20251207T110000
DTEND;TZID=America/Chicago:20251207T121500
DTSTAMP:20260420T230619
CREATED:20210916T150630Z
LAST-MODIFIED:20260128T214242Z
UID:18705-1765105200-1765109700@cpchouston.org
SUMMARY:Worship Service
DESCRIPTION:Sunday Morning Schedule\n8:30 am Worship Service in Sanctuary & livestreamed here: Worship Livestream\n10:00 am Sunday School\n11:00 am Worship Service in Sanctuary
URL:https://cpchouston.org/event/test-for-feature/2025-12-07/
LOCATION:CPC\, 8300 Katy Fwy\, Houston\, TX\, 77024\, United States
ATTACH;FMTTYPE=image/png:https://cpchouston.org/wp-content/uploads/2021/09/In-Person-Worship-Events-2020.png
END:VEVENT
BEGIN:VEVENT
DTSTART;TZID=America/Chicago:20251207T083000
DTEND;TZID=America/Chicago:20251207T094500
DTSTAMP:20260420T230619
CREATED:20210916T150630Z
LAST-MODIFIED:20260128T214241Z
UID:18704-1765096200-1765100700@cpchouston.org
SUMMARY:Worship Service
DESCRIPTION:Sunday Morning Schedule\n8:30 am Worship Service in Sanctuary & livestreamed here: Worship Livestream\n10:00 am Sunday School\n11:00 am Worship Service in Sanctuary
URL:https://cpchouston.org/event/test-for-feature/2025-12-07/
LOCATION:CPC\, 8300 Katy Fwy\, Houston\, TX\, 77024\, United States
ATTACH;FMTTYPE=image/png:https://cpchouston.org/wp-content/uploads/2021/09/In-Person-Worship-Events-2020.png
END:VEVENT
BEGIN:VEVENT
DTSTART;TZID=America/Chicago:20251205T183000
DTEND;TZID=America/Chicago:20251205T210000
DTSTAMP:20260420T230619
CREATED:20251030T151135Z
LAST-MODIFIED:20251031T192549Z
UID:21762-1764959400-1764968400@cpchouston.org
SUMMARY:Family Ministry Christmas Party
DESCRIPTION:Families\, you are invited to CPC’s annual Family Ministry Christmas Party on Friday\, December 5\, 6:30-9:00 pm! Enjoy a delicious meal and fellowship with friends at the home of Molly and O’Banion Williams. \nChildcare will be provided for children in 5th grade and younger\, at CPC. You may drop-off your children beginning at 6:00 pm and head over to the Williams’ home to join the party! \n					\n									Party RSVP
URL:https://cpchouston.org/event/family-ministry-christmas-party-3/
LOCATION:Off-Campus\, Houston\, United States
CATEGORIES:Christmas,Families
ATTACH;FMTTYPE=image/png:https://cpchouston.org/wp-content/uploads/2024/11/Family-Ministry-Christmas-Party-2024-Digital-Events-1.png
END:VEVENT
BEGIN:VEVENT
DTSTART;TZID=America/Chicago:20251204T180000
DTEND;TZID=America/Chicago:20251204T203000
DTSTAMP:20260420T230619
CREATED:20251027T175208Z
LAST-MODIFIED:20260304T223907Z
UID:21732-1764871200-1764880200@cpchouston.org
SUMMARY:English Classes
DESCRIPTION:Christ Presbyterian Church welcomes our community for conversational English classes! \nClasses are free. Students need to purchase a book for $40. \nThursdays\, 6:00-8:30 pm\nSeptember 4\, 2025 through May 7\, 2026\nAll levels of English welcome! \nNew students are welcome every Thursday. \nPlease register using the link below. \nQuestions: Contact Axel Sotelo in the church office. \nRegister online: English Classes Registration
URL:https://cpchouston.org/event/english-classes-4/2025-12-04/
LOCATION:CPC\, 8300 Katy Fwy\, Houston\, TX\, 77024\, United States
CATEGORIES:ESL
ATTACH;FMTTYPE=image/png:https://cpchouston.org/wp-content/uploads/2024/08/English-Classes-Digital-2024-events.png
END:VEVENT
BEGIN:VEVENT
DTSTART;TZID=America/Chicago:20251203T193000
DTEND;TZID=America/Chicago:20251203T203000
DTSTAMP:20260420T230619
CREATED:20250731T191157Z
LAST-MODIFIED:20251119T185202Z
UID:21330-1764790200-1764793800@cpchouston.org
SUMMARY:Messiah Rehearsal
DESCRIPTION:Rehearsals for Handel’s Messiah are Wednesdays at 7:30 pm in the Sanctuary. Performances are December 11\, 12 & 13. Interested in joining the Concert Choir? Please contact BJ McDougal in the church office for information.
URL:https://cpchouston.org/event/messiah-rehearsal-5/2025-12-03/
LOCATION:CPC\, 8300 Katy Fwy\, Houston\, TX\, 77024\, United States
CATEGORIES:Music & Worship
ATTACH;FMTTYPE=image/jpeg:https://cpchouston.org/wp-content/uploads/2025/09/Messiah-rehearsals-Events.jpg
END:VEVENT
BEGIN:VEVENT
DTSTART;TZID=America/Chicago:20251203T183000
DTEND;TZID=America/Chicago:20251203T200000
DTSTAMP:20260420T230619
CREATED:20250731T190942Z
LAST-MODIFIED:20251119T185128Z
UID:20742-1764786600-1764792000@cpchouston.org
SUMMARY:Choir Rehearsal
DESCRIPTION:The Worship Choir needs voices this fall! Come be part of leading our congregation in worship. We rehearse Wednesday nights at 6:30 pm in the Sanctuary. Our church has a rich history of choral singing\, and you can be a part of this important ministry here at CPC. Learn more by contacting the church office.
URL:https://cpchouston.org/event/choir-rehearsal-7/2025-12-03/
LOCATION:CPC\, 8300 Katy Fwy\, Houston\, TX\, 77024\, United States
CATEGORIES:Music & Worship
ATTACH;FMTTYPE=image/png:https://cpchouston.org/wp-content/uploads/2022/10/Worship-Choir-08-2022-EVENTS.png
END:VEVENT
BEGIN:VEVENT
DTSTART;TZID=America/Chicago:20251203T120000
DTEND;TZID=America/Chicago:20251203T140000
DTSTAMP:20260420T230619
CREATED:20250910T193710Z
LAST-MODIFIED:20260302T221540Z
UID:21965-1764763200-1764770400@cpchouston.org
SUMMARY:Lessons & Laughter
DESCRIPTION:We make baby blankets for new babies and prayer shawls for those who are hospitalized and for the grieving. We also make scarves and lap blankets for “Eyes on Me” ministry. We meet Wednesdays at 12 pm in the SonRise Cafe for great fellowship and prayer time. \nIf you don’t already knit or crochet but would love to learn\, this is the place for you! If any questions\, contact the church office. \n 
URL:https://cpchouston.org/event/lessons-laughter-5/2025-12-03/
LOCATION:CPC\, 8300 Katy Fwy\, Houston\, TX\, 77024\, United States
CATEGORIES:Women
END:VEVENT
BEGIN:VEVENT
DTSTART;TZID=America/Chicago:20251130T110000
DTEND;TZID=America/Chicago:20251130T121500
DTSTAMP:20260420T230619
CREATED:20210916T150630Z
LAST-MODIFIED:20260128T214240Z
UID:18655-1764500400-1764504900@cpchouston.org
SUMMARY:Worship Service
DESCRIPTION:Sunday Morning Schedule\n8:30 am Worship Service in Sanctuary & livestreamed here: Worship Livestream\n10:00 am Sunday School\n11:00 am Worship Service in Sanctuary
URL:https://cpchouston.org/event/test-for-feature/2025-11-30/
LOCATION:CPC\, 8300 Katy Fwy\, Houston\, TX\, 77024\, United States
ATTACH;FMTTYPE=image/png:https://cpchouston.org/wp-content/uploads/2021/09/In-Person-Worship-Events-2020.png
END:VEVENT
BEGIN:VEVENT
DTSTART;TZID=America/Chicago:20251130T083000
DTEND;TZID=America/Chicago:20251130T094500
DTSTAMP:20260420T230619
CREATED:20210916T150630Z
LAST-MODIFIED:20260128T214239Z
UID:18654-1764491400-1764495900@cpchouston.org
SUMMARY:Worship Service
DESCRIPTION:Sunday Morning Schedule\n8:30 am Worship Service in Sanctuary & livestreamed here: Worship Livestream\n10:00 am Sunday School\n11:00 am Worship Service in Sanctuary
URL:https://cpchouston.org/event/test-for-feature/2025-11-30/
LOCATION:CPC\, 8300 Katy Fwy\, Houston\, TX\, 77024\, United States
ATTACH;FMTTYPE=image/png:https://cpchouston.org/wp-content/uploads/2021/09/In-Person-Worship-Events-2020.png
END:VEVENT
END:VCALENDAR