BEGIN:VCALENDAR
VERSION:2.0
PRODID:-//Christ Presbyterian Church of Houston - ECPv6.15.20//NONSGML v1.0//EN
CALSCALE:GREGORIAN
METHOD:PUBLISH
X-ORIGINAL-URL:https://cpchouston.org
X-WR-CALDESC:Events for Christ Presbyterian Church of Houston
REFRESH-INTERVAL;VALUE=DURATION:PT1H
X-Robots-Tag:noindex
X-PUBLISHED-TTL:PT1H
BEGIN:VTIMEZONE
TZID:America/Chicago
BEGIN:DAYLIGHT
TZOFFSETFROM:-0600
TZOFFSETTO:-0500
TZNAME:CDT
DTSTART:20240310T080000
END:DAYLIGHT
BEGIN:STANDARD
TZOFFSETFROM:-0500
TZOFFSETTO:-0600
TZNAME:CST
DTSTART:20241103T070000
END:STANDARD
BEGIN:DAYLIGHT
TZOFFSETFROM:-0600
TZOFFSETTO:-0500
TZNAME:CDT
DTSTART:20250309T080000
END:DAYLIGHT
BEGIN:STANDARD
TZOFFSETFROM:-0500
TZOFFSETTO:-0600
TZNAME:CST
DTSTART:20251102T070000
END:STANDARD
BEGIN:DAYLIGHT
TZOFFSETFROM:-0600
TZOFFSETTO:-0500
TZNAME:CDT
DTSTART:20260308T080000
END:DAYLIGHT
BEGIN:STANDARD
TZOFFSETFROM:-0500
TZOFFSETTO:-0600
TZNAME:CST
DTSTART:20261101T070000
END:STANDARD
END:VTIMEZONE
BEGIN:VEVENT
DTSTART;TZID=America/Chicago:20251105T093000
DTEND;TZID=America/Chicago:20251105T110000
DTSTAMP:20260424T163714
CREATED:20250731T200036Z
LAST-MODIFIED:20260108T170758Z
UID:20772-1762335000-1762340400@cpchouston.org
SUMMARY:Women's Bible Study
DESCRIPTION:Fall 2025/Spring 2026 \nJudges & Romans: Ruined to Righteous \nJoin Mikie Bellis and the women of CPC for our study of Judges & Romans. \nWeekly lessons are provided free of charge\, and weekly lectures are presented live on Wednesday mornings. The podcast is posted on Tuesdays and the lecture audio is posted on the CPC website on Wednesday afternoons here: Women’s Bible Study. \nSchedule: Small group discussion of the lecture and lesson is offered: \n\nWednesdays from 9:30-11 am at CPC (lunch served at 11 am)\nOnline-only small groups meets on Tuesdays from 7-8 pm and Wednesdays from 1:30-2:30 pm\n\nChildcare \n\nOn Wednesdays\, we offer an enhanced children’s Bible study focusing on the truths of the women’s weekly lessons. Childcare will be provided through lunch\, until 12:00. Women are encouraged to stay for lunch to develop deeper relationships with one another while your children eat lunch with their friends. Childcare is provided for children in 5th grade and under. If you have a homeschool student older than 5th grade\, please contact Angela Ikard for details about our homeschool room. \nRegister online: Women’s Bible Study Registration
URL:https://cpchouston.org/event/womens-bible-study-6/2025-11-05/
LOCATION:CPC\, 8300 Katy Fwy\, Houston\, TX\, 77024\, United States
CATEGORIES:Women
ATTACH;FMTTYPE=image/png:https://cpchouston.org/wp-content/uploads/2022/08/Womens-Bible-Study-2022-2023-Events.png
END:VEVENT
BEGIN:VEVENT
DTSTART;TZID=America/Chicago:20251105T120000
DTEND;TZID=America/Chicago:20251105T140000
DTSTAMP:20260424T163714
CREATED:20250910T193710Z
LAST-MODIFIED:20260302T221538Z
UID:21245-1762344000-1762351200@cpchouston.org
SUMMARY:Lessons & Laughter
DESCRIPTION:We make baby blankets for new babies and prayer shawls for those who are hospitalized and for the grieving. We also make scarves and lap blankets for “Eyes on Me” ministry. We meet Wednesdays at 12 pm in the SonRise Cafe for great fellowship and prayer time. \nIf you don’t already knit or crochet but would love to learn\, this is the place for you! If any questions\, contact the church office. \n 
URL:https://cpchouston.org/event/lessons-laughter-5/2025-11-05/
LOCATION:CPC\, 8300 Katy Fwy\, Houston\, TX\, 77024\, United States
CATEGORIES:Women
END:VEVENT
BEGIN:VEVENT
DTSTART;TZID=America/Chicago:20251107T190000
DTEND;TZID=America/Chicago:20251107T203000
DTSTAMP:20260424T163714
CREATED:20251008T144624Z
LAST-MODIFIED:20251009T221706Z
UID:21491-1762542000-1762547400@cpchouston.org
SUMMARY:Women's Hymn Sing
DESCRIPTION:Join the women of Christ Pres in an evening of singing hymns & joining together in fellowship. We will meet at the home of Mikie and Steve Bellis at 7 on Friday\, November 7. Please bring an appetizer or dessert to share\, but if you are in a pinch just bring yourself (and your friends)! \nStreet parking is available\, but please arrive early if you need to park close. \n\nRSVP
URL:https://cpchouston.org/event/womens-hymn-sing/
LOCATION:Off-Campus\, Houston\, United States
CATEGORIES:Featured Event,Women
ATTACH;FMTTYPE=image/png:https://cpchouston.org/wp-content/uploads/2025/10/WIM-Hymn-Sing-11-2025-events.png
END:VEVENT
BEGIN:VEVENT
DTSTART;TZID=America/Chicago:20251112T093000
DTEND;TZID=America/Chicago:20251112T110000
DTSTAMP:20260424T163714
CREATED:20250731T200036Z
LAST-MODIFIED:20260108T170759Z
UID:20773-1762939800-1762945200@cpchouston.org
SUMMARY:Women's Bible Study
DESCRIPTION:Fall 2025/Spring 2026 \nJudges & Romans: Ruined to Righteous \nJoin Mikie Bellis and the women of CPC for our study of Judges & Romans. \nWeekly lessons are provided free of charge\, and weekly lectures are presented live on Wednesday mornings. The podcast is posted on Tuesdays and the lecture audio is posted on the CPC website on Wednesday afternoons here: Women’s Bible Study. \nSchedule: Small group discussion of the lecture and lesson is offered: \n\nWednesdays from 9:30-11 am at CPC (lunch served at 11 am)\nOnline-only small groups meets on Tuesdays from 7-8 pm and Wednesdays from 1:30-2:30 pm\n\nChildcare \n\nOn Wednesdays\, we offer an enhanced children’s Bible study focusing on the truths of the women’s weekly lessons. Childcare will be provided through lunch\, until 12:00. Women are encouraged to stay for lunch to develop deeper relationships with one another while your children eat lunch with their friends. Childcare is provided for children in 5th grade and under. If you have a homeschool student older than 5th grade\, please contact Angela Ikard for details about our homeschool room. \nRegister online: Women’s Bible Study Registration
URL:https://cpchouston.org/event/womens-bible-study-6/2025-11-12/
LOCATION:CPC\, 8300 Katy Fwy\, Houston\, TX\, 77024\, United States
CATEGORIES:Women
ATTACH;FMTTYPE=image/png:https://cpchouston.org/wp-content/uploads/2022/08/Womens-Bible-Study-2022-2023-Events.png
END:VEVENT
BEGIN:VEVENT
DTSTART;TZID=America/Chicago:20251112T113000
DTEND;TZID=America/Chicago:20251112T120000
DTSTAMP:20260424T163714
CREATED:20250911T201330Z
LAST-MODIFIED:20250911T214745Z
UID:21274-1762947000-1762948800@cpchouston.org
SUMMARY:Women's Ministry Prayer Meeting
DESCRIPTION:Please join us for our Women’s Ministry Prayer Meeting on Wednesday\, September 24\, 11:30 am to 12 noon\, in Main Building Room 212 following the Women’s Bible Study. Learn more about Women’s Ministry at CPC.
URL:https://cpchouston.org/event/womens-ministry-prayer-meeting-3/2025-11-12/
LOCATION:CPC\, 8300 Katy Fwy\, Houston\, TX\, 77024\, United States
CATEGORIES:Women
ATTACH;FMTTYPE=image/png:https://cpchouston.org/wp-content/uploads/2025/09/WIM-Prayer-Meeting-2025.png
END:VEVENT
BEGIN:VEVENT
DTSTART;TZID=America/Chicago:20251112T120000
DTEND;TZID=America/Chicago:20251112T140000
DTSTAMP:20260424T163714
CREATED:20250910T193710Z
LAST-MODIFIED:20260302T221539Z
UID:21246-1762948800-1762956000@cpchouston.org
SUMMARY:Lessons & Laughter
DESCRIPTION:We make baby blankets for new babies and prayer shawls for those who are hospitalized and for the grieving. We also make scarves and lap blankets for “Eyes on Me” ministry. We meet Wednesdays at 12 pm in the SonRise Cafe for great fellowship and prayer time. \nIf you don’t already knit or crochet but would love to learn\, this is the place for you! If any questions\, contact the church office. \n 
URL:https://cpchouston.org/event/lessons-laughter-5/2025-11-12/
LOCATION:CPC\, 8300 Katy Fwy\, Houston\, TX\, 77024\, United States
CATEGORIES:Women
END:VEVENT
END:VCALENDAR