BEGIN:VCALENDAR
VERSION:2.0
PRODID:-//Christ Presbyterian Church of Houston - ECPv6.15.20//NONSGML v1.0//EN
CALSCALE:GREGORIAN
METHOD:PUBLISH
X-ORIGINAL-URL:https://cpchouston.org
X-WR-CALDESC:Events for Christ Presbyterian Church of Houston
REFRESH-INTERVAL;VALUE=DURATION:PT1H
X-Robots-Tag:noindex
X-PUBLISHED-TTL:PT1H
BEGIN:VTIMEZONE
TZID:America/Chicago
BEGIN:DAYLIGHT
TZOFFSETFROM:-0600
TZOFFSETTO:-0500
TZNAME:CDT
DTSTART:20250309T080000
END:DAYLIGHT
BEGIN:STANDARD
TZOFFSETFROM:-0500
TZOFFSETTO:-0600
TZNAME:CST
DTSTART:20251102T070000
END:STANDARD
BEGIN:DAYLIGHT
TZOFFSETFROM:-0600
TZOFFSETTO:-0500
TZNAME:CDT
DTSTART:20260308T080000
END:DAYLIGHT
BEGIN:STANDARD
TZOFFSETFROM:-0500
TZOFFSETTO:-0600
TZNAME:CST
DTSTART:20261101T070000
END:STANDARD
BEGIN:DAYLIGHT
TZOFFSETFROM:-0600
TZOFFSETTO:-0500
TZNAME:CDT
DTSTART:20270314T080000
END:DAYLIGHT
BEGIN:STANDARD
TZOFFSETFROM:-0500
TZOFFSETTO:-0600
TZNAME:CST
DTSTART:20271107T070000
END:STANDARD
END:VTIMEZONE
BEGIN:VEVENT
DTSTART;TZID=America/Chicago:20260210T064500
DTEND;TZID=America/Chicago:20260210T074500
DTSTAMP:20260422T172526
CREATED:20251222T155103Z
LAST-MODIFIED:20260409T152016Z
UID:22260-1770705900-1770709500@cpchouston.org
SUMMARY:Men's Bible Study
DESCRIPTION:Men\, please join us for our Men’s Bible Study on The Life of David led by Pastor Richard Harris! Pastor Harris will lead this time of teaching and small group discussion Tuesday mornings\, 6:45-7:45 AM\, in the Chapel. Breakfast is included. See you there 								\n				\n				\n				\n									\n					\n						\n									Bible Study Registration
URL:https://cpchouston.org/event/mens-bible-study-8/2026-02-10/
LOCATION:CPC\, 8300 Katy Fwy\, Houston\, TX\, 77024\, United States
CATEGORIES:Men
ATTACH;FMTTYPE=image/png:https://cpchouston.org/wp-content/uploads/2025/08/Mens-Bible-Study-Events-1.png
END:VEVENT
BEGIN:VEVENT
DTSTART;TZID=America/Chicago:20260217T064500
DTEND;TZID=America/Chicago:20260217T074500
DTSTAMP:20260422T172526
CREATED:20251222T155103Z
LAST-MODIFIED:20260409T152022Z
UID:22360-1771310700-1771314300@cpchouston.org
SUMMARY:Men's Bible Study
DESCRIPTION:Men\, please join us for our Men’s Bible Study on The Life of David led by Pastor Richard Harris! Pastor Harris will lead this time of teaching and small group discussion Tuesday mornings\, 6:45-7:45 AM\, in the Chapel. Breakfast is included. See you there 								\n				\n				\n				\n									\n					\n						\n									Bible Study Registration
URL:https://cpchouston.org/event/mens-bible-study-8/2026-02-17/
LOCATION:CPC\, 8300 Katy Fwy\, Houston\, TX\, 77024\, United States
CATEGORIES:Men
ATTACH;FMTTYPE=image/png:https://cpchouston.org/wp-content/uploads/2025/08/Mens-Bible-Study-Events-1.png
END:VEVENT
BEGIN:VEVENT
DTSTART;TZID=America/Chicago:20260220T183000
DTEND;TZID=America/Chicago:20260220T220000
DTSTAMP:20260422T172526
CREATED:20260122T213505Z
LAST-MODIFIED:20260122T213505Z
UID:22514-1771612200-1771624800@cpchouston.org
SUMMARY:Men's Steak Night
DESCRIPTION:Men\, please join us for our Men’s Bible Study on The Life of David led by Pastor Richard Harris! Pastor Harris will lead this time of teaching and small group discussion Tuesday mornings\, 6:45-7:45 AM\, in the Chapel. Breakfast is included. See you there 								\n				\n				\n				\n									\n					\n						\n									Bible Study Registration
URL:https://cpchouston.org/event/mens-steak-night-6/
LOCATION:Off-Campus\, Houston\, United States
CATEGORIES:Featured Event,Men
ATTACH;FMTTYPE=image/png:https://cpchouston.org/wp-content/uploads/2025/08/Steak-Night-Events.png
END:VEVENT
BEGIN:VEVENT
DTSTART;TZID=America/Chicago:20260224T064500
DTEND;TZID=America/Chicago:20260224T074500
DTSTAMP:20260422T172526
CREATED:20251222T155103Z
LAST-MODIFIED:20260409T152025Z
UID:22361-1771915500-1771919100@cpchouston.org
SUMMARY:Men's Bible Study
DESCRIPTION:Men\, please join us for our Men’s Bible Study on The Life of David led by Pastor Richard Harris! Pastor Harris will lead this time of teaching and small group discussion Tuesday mornings\, 6:45-7:45 AM\, in the Chapel. Breakfast is included. See you there 								\n				\n				\n				\n									\n					\n						\n									Bible Study Registration
URL:https://cpchouston.org/event/mens-bible-study-8/2026-02-24/
LOCATION:CPC\, 8300 Katy Fwy\, Houston\, TX\, 77024\, United States
CATEGORIES:Men
ATTACH;FMTTYPE=image/png:https://cpchouston.org/wp-content/uploads/2025/08/Mens-Bible-Study-Events-1.png
END:VEVENT
BEGIN:VEVENT
DTSTART;TZID=America/Chicago:20260303T064500
DTEND;TZID=America/Chicago:20260303T074500
DTSTAMP:20260422T172526
CREATED:20251222T155103Z
LAST-MODIFIED:20260409T152027Z
UID:22362-1772520300-1772523900@cpchouston.org
SUMMARY:Men's Bible Study
DESCRIPTION:Men\, please join us for our Men’s Bible Study on The Life of David led by Pastor Richard Harris! Pastor Harris will lead this time of teaching and small group discussion Tuesday mornings\, 6:45-7:45 AM\, in the Chapel. Breakfast is included. See you there 								\n				\n				\n				\n									\n					\n						\n									Bible Study Registration
URL:https://cpchouston.org/event/mens-bible-study-8/2026-03-03/
LOCATION:CPC\, 8300 Katy Fwy\, Houston\, TX\, 77024\, United States
CATEGORIES:Men
ATTACH;FMTTYPE=image/png:https://cpchouston.org/wp-content/uploads/2025/08/Mens-Bible-Study-Events-1.png
END:VEVENT
BEGIN:VEVENT
DTSTART;TZID=America/Chicago:20260310T064500
DTEND;TZID=America/Chicago:20260310T074500
DTSTAMP:20260422T172526
CREATED:20251222T155103Z
LAST-MODIFIED:20260409T152029Z
UID:22363-1773125100-1773128700@cpchouston.org
SUMMARY:Men's Bible Study
DESCRIPTION:Men\, please join us for our Men’s Bible Study on The Life of David led by Pastor Richard Harris! Pastor Harris will lead this time of teaching and small group discussion Tuesday mornings\, 6:45-7:45 AM\, in the Chapel. Breakfast is included. See you there 								\n				\n				\n				\n									\n					\n						\n									Bible Study Registration
URL:https://cpchouston.org/event/mens-bible-study-8/2026-03-10/
LOCATION:CPC\, 8300 Katy Fwy\, Houston\, TX\, 77024\, United States
CATEGORIES:Men
ATTACH;FMTTYPE=image/png:https://cpchouston.org/wp-content/uploads/2025/08/Mens-Bible-Study-Events-1.png
END:VEVENT
BEGIN:VEVENT
DTSTART;TZID=America/Chicago:20260317T064500
DTEND;TZID=America/Chicago:20260317T074500
DTSTAMP:20260422T172526
CREATED:20251222T155103Z
LAST-MODIFIED:20260409T152032Z
UID:22364-1773729900-1773733500@cpchouston.org
SUMMARY:Men's Bible Study
DESCRIPTION:Men\, please join us for our Men’s Bible Study on The Life of David led by Pastor Richard Harris! Pastor Harris will lead this time of teaching and small group discussion Tuesday mornings\, 6:45-7:45 AM\, in the Chapel. Breakfast is included. See you there 								\n				\n				\n				\n									\n					\n						\n									Bible Study Registration
URL:https://cpchouston.org/event/mens-bible-study-8/2026-03-17/
LOCATION:CPC\, 8300 Katy Fwy\, Houston\, TX\, 77024\, United States
CATEGORIES:Men
ATTACH;FMTTYPE=image/png:https://cpchouston.org/wp-content/uploads/2025/08/Mens-Bible-Study-Events-1.png
END:VEVENT
BEGIN:VEVENT
DTSTART;TZID=America/Chicago:20260324T064500
DTEND;TZID=America/Chicago:20260324T074500
DTSTAMP:20260422T172526
CREATED:20251222T155103Z
LAST-MODIFIED:20260409T152034Z
UID:22365-1774334700-1774338300@cpchouston.org
SUMMARY:Men's Bible Study
DESCRIPTION:Men\, please join us for our Men’s Bible Study on The Life of David led by Pastor Richard Harris! Pastor Harris will lead this time of teaching and small group discussion Tuesday mornings\, 6:45-7:45 AM\, in the Chapel. Breakfast is included. See you there 								\n				\n				\n				\n									\n					\n						\n									Bible Study Registration
URL:https://cpchouston.org/event/mens-bible-study-8/2026-03-24/
LOCATION:CPC\, 8300 Katy Fwy\, Houston\, TX\, 77024\, United States
CATEGORIES:Men
ATTACH;FMTTYPE=image/png:https://cpchouston.org/wp-content/uploads/2025/08/Mens-Bible-Study-Events-1.png
END:VEVENT
BEGIN:VEVENT
DTSTART;TZID=America/Chicago:20260331T064500
DTEND;TZID=America/Chicago:20260331T074500
DTSTAMP:20260422T172526
CREATED:20251222T155103Z
LAST-MODIFIED:20251222T155103Z
UID:23159-1774939500-1774943100@cpchouston.org
SUMMARY:Men's Bible Study
DESCRIPTION:Men\, please join us for our Men’s Bible Study on The Life of David led by Pastor Richard Harris! Pastor Harris will lead this time of teaching and small group discussion Tuesday mornings\, 6:45-7:45 AM\, in the Chapel. Breakfast is included. See you there 								\n				\n				\n				\n									\n					\n						\n									Bible Study Registration
URL:https://cpchouston.org/event/mens-bible-study-8/2026-03-31/
LOCATION:CPC\, 8300 Katy Fwy\, Houston\, TX\, 77024\, United States
CATEGORIES:Men
ATTACH;FMTTYPE=image/png:https://cpchouston.org/wp-content/uploads/2025/08/Mens-Bible-Study-Events-1.png
END:VEVENT
BEGIN:VEVENT
DTSTART;TZID=America/Chicago:20260407T064500
DTEND;TZID=America/Chicago:20260407T074500
DTSTAMP:20260422T172526
CREATED:20251222T155103Z
LAST-MODIFIED:20251222T155103Z
UID:23160-1775544300-1775547900@cpchouston.org
SUMMARY:Men's Bible Study
DESCRIPTION:Men\, please join us for our Men’s Bible Study on The Life of David led by Pastor Richard Harris! Pastor Harris will lead this time of teaching and small group discussion Tuesday mornings\, 6:45-7:45 AM\, in the Chapel. Breakfast is included. See you there 								\n				\n				\n				\n									\n					\n						\n									Bible Study Registration
URL:https://cpchouston.org/event/mens-bible-study-8/2026-04-07/
LOCATION:CPC\, 8300 Katy Fwy\, Houston\, TX\, 77024\, United States
CATEGORIES:Men
ATTACH;FMTTYPE=image/png:https://cpchouston.org/wp-content/uploads/2025/08/Mens-Bible-Study-Events-1.png
END:VEVENT
BEGIN:VEVENT
DTSTART;TZID=America/Chicago:20260414T064500
DTEND;TZID=America/Chicago:20260414T074500
DTSTAMP:20260422T172526
CREATED:20251222T155103Z
LAST-MODIFIED:20251222T155103Z
UID:23161-1776149100-1776152700@cpchouston.org
SUMMARY:Men's Bible Study
DESCRIPTION:Men\, please join us for our Men’s Bible Study on The Life of David led by Pastor Richard Harris! Pastor Harris will lead this time of teaching and small group discussion Tuesday mornings\, 6:45-7:45 AM\, in the Chapel. Breakfast is included. See you there 								\n				\n				\n				\n									\n					\n						\n									Bible Study Registration
URL:https://cpchouston.org/event/mens-bible-study-8/2026-04-14/
LOCATION:CPC\, 8300 Katy Fwy\, Houston\, TX\, 77024\, United States
CATEGORIES:Men
ATTACH;FMTTYPE=image/png:https://cpchouston.org/wp-content/uploads/2025/08/Mens-Bible-Study-Events-1.png
END:VEVENT
BEGIN:VEVENT
DTSTART;TZID=America/Chicago:20260421T064500
DTEND;TZID=America/Chicago:20260421T074500
DTSTAMP:20260422T172526
CREATED:20251222T155103Z
LAST-MODIFIED:20251222T155103Z
UID:23162-1776753900-1776757500@cpchouston.org
SUMMARY:Men's Bible Study
DESCRIPTION:Men\, please join us for our Men’s Bible Study on The Life of David led by Pastor Richard Harris! Pastor Harris will lead this time of teaching and small group discussion Tuesday mornings\, 6:45-7:45 AM\, in the Chapel. Breakfast is included. See you there 								\n				\n				\n				\n									\n					\n						\n									Bible Study Registration
URL:https://cpchouston.org/event/mens-bible-study-8/2026-04-21/
LOCATION:CPC\, 8300 Katy Fwy\, Houston\, TX\, 77024\, United States
CATEGORIES:Men
ATTACH;FMTTYPE=image/png:https://cpchouston.org/wp-content/uploads/2025/08/Mens-Bible-Study-Events-1.png
END:VEVENT
END:VCALENDAR