BEGIN:VCALENDAR
VERSION:2.0
PRODID:-//Christ Presbyterian Church of Houston - ECPv6.15.20//NONSGML v1.0//EN
CALSCALE:GREGORIAN
METHOD:PUBLISH
X-ORIGINAL-URL:https://cpchouston.org
X-WR-CALDESC:Events for Christ Presbyterian Church of Houston
REFRESH-INTERVAL;VALUE=DURATION:PT1H
X-Robots-Tag:noindex
X-PUBLISHED-TTL:PT1H
BEGIN:VTIMEZONE
TZID:America/Chicago
BEGIN:DAYLIGHT
TZOFFSETFROM:-0600
TZOFFSETTO:-0500
TZNAME:CDT
DTSTART:20230312T080000
END:DAYLIGHT
BEGIN:STANDARD
TZOFFSETFROM:-0500
TZOFFSETTO:-0600
TZNAME:CST
DTSTART:20231105T070000
END:STANDARD
BEGIN:DAYLIGHT
TZOFFSETFROM:-0600
TZOFFSETTO:-0500
TZNAME:CDT
DTSTART:20240310T080000
END:DAYLIGHT
BEGIN:STANDARD
TZOFFSETFROM:-0500
TZOFFSETTO:-0600
TZNAME:CST
DTSTART:20241103T070000
END:STANDARD
BEGIN:DAYLIGHT
TZOFFSETFROM:-0600
TZOFFSETTO:-0500
TZNAME:CDT
DTSTART:20250309T080000
END:DAYLIGHT
BEGIN:STANDARD
TZOFFSETFROM:-0500
TZOFFSETTO:-0600
TZNAME:CST
DTSTART:20251102T070000
END:STANDARD
BEGIN:DAYLIGHT
TZOFFSETFROM:-0600
TZOFFSETTO:-0500
TZNAME:CDT
DTSTART:20260308T080000
END:DAYLIGHT
BEGIN:STANDARD
TZOFFSETFROM:-0500
TZOFFSETTO:-0600
TZNAME:CST
DTSTART:20261101T070000
END:STANDARD
END:VTIMEZONE
BEGIN:VEVENT
DTSTART;TZID=America/Chicago:20251111T064500
DTEND;TZID=America/Chicago:20251111T074500
DTSTAMP:20260419T074234
CREATED:20250813T151707Z
LAST-MODIFIED:20250813T151949Z
UID:20901-1762843500-1762847100@cpchouston.org
SUMMARY:Men's Bible Study
DESCRIPTION:The Men’s Bible Study returns this fall on Tuesday\, September 2\, 6:45 – 7:45 am in the Chapel. Breakfast tacos will be served\, and Ministry Staff along with seminarians will be teaching through the Psalms. 								\n				\n				\n				\n									\n					\n						\n									Bible Study Registration
URL:https://cpchouston.org/event/mens-bible-study-7/2025-11-11/
LOCATION:CPC\, 8300 Katy Fwy\, Houston\, TX\, 77024\, United States
CATEGORIES:Bible Study,Men
ATTACH;FMTTYPE=image/png:https://cpchouston.org/wp-content/uploads/2025/08/Mens-Bible-Study-Events-1.png
END:VEVENT
BEGIN:VEVENT
DTSTART;TZID=America/Chicago:20251104T064500
DTEND;TZID=America/Chicago:20251104T074500
DTSTAMP:20260419T074234
CREATED:20250813T151707Z
LAST-MODIFIED:20250813T151948Z
UID:20900-1762238700-1762242300@cpchouston.org
SUMMARY:Men's Bible Study
DESCRIPTION:The Men’s Bible Study returns this fall on Tuesday\, September 2\, 6:45 – 7:45 am in the Chapel. Breakfast tacos will be served\, and Ministry Staff along with seminarians will be teaching through the Psalms. 								\n				\n				\n				\n									\n					\n						\n									Bible Study Registration
URL:https://cpchouston.org/event/mens-bible-study-7/2025-11-04/
LOCATION:CPC\, 8300 Katy Fwy\, Houston\, TX\, 77024\, United States
CATEGORIES:Bible Study,Men
ATTACH;FMTTYPE=image/png:https://cpchouston.org/wp-content/uploads/2025/08/Mens-Bible-Study-Events-1.png
END:VEVENT
BEGIN:VEVENT
DTSTART;TZID=America/Chicago:20251028T064500
DTEND;TZID=America/Chicago:20251028T074500
DTSTAMP:20260419T074234
CREATED:20250813T151707Z
LAST-MODIFIED:20250813T151948Z
UID:20899-1761633900-1761637500@cpchouston.org
SUMMARY:Men's Bible Study
DESCRIPTION:The Men’s Bible Study returns this fall on Tuesday\, September 2\, 6:45 – 7:45 am in the Chapel. Breakfast tacos will be served\, and Ministry Staff along with seminarians will be teaching through the Psalms. 								\n				\n				\n				\n									\n					\n						\n									Bible Study Registration
URL:https://cpchouston.org/event/mens-bible-study-7/2025-10-28/
LOCATION:CPC\, 8300 Katy Fwy\, Houston\, TX\, 77024\, United States
CATEGORIES:Bible Study,Men
ATTACH;FMTTYPE=image/png:https://cpchouston.org/wp-content/uploads/2025/08/Mens-Bible-Study-Events-1.png
END:VEVENT
BEGIN:VEVENT
DTSTART;TZID=America/Chicago:20251021T064500
DTEND;TZID=America/Chicago:20251021T074500
DTSTAMP:20260419T074234
CREATED:20250813T151707Z
LAST-MODIFIED:20250813T151948Z
UID:20898-1761029100-1761032700@cpchouston.org
SUMMARY:Men's Bible Study
DESCRIPTION:The Men’s Bible Study returns this fall on Tuesday\, September 2\, 6:45 – 7:45 am in the Chapel. Breakfast tacos will be served\, and Ministry Staff along with seminarians will be teaching through the Psalms. 								\n				\n				\n				\n									\n					\n						\n									Bible Study Registration
URL:https://cpchouston.org/event/mens-bible-study-7/2025-10-21/
LOCATION:CPC\, 8300 Katy Fwy\, Houston\, TX\, 77024\, United States
CATEGORIES:Bible Study,Men
ATTACH;FMTTYPE=image/png:https://cpchouston.org/wp-content/uploads/2025/08/Mens-Bible-Study-Events-1.png
END:VEVENT
BEGIN:VEVENT
DTSTART;TZID=America/Chicago:20251014T064500
DTEND;TZID=America/Chicago:20251014T074500
DTSTAMP:20260419T074234
CREATED:20250813T151707Z
LAST-MODIFIED:20250813T151947Z
UID:20897-1760424300-1760427900@cpchouston.org
SUMMARY:Men's Bible Study
DESCRIPTION:The Men’s Bible Study returns this fall on Tuesday\, September 2\, 6:45 – 7:45 am in the Chapel. Breakfast tacos will be served\, and Ministry Staff along with seminarians will be teaching through the Psalms. 								\n				\n				\n				\n									\n					\n						\n									Bible Study Registration
URL:https://cpchouston.org/event/mens-bible-study-7/2025-10-14/
LOCATION:CPC\, 8300 Katy Fwy\, Houston\, TX\, 77024\, United States
CATEGORIES:Bible Study,Men
ATTACH;FMTTYPE=image/png:https://cpchouston.org/wp-content/uploads/2025/08/Mens-Bible-Study-Events-1.png
END:VEVENT
BEGIN:VEVENT
DTSTART;TZID=America/Chicago:20251007T064500
DTEND;TZID=America/Chicago:20251007T074500
DTSTAMP:20260419T074234
CREATED:20250813T151707Z
LAST-MODIFIED:20250813T151946Z
UID:20896-1759819500-1759823100@cpchouston.org
SUMMARY:Men's Bible Study
DESCRIPTION:The Men’s Bible Study returns this fall on Tuesday\, September 2\, 6:45 – 7:45 am in the Chapel. Breakfast tacos will be served\, and Ministry Staff along with seminarians will be teaching through the Psalms. 								\n				\n				\n				\n									\n					\n						\n									Bible Study Registration
URL:https://cpchouston.org/event/mens-bible-study-7/2025-10-07/
LOCATION:CPC\, 8300 Katy Fwy\, Houston\, TX\, 77024\, United States
CATEGORIES:Bible Study,Men
ATTACH;FMTTYPE=image/png:https://cpchouston.org/wp-content/uploads/2025/08/Mens-Bible-Study-Events-1.png
END:VEVENT
BEGIN:VEVENT
DTSTART;TZID=America/Chicago:20250930T064500
DTEND;TZID=America/Chicago:20250930T074500
DTSTAMP:20260419T074234
CREATED:20250813T151707Z
LAST-MODIFIED:20250813T151946Z
UID:20895-1759214700-1759218300@cpchouston.org
SUMMARY:Men's Bible Study
DESCRIPTION:The Men’s Bible Study returns this fall on Tuesday\, September 2\, 6:45 – 7:45 am in the Chapel. Breakfast tacos will be served\, and Ministry Staff along with seminarians will be teaching through the Psalms. 								\n				\n				\n				\n									\n					\n						\n									Bible Study Registration
URL:https://cpchouston.org/event/mens-bible-study-7/2025-09-30/
LOCATION:CPC\, 8300 Katy Fwy\, Houston\, TX\, 77024\, United States
CATEGORIES:Bible Study,Men
ATTACH;FMTTYPE=image/png:https://cpchouston.org/wp-content/uploads/2025/08/Mens-Bible-Study-Events-1.png
END:VEVENT
BEGIN:VEVENT
DTSTART;TZID=America/Chicago:20250923T064500
DTEND;TZID=America/Chicago:20250923T074500
DTSTAMP:20260419T074234
CREATED:20250813T151707Z
LAST-MODIFIED:20250813T151945Z
UID:20894-1758609900-1758613500@cpchouston.org
SUMMARY:Men's Bible Study
DESCRIPTION:The Men’s Bible Study returns this fall on Tuesday\, September 2\, 6:45 – 7:45 am in the Chapel. Breakfast tacos will be served\, and Ministry Staff along with seminarians will be teaching through the Psalms. 								\n				\n				\n				\n									\n					\n						\n									Bible Study Registration
URL:https://cpchouston.org/event/mens-bible-study-7/2025-09-23/
LOCATION:CPC\, 8300 Katy Fwy\, Houston\, TX\, 77024\, United States
CATEGORIES:Bible Study,Men
ATTACH;FMTTYPE=image/png:https://cpchouston.org/wp-content/uploads/2025/08/Mens-Bible-Study-Events-1.png
END:VEVENT
BEGIN:VEVENT
DTSTART;TZID=America/Chicago:20250916T064500
DTEND;TZID=America/Chicago:20250916T074500
DTSTAMP:20260419T074234
CREATED:20250813T151707Z
LAST-MODIFIED:20250813T151945Z
UID:20893-1758005100-1758008700@cpchouston.org
SUMMARY:Men's Bible Study
DESCRIPTION:The Men’s Bible Study returns this fall on Tuesday\, September 2\, 6:45 – 7:45 am in the Chapel. Breakfast tacos will be served\, and Ministry Staff along with seminarians will be teaching through the Psalms. 								\n				\n				\n				\n									\n					\n						\n									Bible Study Registration
URL:https://cpchouston.org/event/mens-bible-study-7/2025-09-16/
LOCATION:CPC\, 8300 Katy Fwy\, Houston\, TX\, 77024\, United States
CATEGORIES:Bible Study,Men
ATTACH;FMTTYPE=image/png:https://cpchouston.org/wp-content/uploads/2025/08/Mens-Bible-Study-Events-1.png
END:VEVENT
BEGIN:VEVENT
DTSTART;TZID=America/Chicago:20250909T064500
DTEND;TZID=America/Chicago:20250909T074500
DTSTAMP:20260419T074234
CREATED:20250813T151707Z
LAST-MODIFIED:20250813T151944Z
UID:20892-1757400300-1757403900@cpchouston.org
SUMMARY:Men's Bible Study
DESCRIPTION:The Men’s Bible Study returns this fall on Tuesday\, September 2\, 6:45 – 7:45 am in the Chapel. Breakfast tacos will be served\, and Ministry Staff along with seminarians will be teaching through the Psalms. 								\n				\n				\n				\n									\n					\n						\n									Bible Study Registration
URL:https://cpchouston.org/event/mens-bible-study-7/2025-09-09/
LOCATION:CPC\, 8300 Katy Fwy\, Houston\, TX\, 77024\, United States
CATEGORIES:Bible Study,Men
ATTACH;FMTTYPE=image/png:https://cpchouston.org/wp-content/uploads/2025/08/Mens-Bible-Study-Events-1.png
END:VEVENT
BEGIN:VEVENT
DTSTART;TZID=America/Chicago:20250902T064500
DTEND;TZID=America/Chicago:20250902T074500
DTSTAMP:20260419T074234
CREATED:20250813T151707Z
LAST-MODIFIED:20250912T162528Z
UID:20891-1756795500-1756799100@cpchouston.org
SUMMARY:Men's Bible Study
DESCRIPTION:The Men’s Bible Study returns this fall on Tuesday\, September 2\, 6:45 – 7:45 am in the Chapel. Breakfast tacos will be served\, and Ministry Staff along with seminarians will be teaching through the Psalms. 								\n				\n				\n				\n									\n					\n						\n									Bible Study Registration
URL:https://cpchouston.org/event/mens-bible-study-7/2025-09-02/
LOCATION:CPC\, 8300 Katy Fwy\, Houston\, TX\, 77024\, United States
CATEGORIES:Bible Study,Men
ATTACH;FMTTYPE=image/png:https://cpchouston.org/wp-content/uploads/2025/08/Mens-Bible-Study-Events-1.png
END:VEVENT
BEGIN:VEVENT
DTSTART;TZID=America/Chicago:20250429T064500
DTEND;TZID=America/Chicago:20250429T074500
DTSTAMP:20260419T074234
CREATED:20250130T181339Z
LAST-MODIFIED:20250501T174742Z
UID:19320-1745909100-1745912700@cpchouston.org
SUMMARY:Men's Bible Study
DESCRIPTION:The Men’s Bible Study returns this fall on Tuesday\, September 2\, 6:45 – 7:45 am in the Chapel. Breakfast tacos will be served\, and Ministry Staff along with seminarians will be teaching through the Psalms. 								\n				\n				\n				\n									\n					\n						\n									Bible Study Registration
URL:https://cpchouston.org/event/mens-bible-study-6/2025-04-29/
LOCATION:CPC\, 8300 Katy Fwy\, Houston\, TX\, 77024\, United States
CATEGORIES:Men
ATTACH;FMTTYPE=image/png:https://cpchouston.org/wp-content/uploads/2023/01/Mens-Bible-Study-01-2023-Digital-events.png
END:VEVENT
BEGIN:VEVENT
DTSTART;TZID=America/Chicago:20250425T183000
DTEND;TZID=America/Chicago:20250425T220000
DTSTAMP:20260419T074234
CREATED:20250129T134452Z
LAST-MODIFIED:20250129T134558Z
UID:19289-1745605800-1745618400@cpchouston.org
SUMMARY:Men's Steak Night
DESCRIPTION:The Men’s Bible Study returns this fall on Tuesday\, September 2\, 6:45 – 7:45 am in the Chapel. Breakfast tacos will be served\, and Ministry Staff along with seminarians will be teaching through the Psalms. 								\n				\n				\n				\n									\n					\n						\n									Bible Study Registration
URL:https://cpchouston.org/event/mens-steak-night-4/
LOCATION:Off-Campus\, Houston\, United States
CATEGORIES:Featured Event,Men
ATTACH;FMTTYPE=image/png:https://cpchouston.org/wp-content/uploads/2022/10/Steak-Night-10-2022-Digital-Events.png
END:VEVENT
BEGIN:VEVENT
DTSTART;TZID=America/Chicago:20250422T064500
DTEND;TZID=America/Chicago:20250422T074500
DTSTAMP:20260419T074234
CREATED:20250130T181339Z
LAST-MODIFIED:20250501T174741Z
UID:19318-1745304300-1745307900@cpchouston.org
SUMMARY:Men's Bible Study
DESCRIPTION:The Men’s Bible Study returns this fall on Tuesday\, September 2\, 6:45 – 7:45 am in the Chapel. Breakfast tacos will be served\, and Ministry Staff along with seminarians will be teaching through the Psalms. 								\n				\n				\n				\n									\n					\n						\n									Bible Study Registration
URL:https://cpchouston.org/event/mens-bible-study-6/2025-04-22/
LOCATION:CPC\, 8300 Katy Fwy\, Houston\, TX\, 77024\, United States
CATEGORIES:Men
ATTACH;FMTTYPE=image/png:https://cpchouston.org/wp-content/uploads/2023/01/Mens-Bible-Study-01-2023-Digital-events.png
END:VEVENT
BEGIN:VEVENT
DTSTART;TZID=America/Chicago:20250408T064500
DTEND;TZID=America/Chicago:20250408T074500
DTSTAMP:20260419T074234
CREATED:20250130T181339Z
LAST-MODIFIED:20250501T174741Z
UID:19316-1744094700-1744098300@cpchouston.org
SUMMARY:Men's Bible Study
DESCRIPTION:The Men’s Bible Study returns this fall on Tuesday\, September 2\, 6:45 – 7:45 am in the Chapel. Breakfast tacos will be served\, and Ministry Staff along with seminarians will be teaching through the Psalms. 								\n				\n				\n				\n									\n					\n						\n									Bible Study Registration
URL:https://cpchouston.org/event/mens-bible-study-6/2025-04-08/
LOCATION:CPC\, 8300 Katy Fwy\, Houston\, TX\, 77024\, United States
CATEGORIES:Men
ATTACH;FMTTYPE=image/png:https://cpchouston.org/wp-content/uploads/2023/01/Mens-Bible-Study-01-2023-Digital-events.png
END:VEVENT
BEGIN:VEVENT
DTSTART;TZID=America/Chicago:20250325T064500
DTEND;TZID=America/Chicago:20250325T074500
DTSTAMP:20260419T074234
CREATED:20250130T181339Z
LAST-MODIFIED:20250501T174741Z
UID:19314-1742885100-1742888700@cpchouston.org
SUMMARY:Men's Bible Study
DESCRIPTION:The Men’s Bible Study returns this fall on Tuesday\, September 2\, 6:45 – 7:45 am in the Chapel. Breakfast tacos will be served\, and Ministry Staff along with seminarians will be teaching through the Psalms. 								\n				\n				\n				\n									\n					\n						\n									Bible Study Registration
URL:https://cpchouston.org/event/mens-bible-study-6/2025-03-25/
LOCATION:CPC\, 8300 Katy Fwy\, Houston\, TX\, 77024\, United States
CATEGORIES:Men
ATTACH;FMTTYPE=image/png:https://cpchouston.org/wp-content/uploads/2023/01/Mens-Bible-Study-01-2023-Digital-events.png
END:VEVENT
BEGIN:VEVENT
DTSTART;TZID=America/Chicago:20250318T064500
DTEND;TZID=America/Chicago:20250318T074500
DTSTAMP:20260419T074234
CREATED:20250130T181339Z
LAST-MODIFIED:20250501T174740Z
UID:19313-1742280300-1742283900@cpchouston.org
SUMMARY:Men's Bible Study
DESCRIPTION:The Men’s Bible Study returns this fall on Tuesday\, September 2\, 6:45 – 7:45 am in the Chapel. Breakfast tacos will be served\, and Ministry Staff along with seminarians will be teaching through the Psalms. 								\n				\n				\n				\n									\n					\n						\n									Bible Study Registration
URL:https://cpchouston.org/event/mens-bible-study-6/2025-03-18/
LOCATION:CPC\, 8300 Katy Fwy\, Houston\, TX\, 77024\, United States
CATEGORIES:Men
ATTACH;FMTTYPE=image/png:https://cpchouston.org/wp-content/uploads/2023/01/Mens-Bible-Study-01-2023-Digital-events.png
END:VEVENT
BEGIN:VEVENT
DTSTART;TZID=America/Chicago:20250311T064500
DTEND;TZID=America/Chicago:20250311T074500
DTSTAMP:20260419T074234
CREATED:20250130T181339Z
LAST-MODIFIED:20250501T174740Z
UID:19312-1741675500-1741679100@cpchouston.org
SUMMARY:Men's Bible Study
DESCRIPTION:The Men’s Bible Study returns this fall on Tuesday\, September 2\, 6:45 – 7:45 am in the Chapel. Breakfast tacos will be served\, and Ministry Staff along with seminarians will be teaching through the Psalms. 								\n				\n				\n				\n									\n					\n						\n									Bible Study Registration
URL:https://cpchouston.org/event/mens-bible-study-6/2025-03-11/
LOCATION:CPC\, 8300 Katy Fwy\, Houston\, TX\, 77024\, United States
CATEGORIES:Men
ATTACH;FMTTYPE=image/png:https://cpchouston.org/wp-content/uploads/2023/01/Mens-Bible-Study-01-2023-Digital-events.png
END:VEVENT
BEGIN:VEVENT
DTSTART;TZID=America/Chicago:20250304T064500
DTEND;TZID=America/Chicago:20250304T074500
DTSTAMP:20260419T074234
CREATED:20250130T181339Z
LAST-MODIFIED:20250501T174740Z
UID:19311-1741070700-1741074300@cpchouston.org
SUMMARY:Men's Bible Study
DESCRIPTION:The Men’s Bible Study returns this fall on Tuesday\, September 2\, 6:45 – 7:45 am in the Chapel. Breakfast tacos will be served\, and Ministry Staff along with seminarians will be teaching through the Psalms. 								\n				\n				\n				\n									\n					\n						\n									Bible Study Registration
URL:https://cpchouston.org/event/mens-bible-study-6/2025-03-04/
LOCATION:CPC\, 8300 Katy Fwy\, Houston\, TX\, 77024\, United States
CATEGORIES:Men
ATTACH;FMTTYPE=image/png:https://cpchouston.org/wp-content/uploads/2023/01/Mens-Bible-Study-01-2023-Digital-events.png
END:VEVENT
BEGIN:VEVENT
DTSTART;TZID=America/Chicago:20250225T064500
DTEND;TZID=America/Chicago:20250225T074500
DTSTAMP:20260419T074234
CREATED:20250130T181339Z
LAST-MODIFIED:20250501T174739Z
UID:19310-1740465900-1740469500@cpchouston.org
SUMMARY:Men's Bible Study
DESCRIPTION:The Men’s Bible Study returns this fall on Tuesday\, September 2\, 6:45 – 7:45 am in the Chapel. Breakfast tacos will be served\, and Ministry Staff along with seminarians will be teaching through the Psalms. 								\n				\n				\n				\n									\n					\n						\n									Bible Study Registration
URL:https://cpchouston.org/event/mens-bible-study-6/2025-02-25/
LOCATION:CPC\, 8300 Katy Fwy\, Houston\, TX\, 77024\, United States
CATEGORIES:Men
ATTACH;FMTTYPE=image/png:https://cpchouston.org/wp-content/uploads/2023/01/Mens-Bible-Study-01-2023-Digital-events.png
END:VEVENT
BEGIN:VEVENT
DTSTART;TZID=America/Chicago:20250218T064500
DTEND;TZID=America/Chicago:20250218T074500
DTSTAMP:20260419T074234
CREATED:20250130T181339Z
LAST-MODIFIED:20250501T174739Z
UID:19309-1739861100-1739864700@cpchouston.org
SUMMARY:Men's Bible Study
DESCRIPTION:The Men’s Bible Study returns this fall on Tuesday\, September 2\, 6:45 – 7:45 am in the Chapel. Breakfast tacos will be served\, and Ministry Staff along with seminarians will be teaching through the Psalms. 								\n				\n				\n				\n									\n					\n						\n									Bible Study Registration
URL:https://cpchouston.org/event/mens-bible-study-6/2025-02-18/
LOCATION:CPC\, 8300 Katy Fwy\, Houston\, TX\, 77024\, United States
CATEGORIES:Men
ATTACH;FMTTYPE=image/png:https://cpchouston.org/wp-content/uploads/2023/01/Mens-Bible-Study-01-2023-Digital-events.png
END:VEVENT
BEGIN:VEVENT
DTSTART;TZID=America/Chicago:20250211T064500
DTEND;TZID=America/Chicago:20250211T074500
DTSTAMP:20260419T074234
CREATED:20250130T181339Z
LAST-MODIFIED:20250501T174738Z
UID:19308-1739256300-1739259900@cpchouston.org
SUMMARY:Men's Bible Study
DESCRIPTION:The Men’s Bible Study returns this fall on Tuesday\, September 2\, 6:45 – 7:45 am in the Chapel. Breakfast tacos will be served\, and Ministry Staff along with seminarians will be teaching through the Psalms. 								\n				\n				\n				\n									\n					\n						\n									Bible Study Registration
URL:https://cpchouston.org/event/mens-bible-study-6/2025-02-11/
LOCATION:CPC\, 8300 Katy Fwy\, Houston\, TX\, 77024\, United States
CATEGORIES:Men
ATTACH;FMTTYPE=image/png:https://cpchouston.org/wp-content/uploads/2023/01/Mens-Bible-Study-01-2023-Digital-events.png
END:VEVENT
BEGIN:VEVENT
DTSTART;VALUE=DATE:20250207
DTEND;VALUE=DATE:20250209
DTSTAMP:20260419T074234
CREATED:20241010T183103Z
LAST-MODIFIED:20241231T185218Z
UID:18081-1738886400-1739059199@cpchouston.org
SUMMARY:Men's Retreat
DESCRIPTION:The Men’s Bible Study returns this fall on Tuesday\, September 2\, 6:45 – 7:45 am in the Chapel. Breakfast tacos will be served\, and Ministry Staff along with seminarians will be teaching through the Psalms. 								\n				\n				\n				\n									\n					\n						\n									Bible Study Registration
URL:https://cpchouston.org/event/mens-retreat-3/
LOCATION:Camp Blessing\, 7227 Camp Blessing Ln\, Brenham\, TX\, 77833\, United States
CATEGORIES:Featured Event,Men
ATTACH;FMTTYPE=image/png:https://cpchouston.org/wp-content/uploads/2022/10/Mens-Retreat-02-2023-events-B.png
END:VEVENT
BEGIN:VEVENT
DTSTART;TZID=America/Chicago:20241203T064500
DTEND;TZID=America/Chicago:20241203T074500
DTSTAMP:20260419T074234
CREATED:20240815T132252Z
LAST-MODIFIED:20241114T132343Z
UID:18372-1733208300-1733211900@cpchouston.org
SUMMARY:Men's Bible Study
DESCRIPTION:The Men’s Bible Study returns this fall on Tuesday\, September 2\, 6:45 – 7:45 am in the Chapel. Breakfast tacos will be served\, and Ministry Staff along with seminarians will be teaching through the Psalms. 								\n				\n				\n				\n									\n					\n						\n									Bible Study Registration
URL:https://cpchouston.org/event/mens-bible-study-5/2024-12-03/
LOCATION:CPC\, 8300 Katy Fwy\, Houston\, TX\, 77024\, United States
CATEGORIES:Bible Study,Men
ATTACH;FMTTYPE=image/png:https://cpchouston.org/wp-content/uploads/2023/01/Mens-Bible-Study-01-2023-Digital-events.png
END:VEVENT
BEGIN:VEVENT
DTSTART;TZID=America/Chicago:20241122T183000
DTEND;TZID=America/Chicago:20241122T220000
DTSTAMP:20260419T074235
CREATED:20240916T204738Z
LAST-MODIFIED:20240916T204941Z
UID:17874-1732300200-1732312800@cpchouston.org
SUMMARY:Men's Steak Night
DESCRIPTION:The Men’s Bible Study returns this fall on Tuesday\, September 2\, 6:45 – 7:45 am in the Chapel. Breakfast tacos will be served\, and Ministry Staff along with seminarians will be teaching through the Psalms. 								\n				\n				\n				\n									\n					\n						\n									Bible Study Registration
URL:https://cpchouston.org/event/mens-steak-night-3/
LOCATION:Off-Campus\, Houston\, United States
CATEGORIES:Featured Event,Men
ATTACH;FMTTYPE=image/png:https://cpchouston.org/wp-content/uploads/2022/10/Steak-Night-10-2022-Digital-Events.png
END:VEVENT
BEGIN:VEVENT
DTSTART;TZID=America/Chicago:20241112T064500
DTEND;TZID=America/Chicago:20241112T074500
DTSTAMP:20260419T074235
CREATED:20240815T132252Z
LAST-MODIFIED:20241114T132342Z
UID:17387-1731393900-1731397500@cpchouston.org
SUMMARY:Men's Bible Study
DESCRIPTION:The Men’s Bible Study returns this fall on Tuesday\, September 2\, 6:45 – 7:45 am in the Chapel. Breakfast tacos will be served\, and Ministry Staff along with seminarians will be teaching through the Psalms. 								\n				\n				\n				\n									\n					\n						\n									Bible Study Registration
URL:https://cpchouston.org/event/mens-bible-study-5/2024-11-12/
LOCATION:CPC\, 8300 Katy Fwy\, Houston\, TX\, 77024\, United States
CATEGORIES:Bible Study,Men
ATTACH;FMTTYPE=image/png:https://cpchouston.org/wp-content/uploads/2023/01/Mens-Bible-Study-01-2023-Digital-events.png
END:VEVENT
BEGIN:VEVENT
DTSTART;TZID=America/Chicago:20241105T064500
DTEND;TZID=America/Chicago:20241105T074500
DTSTAMP:20260419T074235
CREATED:20240815T132252Z
LAST-MODIFIED:20241114T132342Z
UID:17386-1730789100-1730792700@cpchouston.org
SUMMARY:Men's Bible Study
DESCRIPTION:The Men’s Bible Study returns this fall on Tuesday\, September 2\, 6:45 – 7:45 am in the Chapel. Breakfast tacos will be served\, and Ministry Staff along with seminarians will be teaching through the Psalms. 								\n				\n				\n				\n									\n					\n						\n									Bible Study Registration
URL:https://cpchouston.org/event/mens-bible-study-5/2024-11-05/
LOCATION:CPC\, 8300 Katy Fwy\, Houston\, TX\, 77024\, United States
CATEGORIES:Bible Study,Men
ATTACH;FMTTYPE=image/png:https://cpchouston.org/wp-content/uploads/2023/01/Mens-Bible-Study-01-2023-Digital-events.png
END:VEVENT
BEGIN:VEVENT
DTSTART;TZID=America/Chicago:20241029T064500
DTEND;TZID=America/Chicago:20241029T074500
DTSTAMP:20260419T074235
CREATED:20240815T132252Z
LAST-MODIFIED:20241114T132341Z
UID:17385-1730184300-1730187900@cpchouston.org
SUMMARY:Men's Bible Study
DESCRIPTION:The Men’s Bible Study returns this fall on Tuesday\, September 2\, 6:45 – 7:45 am in the Chapel. Breakfast tacos will be served\, and Ministry Staff along with seminarians will be teaching through the Psalms. 								\n				\n				\n				\n									\n					\n						\n									Bible Study Registration
URL:https://cpchouston.org/event/mens-bible-study-5/2024-10-29/
LOCATION:CPC\, 8300 Katy Fwy\, Houston\, TX\, 77024\, United States
CATEGORIES:Bible Study,Men
ATTACH;FMTTYPE=image/png:https://cpchouston.org/wp-content/uploads/2023/01/Mens-Bible-Study-01-2023-Digital-events.png
END:VEVENT
BEGIN:VEVENT
DTSTART;TZID=America/Chicago:20241022T064500
DTEND;TZID=America/Chicago:20241022T074500
DTSTAMP:20260419T074235
CREATED:20240815T132252Z
LAST-MODIFIED:20241114T132341Z
UID:17384-1729579500-1729583100@cpchouston.org
SUMMARY:Men's Bible Study
DESCRIPTION:The Men’s Bible Study returns this fall on Tuesday\, September 2\, 6:45 – 7:45 am in the Chapel. Breakfast tacos will be served\, and Ministry Staff along with seminarians will be teaching through the Psalms. 								\n				\n				\n				\n									\n					\n						\n									Bible Study Registration
URL:https://cpchouston.org/event/mens-bible-study-5/2024-10-22/
LOCATION:CPC\, 8300 Katy Fwy\, Houston\, TX\, 77024\, United States
CATEGORIES:Bible Study,Men
ATTACH;FMTTYPE=image/png:https://cpchouston.org/wp-content/uploads/2023/01/Mens-Bible-Study-01-2023-Digital-events.png
END:VEVENT
BEGIN:VEVENT
DTSTART;TZID=America/Chicago:20241015T064500
DTEND;TZID=America/Chicago:20241015T074500
DTSTAMP:20260419T074235
CREATED:20240815T132252Z
LAST-MODIFIED:20241114T132341Z
UID:17383-1728974700-1728978300@cpchouston.org
SUMMARY:Men's Bible Study
DESCRIPTION:The Men’s Bible Study returns this fall on Tuesday\, September 2\, 6:45 – 7:45 am in the Chapel. Breakfast tacos will be served\, and Ministry Staff along with seminarians will be teaching through the Psalms. 								\n				\n				\n				\n									\n					\n						\n									Bible Study Registration
URL:https://cpchouston.org/event/mens-bible-study-5/2024-10-15/
LOCATION:CPC\, 8300 Katy Fwy\, Houston\, TX\, 77024\, United States
CATEGORIES:Bible Study,Men
ATTACH;FMTTYPE=image/png:https://cpchouston.org/wp-content/uploads/2023/01/Mens-Bible-Study-01-2023-Digital-events.png
END:VEVENT
END:VCALENDAR