BEGIN:VCALENDAR
VERSION:2.0
PRODID:-//Christ Presbyterian Church of Houston - ECPv6.15.20//NONSGML v1.0//EN
CALSCALE:GREGORIAN
METHOD:PUBLISH
X-ORIGINAL-URL:https://cpchouston.org
X-WR-CALDESC:Events for Christ Presbyterian Church of Houston
REFRESH-INTERVAL;VALUE=DURATION:PT1H
X-Robots-Tag:noindex
X-PUBLISHED-TTL:PT1H
BEGIN:VTIMEZONE
TZID:America/Chicago
BEGIN:DAYLIGHT
TZOFFSETFROM:-0600
TZOFFSETTO:-0500
TZNAME:CDT
DTSTART:20220313T080000
END:DAYLIGHT
BEGIN:STANDARD
TZOFFSETFROM:-0500
TZOFFSETTO:-0600
TZNAME:CST
DTSTART:20221106T070000
END:STANDARD
BEGIN:DAYLIGHT
TZOFFSETFROM:-0600
TZOFFSETTO:-0500
TZNAME:CDT
DTSTART:20230312T080000
END:DAYLIGHT
BEGIN:STANDARD
TZOFFSETFROM:-0500
TZOFFSETTO:-0600
TZNAME:CST
DTSTART:20231105T070000
END:STANDARD
BEGIN:DAYLIGHT
TZOFFSETFROM:-0600
TZOFFSETTO:-0500
TZNAME:CDT
DTSTART:20240310T080000
END:DAYLIGHT
BEGIN:STANDARD
TZOFFSETFROM:-0500
TZOFFSETTO:-0600
TZNAME:CST
DTSTART:20241103T070000
END:STANDARD
END:VTIMEZONE
BEGIN:VEVENT
DTSTART;VALUE=DATE:20230203
DTEND;VALUE=DATE:20230205
DTSTAMP:20260422T123135
CREATED:20221008T050000Z
LAST-MODIFIED:20230419T221720Z
UID:9434-1675382400-1675555199@cpchouston.org
SUMMARY:Men's Retreat 2023
DESCRIPTION:Men\, plan to join us for our 2023 Men’s Retreat February 3 & 4 at Camp Blessing (7227 Camp Blessing Ln\, Brenham\, TX 77833). Our speaker will be Dr. David Strain. Dr. Strain will speak on “The Priorities of Prayer” from John 17. \nWe will begin with dinner on Friday\, February 3\, and conclude after lunch on Saturday\, February 4. \nThe cost is $125. Scholarships are available. Please contact bmcdougal@cepc.org for more information on scholarships. \nAbout Our Speaker\, David Strain\nDr. David Strain was born in Glasgow\, Scotland. He holds degrees from Duncan Jordanstone College of Art\, Trinity College Glasgow/School of Divinity\, the Free Church of Scotland College in Edinburgh\, and Reformed Theological Seminary in Jackson. He was ordained to the gospel ministry in the Free Church of Scotland in September 2003\, and has held pastoral charges in London\, England\, and Columbus\, MS. Since May 2013\, David has served on the pastoral staff of First Presbyterian Church in Jackson and was installed as Senior Minister in May 2014. He was awarded a Doctor of Ministry degree from Reformed Theological Seminary (Jackson) in 2016.
URL:https://cpchouston.org/event/mens-retreat-2023/
LOCATION:Camp Blessing\, 7227 Camp Blessing Ln\, Brenham\, TX\, 77833\, United States
CATEGORIES:Featured Event,Men
ATTACH;FMTTYPE=image/png:https://cpchouston.org/wp-content/uploads/2022/10/Mens-Retreat-02-2023-events-B.png
END:VEVENT
END:VCALENDAR