BEGIN:VCALENDAR
VERSION:2.0
PRODID:-//Christ Presbyterian Church of Houston - ECPv6.15.20//NONSGML v1.0//EN
CALSCALE:GREGORIAN
METHOD:PUBLISH
X-ORIGINAL-URL:https://cpchouston.org
X-WR-CALDESC:Events for Christ Presbyterian Church of Houston
REFRESH-INTERVAL;VALUE=DURATION:PT1H
X-Robots-Tag:noindex
X-PUBLISHED-TTL:PT1H
BEGIN:VTIMEZONE
TZID:America/Chicago
BEGIN:DAYLIGHT
TZOFFSETFROM:-0600
TZOFFSETTO:-0500
TZNAME:CDT
DTSTART:20210314T080000
END:DAYLIGHT
BEGIN:STANDARD
TZOFFSETFROM:-0500
TZOFFSETTO:-0600
TZNAME:CST
DTSTART:20211107T070000
END:STANDARD
BEGIN:DAYLIGHT
TZOFFSETFROM:-0600
TZOFFSETTO:-0500
TZNAME:CDT
DTSTART:20220313T080000
END:DAYLIGHT
BEGIN:STANDARD
TZOFFSETFROM:-0500
TZOFFSETTO:-0600
TZNAME:CST
DTSTART:20221106T070000
END:STANDARD
BEGIN:DAYLIGHT
TZOFFSETFROM:-0600
TZOFFSETTO:-0500
TZNAME:CDT
DTSTART:20230312T080000
END:DAYLIGHT
BEGIN:STANDARD
TZOFFSETFROM:-0500
TZOFFSETTO:-0600
TZNAME:CST
DTSTART:20231105T070000
END:STANDARD
END:VTIMEZONE
BEGIN:VEVENT
DTSTART;TZID=America/Chicago:20220429T000000
DTEND;TZID=America/Chicago:20220430T235959
DTSTAMP:20260424T170448
CREATED:20211116T231845Z
LAST-MODIFIED:20220309T214708Z
UID:2746-1651190400-1651363199@cpchouston.org
SUMMARY:Men's Retreat
DESCRIPTION:Men\, plan to join us for our 2022 Men’s Retreat April 29 & 30 at Camp Blessing (7227 Camp Blessing Ln\, Brenham\, TX 77833). Our speaker will be Harry Reeder. \nWe will begin with dinner on Friday\, April 29\, and conclude after lunch on Saturday\, April 30. \nThe cost is $125. Scholarships are available. Please contact juancarlos@cepc.org for more information on scholarships. \nRegistration is now closed. If you’d like to be placed on the waitlist\, please email juancarlos@cepc.org.
URL:https://cpchouston.org/event/mens-retreat/
CATEGORIES:Men
ORGANIZER;CN="Rev. Juan Carlos Martinez":MAILTO:juancarlos@cepc.org
END:VEVENT
END:VCALENDAR