BEGIN:VCALENDAR
VERSION:2.0
PRODID:-//Christ Presbyterian Church of Houston - ECPv6.15.20//NONSGML v1.0//EN
CALSCALE:GREGORIAN
METHOD:PUBLISH
X-WR-CALNAME:Christ Presbyterian Church of Houston
X-ORIGINAL-URL:https://cpchouston.org
X-WR-CALDESC:Events for Christ Presbyterian Church of Houston
REFRESH-INTERVAL;VALUE=DURATION:PT1H
X-Robots-Tag:noindex
X-PUBLISHED-TTL:PT1H
BEGIN:VTIMEZONE
TZID:America/Chicago
BEGIN:DAYLIGHT
TZOFFSETFROM:-0600
TZOFFSETTO:-0500
TZNAME:CDT
DTSTART:20220313T080000
END:DAYLIGHT
BEGIN:STANDARD
TZOFFSETFROM:-0500
TZOFFSETTO:-0600
TZNAME:CST
DTSTART:20221106T070000
END:STANDARD
BEGIN:DAYLIGHT
TZOFFSETFROM:-0600
TZOFFSETTO:-0500
TZNAME:CDT
DTSTART:20230312T080000
END:DAYLIGHT
BEGIN:STANDARD
TZOFFSETFROM:-0500
TZOFFSETTO:-0600
TZNAME:CST
DTSTART:20231105T070000
END:STANDARD
BEGIN:DAYLIGHT
TZOFFSETFROM:-0600
TZOFFSETTO:-0500
TZNAME:CDT
DTSTART:20240310T080000
END:DAYLIGHT
BEGIN:STANDARD
TZOFFSETFROM:-0500
TZOFFSETTO:-0600
TZNAME:CST
DTSTART:20241103T070000
END:STANDARD
END:VTIMEZONE
BEGIN:VEVENT
DTSTART;TZID=America/Chicago:20230610T090000
DTEND;TZID=America/Chicago:20230610T130000
DTSTAMP:20260419T135805
CREATED:20230503T140155Z
LAST-MODIFIED:20230505T161105Z
UID:12574-1686387600-1686402000@cpchouston.org
SUMMARY:Meet CPC
DESCRIPTION:If you are interested in joining CPC or just learning more about us\, please sign up for this informational weekend led by Pastor Harris using the form below. We’ll meet Friday\, June 9\, 6:30–8:30 pm\, including dinner\, and return on Saturday\, June 10\, to meet from 9 am through 1 pm. For more information\, contact Tindy Youngflesh at tyoungflesh@cpchouston.org or 713-255-7214. Please register using the button below. 								\n				\n				\n				\n									\n					\n						\n									Meet CPC Registration
URL:https://cpchouston.org/event/meet-cpc-4/
LOCATION:CPC\, 8300 Katy Fwy\, Houston\, TX\, 77024\, United States
CATEGORIES:Meet CPC
ATTACH;FMTTYPE=image/png:https://cpchouston.org/wp-content/uploads/2022/12/Meet-CPC-12-2022.png
END:VEVENT
BEGIN:VEVENT
DTSTART;TZID=America/Chicago:20230609T183000
DTEND;TZID=America/Chicago:20230609T203000
DTSTAMP:20260419T135805
CREATED:20230503T135706Z
LAST-MODIFIED:20230505T161136Z
UID:12563-1686335400-1686342600@cpchouston.org
SUMMARY:Meet CPC
DESCRIPTION:If you are interested in joining CPC or just learning more about us\, please sign up for this informational weekend led by Pastor Harris using the form below. We’ll meet Friday\, June 9\, 6:30–8:30 pm\, including dinner\, and return on Saturday\, June 10\, to meet from 9 am through 1 pm. For more information\, contact Tindy Youngflesh at tyoungflesh@cpchouston.org or 713-255-7214. Please register using the button below. 								\n				\n				\n				\n									\n					\n						\n									Meet CPC Registration
URL:https://cpchouston.org/event/meet-cpc-3/
LOCATION:CPC\, 8300 Katy Fwy\, Houston\, TX\, 77024\, United States
CATEGORIES:Featured Event,Meet CPC
ATTACH;FMTTYPE=image/png:https://cpchouston.org/wp-content/uploads/2022/12/Meet-CPC-12-2022.png
END:VEVENT
END:VCALENDAR