BEGIN:VCALENDAR
VERSION:2.0
PRODID:-//Christ Presbyterian Church of Houston - ECPv6.15.20//NONSGML v1.0//EN
CALSCALE:GREGORIAN
METHOD:PUBLISH
X-ORIGINAL-URL:https://cpchouston.org
X-WR-CALDESC:Events for Christ Presbyterian Church of Houston
REFRESH-INTERVAL;VALUE=DURATION:PT1H
X-Robots-Tag:noindex
X-PUBLISHED-TTL:PT1H
BEGIN:VTIMEZONE
TZID:America/Chicago
BEGIN:DAYLIGHT
TZOFFSETFROM:-0600
TZOFFSETTO:-0500
TZNAME:CDT
DTSTART:20230312T080000
END:DAYLIGHT
BEGIN:STANDARD
TZOFFSETFROM:-0500
TZOFFSETTO:-0600
TZNAME:CST
DTSTART:20231105T070000
END:STANDARD
BEGIN:DAYLIGHT
TZOFFSETFROM:-0600
TZOFFSETTO:-0500
TZNAME:CDT
DTSTART:20240310T080000
END:DAYLIGHT
BEGIN:STANDARD
TZOFFSETFROM:-0500
TZOFFSETTO:-0600
TZNAME:CST
DTSTART:20241103T070000
END:STANDARD
BEGIN:DAYLIGHT
TZOFFSETFROM:-0600
TZOFFSETTO:-0500
TZNAME:CDT
DTSTART:20250309T080000
END:DAYLIGHT
BEGIN:STANDARD
TZOFFSETFROM:-0500
TZOFFSETTO:-0600
TZNAME:CST
DTSTART:20251102T070000
END:STANDARD
END:VTIMEZONE
BEGIN:VEVENT
DTSTART;TZID=America/Chicago:20240427T090000
DTEND;TZID=America/Chicago:20240427T130000
DTSTAMP:20260421T165313
CREATED:20240215T174258Z
LAST-MODIFIED:20240215T174738Z
UID:15810-1714208400-1714222800@cpchouston.org
SUMMARY:Meet CPC Weekend
DESCRIPTION:If you want to learn more about our church to help determine if it is a good fit for you\, we invite you to register for our next Meet CPC Weekend. We will meet in the Barn (located on the northwest side of our campus.) on Friday\, April 26\, from 6:30 – 8:30 pm beginning with dinner. We will come back to the Barn and meet from 9:00 am – 1:00 pm on Saturday\, April 27. Please use the button below to provide the information needed to sign you up\, including childcare. Contact Morgan Burran with any questions. \n			\n						Meet CPC Registration
URL:https://cpchouston.org/event/meet-cpc-weekend-4/
LOCATION:CPC\, 8300 Katy Fwy\, Houston\, TX\, 77024\, United States
CATEGORIES:Meet CPC
ATTACH;FMTTYPE=image/png:https://cpchouston.org/wp-content/uploads/2024/02/Meet-CPC-2024-Events.png
END:VEVENT
END:VCALENDAR