BEGIN:VCALENDAR
VERSION:2.0
PRODID:-//Christ Presbyterian Church of Houston - ECPv6.15.20//NONSGML v1.0//EN
CALSCALE:GREGORIAN
METHOD:PUBLISH
X-WR-CALNAME:Christ Presbyterian Church of Houston
X-ORIGINAL-URL:https://cpchouston.org
X-WR-CALDESC:Events for Christ Presbyterian Church of Houston
REFRESH-INTERVAL;VALUE=DURATION:PT1H
X-Robots-Tag:noindex
X-PUBLISHED-TTL:PT1H
BEGIN:VTIMEZONE
TZID:America/Chicago
BEGIN:DAYLIGHT
TZOFFSETFROM:-0600
TZOFFSETTO:-0500
TZNAME:CDT
DTSTART:20250309T080000
END:DAYLIGHT
BEGIN:STANDARD
TZOFFSETFROM:-0500
TZOFFSETTO:-0600
TZNAME:CST
DTSTART:20251102T070000
END:STANDARD
BEGIN:DAYLIGHT
TZOFFSETFROM:-0600
TZOFFSETTO:-0500
TZNAME:CDT
DTSTART:20260308T080000
END:DAYLIGHT
BEGIN:STANDARD
TZOFFSETFROM:-0500
TZOFFSETTO:-0600
TZNAME:CST
DTSTART:20261101T070000
END:STANDARD
BEGIN:DAYLIGHT
TZOFFSETFROM:-0600
TZOFFSETTO:-0500
TZNAME:CDT
DTSTART:20270314T080000
END:DAYLIGHT
BEGIN:STANDARD
TZOFFSETFROM:-0500
TZOFFSETTO:-0600
TZNAME:CST
DTSTART:20271107T070000
END:STANDARD
END:VTIMEZONE
BEGIN:VEVENT
DTSTART;TZID=America/Chicago:20260503T123000
DTEND;TZID=America/Chicago:20260503T140000
DTSTAMP:20260420T182826
CREATED:20260217T141334Z
LAST-MODIFIED:20260219T160310Z
UID:22842-1777811400-1777816800@cpchouston.org
SUMMARY:Family Ministry Crawfish Boil
DESCRIPTION:Families\, you are invited to CPC’s Family Ministry Crawfish Boil on Sunday\, May 3\, 12:30-2 pm! Enjoy crawfish\, sides\, and fellowship with friends at the home of Richard and Alicia Harris. Please sign up using the link below. \nStudents and children are invited to stay at CPC for a fellowship lunch and activities while the adults head over to the Harris house! \nCrawfish Boil RSVP \n 
URL:https://cpchouston.org/event/family-ministry-crawfish-boil/
LOCATION:Off-Campus\, Houston\, United States
CATEGORIES:Families,Featured Event
ATTACH;FMTTYPE=image/png:https://cpchouston.org/wp-content/uploads/2026/02/crawfish-boil-2026-b.png
END:VEVENT
BEGIN:VEVENT
DTSTART;TZID=America/Chicago:20260517T094500
DTEND;TZID=America/Chicago:20260517T101500
DTSTAMP:20260420T182826
CREATED:20260416T225555Z
LAST-MODIFIED:20260416T225555Z
UID:23205-1779011100-1779012900@cpchouston.org
SUMMARY:Congregational Meeting
DESCRIPTION:A Congregational Meeting to elect our new elders and deacons will be held Sunday\, May 17\, immediately following the conclusion of our 8:30 worship service. A Town Hall meeting and financial presentation will follow. Adult Sunday school classes will meet after the meeting. \nThe following candidates will be presented to the congregation for election: Matt Baker (elder)\, Chip Mealy (elder)\, Dan Olson (elder)\, Brian Rose (elder)\, Scott Brown (deacon)\, and Larry Dawson (deacon). Lee Shuchart will be appointed by the Session to serve on the Diaconal Ministry Team alongside our ordained deacons.
URL:https://cpchouston.org/event/congregational-meeting-9/
LOCATION:CPC\, 8300 Katy Fwy\, Houston\, TX\, 77024\, United States
CATEGORIES:Featured Event
ATTACH;FMTTYPE=image/png:https://cpchouston.org/wp-content/uploads/2022/05/Congregational-Meeting.png
END:VEVENT
BEGIN:VEVENT
DTSTART;VALUE=DATE:20260609
DTEND;VALUE=DATE:20260613
DTSTAMP:20260420T182826
CREATED:20260309T200642Z
LAST-MODIFIED:20260414T143117Z
UID:22948-1780963200-1781308799@cpchouston.org
SUMMARY:Vacation Bible School
DESCRIPTION:Mark your calendar for VBS June 9-12\, 9 am to 12 pm! We invite rising kindergarteners through fifth graders to join us for an exciting week filled with Bible lessons\, games\, crafts\, and fellowship with old and new friends! \nPlease register campers or sign up to volunteer using the links below. \nVBS Camper Registration \nVBS Volunteer Registration \nSign Up to Bring Snacks
URL:https://cpchouston.org/event/vacation-bible-school-4/
LOCATION:CPC\, 8300 Katy Fwy\, Houston\, TX\, 77024\, United States
CATEGORIES:Children,Featured Event
ATTACH;FMTTYPE=image/png:https://cpchouston.org/wp-content/uploads/2026/03/VBS-2026-Digital-Events.png
END:VEVENT
BEGIN:VEVENT
DTSTART;VALUE=DATE:20260723
DTEND;VALUE=DATE:20260727
DTSTAMP:20260420T182826
CREATED:20260205T140249Z
LAST-MODIFIED:20260205T140603Z
UID:22636-1784764800-1785110399@cpchouston.org
SUMMARY:Mo-Ranch All-Church Retreat
DESCRIPTION:We are excited to announce that we are heading back to Mo-Ranch in the beautiful Texas Hill Country\, on July 23-26\, 2026! This all-church retreat is the perfect opportunity for us to get to know each other better and form deeper friendships as a church family. \nPrayerfully consider joining us for a great time of refreshment\, games\, fellowship\, worship\, and rest. Registration will be open through June 7. \nCancellation Policy: Full refunds will be issued up to June 22\, after which\, no refunds will be issued. \nDietary restrictions: If you have medical dietary restrictions please contact Mo-Ranch at (830) 238-4455 to discuss your dietary needs. When you call\, please tell them that you are with Christ Presbyterian Church attending Mo-Ranch on July 23-26. \nRegister for Mo-Ranch
URL:https://cpchouston.org/event/mo-ranch-all-church-retreat-5/
LOCATION:Mo-Ranch\, 2229 FM 1340\, Hunt\, 78024
CATEGORIES:Featured Event
ATTACH;FMTTYPE=image/png:https://cpchouston.org/wp-content/uploads/2026/02/Mo-Ranch-2026-Events.png
END:VEVENT
END:VCALENDAR