BEGIN:VCALENDAR
VERSION:2.0
PRODID:-//Christ Presbyterian Church of Houston - ECPv6.15.20//NONSGML v1.0//EN
CALSCALE:GREGORIAN
METHOD:PUBLISH
X-WR-CALNAME:Christ Presbyterian Church of Houston
X-ORIGINAL-URL:https://cpchouston.org
X-WR-CALDESC:Events for Christ Presbyterian Church of Houston
REFRESH-INTERVAL;VALUE=DURATION:PT1H
X-Robots-Tag:noindex
X-PUBLISHED-TTL:PT1H
BEGIN:VTIMEZONE
TZID:America/Chicago
BEGIN:DAYLIGHT
TZOFFSETFROM:-0600
TZOFFSETTO:-0500
TZNAME:CDT
DTSTART:20240310T080000
END:DAYLIGHT
BEGIN:STANDARD
TZOFFSETFROM:-0500
TZOFFSETTO:-0600
TZNAME:CST
DTSTART:20241103T070000
END:STANDARD
BEGIN:DAYLIGHT
TZOFFSETFROM:-0600
TZOFFSETTO:-0500
TZNAME:CDT
DTSTART:20250309T080000
END:DAYLIGHT
BEGIN:STANDARD
TZOFFSETFROM:-0500
TZOFFSETTO:-0600
TZNAME:CST
DTSTART:20251102T070000
END:STANDARD
BEGIN:DAYLIGHT
TZOFFSETFROM:-0600
TZOFFSETTO:-0500
TZNAME:CDT
DTSTART:20260308T080000
END:DAYLIGHT
BEGIN:STANDARD
TZOFFSETFROM:-0500
TZOFFSETTO:-0600
TZNAME:CST
DTSTART:20261101T070000
END:STANDARD
END:VTIMEZONE
BEGIN:VEVENT
DTSTART;TZID=America/Chicago:20251109T094500
DTEND;TZID=America/Chicago:20251109T100000
DTSTAMP:20260424T103145
CREATED:20251015T160158Z
LAST-MODIFIED:20251015T160311Z
UID:21566-1762681500-1762682400@cpchouston.org
SUMMARY:Congregational Meeting
DESCRIPTION:A Congregational Meeting for the purpose of electing the 2026 Officer Nominating Committee (ONC) will be held Sunday\, November 9\, immediately following the 8:30 am worship service. The two elders appointed to the ONC by the Session are Tommy Ikard and Shawn Shoop. The two deacons/diaconal ministry team members appointed by the Diaconate are Long Tran and Gayle Scott. \nIf you have any suggestions for the four at-large members of the ONC\, please send them to Tommy Ikard by Thursday\, October 30. \nA Town Hall meeting to hear a brief budget update from the Finance Committee will follow. Adult Sunday school classes will meet afterward.
URL:https://cpchouston.org/event/congregational-meeting-8/
LOCATION:CPC\, 8300 Katy Fwy\, Houston\, TX\, 77024\, United States
CATEGORIES:Featured Event
ATTACH;FMTTYPE=image/png:https://cpchouston.org/wp-content/uploads/2022/05/Congregational-Meeting.png
END:VEVENT
END:VCALENDAR