BEGIN:VCALENDAR
VERSION:2.0
PRODID:-//Christ Presbyterian Church of Houston - ECPv6.15.20//NONSGML v1.0//EN
CALSCALE:GREGORIAN
METHOD:PUBLISH
X-WR-CALNAME:Christ Presbyterian Church of Houston
X-ORIGINAL-URL:https://cpchouston.org
X-WR-CALDESC:Events for Christ Presbyterian Church of Houston
REFRESH-INTERVAL;VALUE=DURATION:PT1H
X-Robots-Tag:noindex
X-PUBLISHED-TTL:PT1H
BEGIN:VTIMEZONE
TZID:America/Chicago
BEGIN:DAYLIGHT
TZOFFSETFROM:-0600
TZOFFSETTO:-0500
TZNAME:CDT
DTSTART:20250309T080000
END:DAYLIGHT
BEGIN:STANDARD
TZOFFSETFROM:-0500
TZOFFSETTO:-0600
TZNAME:CST
DTSTART:20251102T070000
END:STANDARD
BEGIN:DAYLIGHT
TZOFFSETFROM:-0600
TZOFFSETTO:-0500
TZNAME:CDT
DTSTART:20260308T080000
END:DAYLIGHT
BEGIN:STANDARD
TZOFFSETFROM:-0500
TZOFFSETTO:-0600
TZNAME:CST
DTSTART:20261101T070000
END:STANDARD
BEGIN:DAYLIGHT
TZOFFSETFROM:-0600
TZOFFSETTO:-0500
TZNAME:CDT
DTSTART:20270314T080000
END:DAYLIGHT
BEGIN:STANDARD
TZOFFSETFROM:-0500
TZOFFSETTO:-0600
TZNAME:CST
DTSTART:20271107T070000
END:STANDARD
END:VTIMEZONE
BEGIN:VEVENT
DTSTART;TZID=America/Chicago:20260104T100000
DTEND;TZID=America/Chicago:20260104T104500
DTSTAMP:20260420T183209
CREATED:20251216T184930Z
LAST-MODIFIED:20251216T185228Z
UID:22226-1767520800-1767523500@cpchouston.org
SUMMARY:All-Church Prayer
DESCRIPTION:All adults are encouraged to come to our All-Church Prayer Gathering on Sunday\, January 4\, at 10:00 am in the Chapel. Pastor Harris will briefly teach on the topic of prayer before leading us in a time of prayer for 2026. Middle school and high school students will join their parents for this time of prayer. Children’s Ministry will meet as usual.
URL:https://cpchouston.org/event/all-church-prayer-5/
LOCATION:CPC\, 8300 Katy Fwy\, Houston\, TX\, 77024\, United States
CATEGORIES:Featured Event
ATTACH;FMTTYPE=image/png:https://cpchouston.org/wp-content/uploads/2021/12/All-Church-Prayer-9-2018-Events.png
END:VEVENT
BEGIN:VEVENT
DTSTART;VALUE=DATE:20260123
DTEND;VALUE=DATE:20260125
DTSTAMP:20260420T183209
CREATED:20251008T144904Z
LAST-MODIFIED:20260113T161417Z
UID:21496-1769126400-1769299199@cpchouston.org
SUMMARY:Marriage Conference
DESCRIPTION:Whether you’re single\, dating\, engaged\, or married\, please join us Friday evening\, January 23\, and Saturday morning\, January 24\, for our 2026 Shaped by the Gospel Marriage Conference. Chad and Emily Van Dixhoorn have written a wonderfully Christ-centered and practical book on the topic of marriage. Over three talks and Q&A sessions\, we will think through biblical truths about marriage to help singles and couples be more thoughtful and prayerful in their relationships. \nShaped by the Gospel\nThe institution of marriage is part of God’s design for creation and a key part of the life of a Christian community. Healthy Christian marriages offer blessings to the whole church. In this conference we consider how marriage can be shaped by the gospel\, and how in marriage we can offer grace to sinners to live like saints. \nSchedule:\nFriday\, January 23\, 7:30-8:30 pm. Doors open at 7 pm\, and refreshments will be provided.\nSaturday\, January 24\, 9:30-11:45 am. If you would like to join us for a light breakfast and fellowship on Saturday\, doors will be open at 8:45 am.\n \nCost:\n$50/couple\, $35/individual \nChildcare:\nChildcare for children in 5th grade and younger is available. \nRegister for Conference\n \n\n  \nAbout Our Speakers\, Chad and Emily Van Dixhoorn\nDr. Van Dixhoorn is Professor of Church History and Theology at Reformed Theological Seminary\, Charlotte. A leading expert on the work of the Westminster Assembly\, he was elected a Fellow of the Royal Historical Society in recognition of his five-volume work The Minutes and Papers of the Westminster Assembly\, 1643-1653 (Oxford University Press). He is currently working on a major monograph on the Westminster Assembly\, having recently completed an edition of John Lightfoot’s journals\, published with Oxford University Press. \nAfter receiving his Ph.D. from the University of Cambridge\, Dr. Van Dixhoorn was awarded a post-doctoral fellowship from the British Academy. He also studied at Westminster Theological Seminary (MDiv\, ThM) and Huron College\, The University of Western Ontario (B.A.). He was a member of the Faculty of History of the University of Cambridge and held two fellowships at Wolfson College\, Cambridge. Since 2013\, Dr. Van Dixhoorn has also served as an honorary research fellow at the University of East Anglia in the U.K.\, and since 2023 as an adjunct professor at the University of Toronto. \nOrdained in the Orthodox Presbyterian Church\, Dr. Van Dixhoorn has served as a pastor at Cambridge Presbyterian Church in the U.K. and at Grace Presbyterian Church in Vienna\, VA. \nMrs. Emily Van Dixhoorn (MAR Westminster Theological Seminary) loves Bible study and prayer\, especially when shared with others. She regularly speaks at women’s retreats and marriage conferences. Mrs. Van Dixhoorn is the author of Confessing the Faith Study Guide\, a companion to her husband Chad Van Dixhoorn’s commentary on the Westminster Confession of Faith. She and her husband co-authored Gospel Shaped Marriage: Grace for Sinners to Love like Saints. They regularly welcome people into their home of happy chaos. Emily and Chad have five children ages 13-25 and one son-in-law. For fun\, Emily plays tennis\, teaches math\, and walks their dog.
URL:https://cpchouston.org/event/marriage-conference/
LOCATION:CPC\, 8300 Katy Fwy\, Houston\, TX\, 77024\, United States
CATEGORIES:Families,Featured Event
ATTACH;FMTTYPE=image/png:https://cpchouston.org/wp-content/uploads/2025/10/Marriage-Conference-Events.png
END:VEVENT
BEGIN:VEVENT
DTSTART;VALUE=DATE:20260125
DTEND;VALUE=DATE:20260126
DTSTAMP:20260420T183209
CREATED:20260121T224148Z
LAST-MODIFIED:20260121T224223Z
UID:22501-1769299200-1769385599@cpchouston.org
SUMMARY:Modified Sunday Schedule
DESCRIPTION:Due to the likelihood of dangerous road conditions early Sunday morning\, we will have a modified schedule Sunday\, January 25. We will not have an 8:30 am worship service. Instead\, the morning schedule will be as follows: \nModified Schedule January 25\, 2026\nNo 8:30 am Worship Service\n10:00 am Sunday School\n11:00 am Worship Service \nIf you are able\, please join us for Sunday School at 10:00 and Worship at 11:00. \n 
URL:https://cpchouston.org/event/modified-sunday-schedule/
LOCATION:CPC\, 8300 Katy Fwy\, Houston\, TX\, 77024\, United States
CATEGORIES:Featured Event
ATTACH;FMTTYPE=image/png:https://cpchouston.org/wp-content/uploads/2026/01/Modified-Schedule-01-25-2026.png
END:VEVENT
END:VCALENDAR