BEGIN:VCALENDAR
VERSION:2.0
PRODID:-//Christ Presbyterian Church of Houston - ECPv6.15.20//NONSGML v1.0//EN
CALSCALE:GREGORIAN
METHOD:PUBLISH
X-WR-CALNAME:Christ Presbyterian Church of Houston
X-ORIGINAL-URL:https://cpchouston.org
X-WR-CALDESC:Events for Christ Presbyterian Church of Houston
REFRESH-INTERVAL;VALUE=DURATION:PT1H
X-Robots-Tag:noindex
X-PUBLISHED-TTL:PT1H
BEGIN:VTIMEZONE
TZID:America/Chicago
BEGIN:DAYLIGHT
TZOFFSETFROM:-0600
TZOFFSETTO:-0500
TZNAME:CDT
DTSTART:20240310T080000
END:DAYLIGHT
BEGIN:STANDARD
TZOFFSETFROM:-0500
TZOFFSETTO:-0600
TZNAME:CST
DTSTART:20241103T070000
END:STANDARD
BEGIN:DAYLIGHT
TZOFFSETFROM:-0600
TZOFFSETTO:-0500
TZNAME:CDT
DTSTART:20250309T080000
END:DAYLIGHT
BEGIN:STANDARD
TZOFFSETFROM:-0500
TZOFFSETTO:-0600
TZNAME:CST
DTSTART:20251102T070000
END:STANDARD
BEGIN:DAYLIGHT
TZOFFSETFROM:-0600
TZOFFSETTO:-0500
TZNAME:CDT
DTSTART:20260308T080000
END:DAYLIGHT
BEGIN:STANDARD
TZOFFSETFROM:-0500
TZOFFSETTO:-0600
TZNAME:CST
DTSTART:20261101T070000
END:STANDARD
END:VTIMEZONE
BEGIN:VEVENT
DTSTART;VALUE=DATE:20250914
DTEND;VALUE=DATE:20250915
DTSTAMP:20260424T120132
CREATED:20250905T152117Z
LAST-MODIFIED:20250909T181949Z
UID:21178-1757808000-1757894399@cpchouston.org
SUMMARY:Youth and Children's Lunches
DESCRIPTION:Youth Lunch\nStudents\, come for fellowship and fun at 12:30 pm in the Barn following the second worship service on September 14. We will have pulled pork sandwiches\, sides\, drinks\, and dessert. Please sign up using the button below. \n					\n									Youth Lunch RSVP\n					 \nChildren’s Lunch\nChildren 5th grade & under are invited for a pizza lunch 12:30-2:30 pm on Sunday\, September 14. We will enjoy fellowship\, games\, and extra time together with our church friends! \n					\n									Children’s Lunch RSVP
URL:https://cpchouston.org/event/youth-and-childrens-lunches/
LOCATION:CPC\, 8300 Katy Fwy\, Houston\, TX\, 77024\, United States
CATEGORIES:Children,Featured Event,Students
ATTACH;FMTTYPE=image/png:https://cpchouston.org/wp-content/uploads/2025/09/Youth-and-Children-Lunches-Digital-Events.png
END:VEVENT
BEGIN:VEVENT
DTSTART;TZID=America/Chicago:20250927T090000
DTEND;TZID=America/Chicago:20250927T150000
DTSTAMP:20260424T120132
CREATED:20250807T223933Z
LAST-MODIFIED:20250827T180500Z
UID:20844-1758963600-1758985200@cpchouston.org
SUMMARY:Meet CPC Weekend
DESCRIPTION:If you want to learn more about our church to help determine if it is a good fit for you\, we invite you to register for our next Meet CPC Weekend. UPDATE: We will meet in the Chapel on Saturday\, September 27\, from 9:00 am – 3:00 pm. Breakfast and lunch will be served. Childcare is available. Please use the button below to register. \n\nMeet CPC Registration
URL:https://cpchouston.org/event/meet-cpc-weekend-6/
LOCATION:CPC\, 8300 Katy Fwy\, Houston\, TX\, 77024\, United States
CATEGORIES:Featured Event,Meet CPC
ATTACH;FMTTYPE=image/png:https://cpchouston.org/wp-content/uploads/2025/08/Meet-CPC-New-Members-Class-09-2025-Events.png
END:VEVENT
END:VCALENDAR