BEGIN:VCALENDAR
VERSION:2.0
PRODID:-//Christ Presbyterian Church of Houston - ECPv6.15.20//NONSGML v1.0//EN
CALSCALE:GREGORIAN
METHOD:PUBLISH
X-ORIGINAL-URL:https://cpchouston.org
X-WR-CALDESC:Events for Christ Presbyterian Church of Houston
REFRESH-INTERVAL;VALUE=DURATION:PT1H
X-Robots-Tag:noindex
X-PUBLISHED-TTL:PT1H
BEGIN:VTIMEZONE
TZID:America/Chicago
BEGIN:DAYLIGHT
TZOFFSETFROM:-0600
TZOFFSETTO:-0500
TZNAME:CDT
DTSTART:20220313T080000
END:DAYLIGHT
BEGIN:STANDARD
TZOFFSETFROM:-0500
TZOFFSETTO:-0600
TZNAME:CST
DTSTART:20221106T070000
END:STANDARD
BEGIN:DAYLIGHT
TZOFFSETFROM:-0600
TZOFFSETTO:-0500
TZNAME:CDT
DTSTART:20230312T080000
END:DAYLIGHT
BEGIN:STANDARD
TZOFFSETFROM:-0500
TZOFFSETTO:-0600
TZNAME:CST
DTSTART:20231105T070000
END:STANDARD
BEGIN:DAYLIGHT
TZOFFSETFROM:-0600
TZOFFSETTO:-0500
TZNAME:CDT
DTSTART:20240310T080000
END:DAYLIGHT
BEGIN:STANDARD
TZOFFSETFROM:-0500
TZOFFSETTO:-0600
TZNAME:CST
DTSTART:20241103T070000
END:STANDARD
END:VTIMEZONE
BEGIN:VEVENT
DTSTART;TZID=America/Chicago:20230907T180000
DTEND;TZID=America/Chicago:20230907T203000
DTSTAMP:20260421T201130
CREATED:20230830T155220Z
LAST-MODIFIED:20230830T155442Z
UID:14228-1694109600-1694118600@cpchouston.org
SUMMARY:English Classes
DESCRIPTION:Free Conversational English Classes\nChrist Presbyterian Church welcomes our community for free conversational English classes. \nTime: Thursdays from 6:00-8:30 pm \nLocation: Classes are held at 8300 Katy Freeway\, Houston\, TX 77024. \nNew students are welcome to start attending any Thursday. Please register in advance so we know you’re coming using the link below: \nRegister \nComplete an interview to see which level of classes you need: \n\nBeginner: for those who speak little or no English\nIntermediate: for those who know “just enough” English to get by\nAdvanced: for those who want to improve their pronunciation and accent and to feel more comfortable conversing at work\, at school\, and in the community\n\nFree childcare is available. Space is limited. \nClasses are free\, but students do need a book that can be purchased after completing the interview. \nInformation: For more information\, please contact Axel Sotelo at (832)710-6193 or asotelo@cpchouston.org. \nClases Gratis de Inglés Conversacional\nJueves de 6:00-8:30 pm \nLa dirección es 8300 Katy Freeway\, Houston\, TX 77024. \nEstudiantes nuevos están bienvenidos cualquier jueves. Por favor regístrate por adelantado: \nRegistrate \nRealiza una entrevista para saber en cual nivel de clases quedas: \n\nPrincipiante: Para los que hablan poco o nada de inglés\nIntermedio: Para aquellos que saben “lo suficiente” inglés para sobrevivir en la vida diaria\nAvanzado: Para aquellos que desean mejorar su pronunciación y acento y sentirse más cómodos conversando en el trabajo\, en la escuela y en la comunidad\n\nSe ofrece servicio de guardería para niños. El cupo es limitado. \nLas clases son sin costo alguno\, pero los estudiantes requieren de un libro que pueden comprar después de su entrevista. \nPara más información contacta a Axel Sotelo al (832)710-6193 o asotelo@cpchouston.org.
URL:https://cpchouston.org/event/english-classes-2/2023-09-07/
LOCATION:CPC\, 8300 Katy Fwy\, Houston\, TX\, 77024\, United States
CATEGORIES:ESL
END:VEVENT
END:VCALENDAR