BEGIN:VCALENDAR
VERSION:2.0
PRODID:-//Christ Presbyterian Church of Houston - ECPv6.15.20//NONSGML v1.0//EN
CALSCALE:GREGORIAN
METHOD:PUBLISH
X-WR-CALNAME:Christ Presbyterian Church of Houston
X-ORIGINAL-URL:https://cpchouston.org
X-WR-CALDESC:Events for Christ Presbyterian Church of Houston
REFRESH-INTERVAL;VALUE=DURATION:PT1H
X-Robots-Tag:noindex
X-PUBLISHED-TTL:PT1H
BEGIN:VTIMEZONE
TZID:America/Chicago
BEGIN:DAYLIGHT
TZOFFSETFROM:-0600
TZOFFSETTO:-0500
TZNAME:CDT
DTSTART:20210314T080000
END:DAYLIGHT
BEGIN:STANDARD
TZOFFSETFROM:-0500
TZOFFSETTO:-0600
TZNAME:CST
DTSTART:20211107T070000
END:STANDARD
BEGIN:DAYLIGHT
TZOFFSETFROM:-0600
TZOFFSETTO:-0500
TZNAME:CDT
DTSTART:20220313T080000
END:DAYLIGHT
BEGIN:STANDARD
TZOFFSETFROM:-0500
TZOFFSETTO:-0600
TZNAME:CST
DTSTART:20221106T070000
END:STANDARD
BEGIN:DAYLIGHT
TZOFFSETFROM:-0600
TZOFFSETTO:-0500
TZNAME:CDT
DTSTART:20230312T080000
END:DAYLIGHT
BEGIN:STANDARD
TZOFFSETFROM:-0500
TZOFFSETTO:-0600
TZNAME:CST
DTSTART:20231105T070000
END:STANDARD
END:VTIMEZONE
BEGIN:VEVENT
DTSTART;TZID=America/Chicago:20220826T180000
DTEND;TZID=America/Chicago:20220826T213000
DTSTAMP:20260422T172801
CREATED:20220809T173429Z
LAST-MODIFIED:20220809T173841Z
UID:8564-1661536800-1661549400@cpchouston.org
SUMMARY:ESL Teacher Training
DESCRIPTION:If you love God\, speak English\, and desire to reach out to others in our community\, you can learn to teach English! We will have new teacher training August 26 & 27.  If you need more information\, please contact Axel Sotelo at axel@cepc.org or 832-710-6193. If you are a Rice RUF student or CEPC member\, please contact Axel before registering. \nFriday night\, August 26\, 6:00-9:30pmSaturday\, August 27\, 8:45am-5:30pm \nCost $50 (The training is free\, but there is a $50 fee to cover the training manual\, training supplies\, snacks for both days and lunch on Saturday.) \nAttendance both days is required for course completion. \nSnacks are provided both days\, and lunch is provided on Saturday. \n			\n						Register
URL:https://cpchouston.org/event/esl-teacher-training-2/2022-08-26/
LOCATION:CPC\, 8300 Katy Fwy\, Houston\, TX\, 77024\, United States
CATEGORIES:ESL,Featured Event
ATTACH;FMTTYPE=image/png:https://cpchouston.org/wp-content/uploads/2021/09/ESL.png
END:VEVENT
END:VCALENDAR