BEGIN:VCALENDAR
VERSION:2.0
PRODID:-//Christ Presbyterian Church of Houston - ECPv6.15.20//NONSGML v1.0//EN
CALSCALE:GREGORIAN
METHOD:PUBLISH
X-WR-CALNAME:Christ Presbyterian Church of Houston
X-ORIGINAL-URL:https://cpchouston.org
X-WR-CALDESC:Events for Christ Presbyterian Church of Houston
REFRESH-INTERVAL;VALUE=DURATION:PT1H
X-Robots-Tag:noindex
X-PUBLISHED-TTL:PT1H
BEGIN:VTIMEZONE
TZID:America/Chicago
BEGIN:DAYLIGHT
TZOFFSETFROM:-0600
TZOFFSETTO:-0500
TZNAME:CDT
DTSTART:20240310T080000
END:DAYLIGHT
BEGIN:STANDARD
TZOFFSETFROM:-0500
TZOFFSETTO:-0600
TZNAME:CST
DTSTART:20241103T070000
END:STANDARD
BEGIN:DAYLIGHT
TZOFFSETFROM:-0600
TZOFFSETTO:-0500
TZNAME:CDT
DTSTART:20250309T080000
END:DAYLIGHT
BEGIN:STANDARD
TZOFFSETFROM:-0500
TZOFFSETTO:-0600
TZNAME:CST
DTSTART:20251102T070000
END:STANDARD
BEGIN:DAYLIGHT
TZOFFSETFROM:-0600
TZOFFSETTO:-0500
TZNAME:CDT
DTSTART:20260308T080000
END:DAYLIGHT
BEGIN:STANDARD
TZOFFSETFROM:-0500
TZOFFSETTO:-0600
TZNAME:CST
DTSTART:20261101T070000
END:STANDARD
END:VTIMEZONE
BEGIN:VEVENT
DTSTART;TZID=America/Chicago:20251224T163000
DTEND;TZID=America/Chicago:20251224T173000
DTSTAMP:20260422T172500
CREATED:20251030T193552Z
LAST-MODIFIED:20251216T185331Z
UID:21779-1766593800-1766597400@cpchouston.org
SUMMARY:Christmas Eve Worship
DESCRIPTION:Ladies\, you are invited to the Women’s Christmas Wrap Party on Thursday\, December 14\, 7:00-9:00 at Cindy Meeh’s home. Gift wrapping supplies will be provided if you would like to get a head start on wrapping some of your Christmas gifts. Please bring a dessert\, appetizer\, or beverage to share. We hope you will join us for a fun\, casual evening of fellowship together! See you there! 								\n				\n				\n				\n									\n					\n						\n									Register
URL:https://cpchouston.org/event/christmas-eve-worship-7/
LOCATION:CPC\, 8300 Katy Fwy\, Houston\, TX\, 77024\, United States
CATEGORIES:Christmas,Featured Event
ATTACH;FMTTYPE=image/png:https://cpchouston.org/wp-content/uploads/2025/10/Christmas-Eve-Digital-Events.png
END:VEVENT
BEGIN:VEVENT
DTSTART;TZID=America/Chicago:20251224T180000
DTEND;TZID=America/Chicago:20251224T191500
DTSTAMP:20260422T172500
CREATED:20251104T173215Z
LAST-MODIFIED:20251216T185316Z
UID:21936-1766599200-1766603700@cpchouston.org
SUMMARY:Christmas Eve Worship
DESCRIPTION:Ladies\, you are invited to the Women’s Christmas Wrap Party on Thursday\, December 14\, 7:00-9:00 at Cindy Meeh’s home. Gift wrapping supplies will be provided if you would like to get a head start on wrapping some of your Christmas gifts. Please bring a dessert\, appetizer\, or beverage to share. We hope you will join us for a fun\, casual evening of fellowship together! See you there! 								\n				\n				\n				\n									\n					\n						\n									Register
URL:https://cpchouston.org/event/christmas-eve-worship-8/
LOCATION:CPC\, 8300 Katy Fwy\, Houston\, TX\, 77024\, United States
CATEGORIES:Christmas,Featured Event
ATTACH;FMTTYPE=image/png:https://cpchouston.org/wp-content/uploads/2025/10/Christmas-Eve-Digital-Events.png
END:VEVENT
BEGIN:VEVENT
DTSTART;VALUE=DATE:20251225
DTEND;VALUE=DATE:20251226
DTSTAMP:20260422T172500
CREATED:20251104T172855Z
LAST-MODIFIED:20251222T145648Z
UID:21925-1766620800-1766707199@cpchouston.org
SUMMARY:Christmas Worship and Events
DESCRIPTION:Ladies\, you are invited to the Women’s Christmas Wrap Party on Thursday\, December 14\, 7:00-9:00 at Cindy Meeh’s home. Gift wrapping supplies will be provided if you would like to get a head start on wrapping some of your Christmas gifts. Please bring a dessert\, appetizer\, or beverage to share. We hope you will join us for a fun\, casual evening of fellowship together! See you there! 								\n				\n				\n				\n									\n					\n						\n									Register
URL:https://cpchouston.org/event/christmas-worship-and-events-2/
LOCATION:CPC\, 8300 Katy Fwy\, Houston\, TX\, 77024\, United States
CATEGORIES:Christmas
ATTACH;FMTTYPE=image/png:https://cpchouston.org/wp-content/uploads/2025/10/Christmas-Worship-and-Events-Digital-2025.png
END:VEVENT
END:VCALENDAR