BEGIN:VCALENDAR
VERSION:2.0
PRODID:-//Christ Presbyterian Church of Houston - ECPv6.15.20//NONSGML v1.0//EN
CALSCALE:GREGORIAN
METHOD:PUBLISH
X-ORIGINAL-URL:https://cpchouston.org
X-WR-CALDESC:Events for Christ Presbyterian Church of Houston
REFRESH-INTERVAL;VALUE=DURATION:PT1H
X-Robots-Tag:noindex
X-PUBLISHED-TTL:PT1H
BEGIN:VTIMEZONE
TZID:America/Chicago
BEGIN:DAYLIGHT
TZOFFSETFROM:-0600
TZOFFSETTO:-0500
TZNAME:CDT
DTSTART:20220313T080000
END:DAYLIGHT
BEGIN:STANDARD
TZOFFSETFROM:-0500
TZOFFSETTO:-0600
TZNAME:CST
DTSTART:20221106T070000
END:STANDARD
BEGIN:DAYLIGHT
TZOFFSETFROM:-0600
TZOFFSETTO:-0500
TZNAME:CDT
DTSTART:20230312T080000
END:DAYLIGHT
BEGIN:STANDARD
TZOFFSETFROM:-0500
TZOFFSETTO:-0600
TZNAME:CST
DTSTART:20231105T070000
END:STANDARD
BEGIN:DAYLIGHT
TZOFFSETFROM:-0600
TZOFFSETTO:-0500
TZNAME:CDT
DTSTART:20240310T080000
END:DAYLIGHT
BEGIN:STANDARD
TZOFFSETFROM:-0500
TZOFFSETTO:-0600
TZNAME:CST
DTSTART:20241103T070000
END:STANDARD
END:VTIMEZONE
BEGIN:VEVENT
DTSTART;TZID=America/Chicago:20231224T100000
DTEND;TZID=America/Chicago:20231224T111500
DTSTAMP:20260422T081630
CREATED:20231208T172148Z
LAST-MODIFIED:20231208T172922Z
UID:15139-1703412000-1703416500@cpchouston.org
SUMMARY:Worship Service
DESCRIPTION:Sunday\, December 24\n10:00 am Worship Service (No Sunday School) \nChristmas Eve Worship \nSunday\, December 24\n4:30 pm Family Candlelight Nativity Service\n6:00 pm Communion Candlelight Lessons & Carols
URL:https://cpchouston.org/event/worship-service-4/
LOCATION:CPC\, 8300 Katy Fwy\, Houston\, TX\, 77024\, United States
CATEGORIES:Christmas
ATTACH;FMTTYPE=image/png:https://cpchouston.org/wp-content/uploads/2023/11/Christmas-Digital-2023-Events-b.png
END:VEVENT
BEGIN:VEVENT
DTSTART;TZID=America/Chicago:20231224T163000
DTEND;TZID=America/Chicago:20231224T173000
DTSTAMP:20260422T081630
CREATED:20231208T172520Z
LAST-MODIFIED:20231208T172520Z
UID:15150-1703435400-1703439000@cpchouston.org
SUMMARY:Christmas Eve Worship
DESCRIPTION:Sunday\, December 24\n10:00 am Worship Service (No Sunday School) \nChristmas Eve Worship \nSunday\, December 24\n4:30 pm Family Candlelight Nativity Service\n6:00 pm Communion Candlelight Lessons & Carols
URL:https://cpchouston.org/event/christmas-eve-worship-3/
LOCATION:CPC\, 8300 Katy Fwy\, Houston\, TX\, 77024\, United States
CATEGORIES:Christmas
ATTACH;FMTTYPE=image/png:https://cpchouston.org/wp-content/uploads/2023/11/Christmas-Digital-2023-Events-b.png
END:VEVENT
BEGIN:VEVENT
DTSTART;TZID=America/Chicago:20231224T180000
DTEND;TZID=America/Chicago:20231224T191500
DTSTAMP:20260422T081630
CREATED:20231208T172602Z
LAST-MODIFIED:20231208T172841Z
UID:15152-1703440800-1703445300@cpchouston.org
SUMMARY:Christmas Eve Worship
DESCRIPTION:Sunday\, December 24\n10:00 am Worship Service (No Sunday School) \nChristmas Eve Worship \nSunday\, December 24\n4:30 pm Family Candlelight Nativity Service\n6:00 pm Communion Candlelight Lessons & Carols
URL:https://cpchouston.org/event/christmas-eve-worship-4/
LOCATION:CPC\, 8300 Katy Fwy\, Houston\, TX\, 77024\, United States
CATEGORIES:Christmas
ATTACH;FMTTYPE=image/png:https://cpchouston.org/wp-content/uploads/2023/11/Christmas-Digital-2023-Events-b.png
END:VEVENT
END:VCALENDAR