BEGIN:VCALENDAR
VERSION:2.0
PRODID:-//Christ Presbyterian Church of Houston - ECPv6.15.20//NONSGML v1.0//EN
CALSCALE:GREGORIAN
METHOD:PUBLISH
X-WR-CALNAME:Christ Presbyterian Church of Houston
X-ORIGINAL-URL:https://cpchouston.org
X-WR-CALDESC:Events for Christ Presbyterian Church of Houston
REFRESH-INTERVAL;VALUE=DURATION:PT1H
X-Robots-Tag:noindex
X-PUBLISHED-TTL:PT1H
BEGIN:VTIMEZONE
TZID:America/Chicago
BEGIN:DAYLIGHT
TZOFFSETFROM:-0600
TZOFFSETTO:-0500
TZNAME:CDT
DTSTART:20220313T080000
END:DAYLIGHT
BEGIN:STANDARD
TZOFFSETFROM:-0500
TZOFFSETTO:-0600
TZNAME:CST
DTSTART:20221106T070000
END:STANDARD
BEGIN:DAYLIGHT
TZOFFSETFROM:-0600
TZOFFSETTO:-0500
TZNAME:CDT
DTSTART:20230312T080000
END:DAYLIGHT
BEGIN:STANDARD
TZOFFSETFROM:-0500
TZOFFSETTO:-0600
TZNAME:CST
DTSTART:20231105T070000
END:STANDARD
BEGIN:DAYLIGHT
TZOFFSETFROM:-0600
TZOFFSETTO:-0500
TZNAME:CDT
DTSTART:20240310T080000
END:DAYLIGHT
BEGIN:STANDARD
TZOFFSETFROM:-0500
TZOFFSETTO:-0600
TZNAME:CST
DTSTART:20241103T070000
END:STANDARD
END:VTIMEZONE
BEGIN:VEVENT
DTSTART;TZID=America/Chicago:20231201T180000
DTEND;TZID=America/Chicago:20231201T210000
DTSTAMP:20260422T095212
CREATED:20231102T195810Z
LAST-MODIFIED:20231103T173501Z
UID:14833-1701453600-1701464400@cpchouston.org
SUMMARY:Family Ministry Christmas Party
DESCRIPTION:Families\, you are invited to CPC’s annual Family Ministry Christmas Party on Friday\, December 1\, 6-9 pm! Enjoy a delicious meal\, fellowship with friends\, and a bonfire (weather permitting). \nWear your tackiest or classiest Christmas sweater\, as prizes will be awarded! \nChildcare will be provided for children in 5th grade and younger\, at CPC. You may drop off your children beginning at 5:45 and head over to the Williams’ home to join the party! \n			\n						Register
URL:https://cpchouston.org/event/family-ministry-christmas-party/
LOCATION:CPC\, 8300 Katy Fwy\, Houston\, TX\, 77024\, United States
CATEGORIES:Christmas,Families,Featured Event
ATTACH;FMTTYPE=image/png:https://cpchouston.org/wp-content/uploads/2023/11/Family-Christmas-Party-Digital-2023-events.png
END:VEVENT
END:VCALENDAR