BEGIN:VCALENDAR
VERSION:2.0
PRODID:-//Christ Presbyterian Church of Houston - ECPv6.15.20//NONSGML v1.0//EN
CALSCALE:GREGORIAN
METHOD:PUBLISH
X-WR-CALNAME:Christ Presbyterian Church of Houston
X-ORIGINAL-URL:https://cpchouston.org
X-WR-CALDESC:Events for Christ Presbyterian Church of Houston
REFRESH-INTERVAL;VALUE=DURATION:PT1H
X-Robots-Tag:noindex
X-PUBLISHED-TTL:PT1H
BEGIN:VTIMEZONE
TZID:America/Chicago
BEGIN:DAYLIGHT
TZOFFSETFROM:-0600
TZOFFSETTO:-0500
TZNAME:CDT
DTSTART:20240310T080000
END:DAYLIGHT
BEGIN:STANDARD
TZOFFSETFROM:-0500
TZOFFSETTO:-0600
TZNAME:CST
DTSTART:20241103T070000
END:STANDARD
BEGIN:DAYLIGHT
TZOFFSETFROM:-0600
TZOFFSETTO:-0500
TZNAME:CDT
DTSTART:20250309T080000
END:DAYLIGHT
BEGIN:STANDARD
TZOFFSETFROM:-0500
TZOFFSETTO:-0600
TZNAME:CST
DTSTART:20251102T070000
END:STANDARD
BEGIN:DAYLIGHT
TZOFFSETFROM:-0600
TZOFFSETTO:-0500
TZNAME:CDT
DTSTART:20260308T080000
END:DAYLIGHT
BEGIN:STANDARD
TZOFFSETFROM:-0500
TZOFFSETTO:-0600
TZNAME:CST
DTSTART:20261101T070000
END:STANDARD
END:VTIMEZONE
BEGIN:VEVENT
DTSTART;VALUE=DATE:20250610
DTEND;VALUE=DATE:20250614
DTSTAMP:20260419T185436
CREATED:20250213T215828Z
LAST-MODIFIED:20250605T185130Z
UID:19440-1749513600-1749859199@cpchouston.org
SUMMARY:CPC Grand Prix Summer Camp
DESCRIPTION:Calling All Racers! \nCalling all racers! Join us for the CPC Grand Prix Summer Camp June 10-13\, 9am-12pm daily. We invite rising kindergarteners through fifth graders to be part of this exciting week filled with games\, crafts\, Bible lessons\, and fellowship with old and new friends!  \nClasses are offered for children who will be 5 years old by 9/1/2025 and entering kindergarten in the fall of 2025 through children entering 5th grade in the fall of 2025. \nCamper registration is now closed. \n					\n									Volunteer Registration\n					\n					\n									Snack Sign-Up
URL:https://cpchouston.org/event/cpc-grand-prix-summer-camp/
LOCATION:CPC\, 8300 Katy Fwy\, Houston\, TX\, 77024\, United States
CATEGORIES:Children,Featured Event
ATTACH;FMTTYPE=image/png:https://cpchouston.org/wp-content/uploads/2025/02/Summer-Camp-2025-Digital-events-4.png
END:VEVENT
END:VCALENDAR