BEGIN:VCALENDAR
VERSION:2.0
PRODID:-//Christ Presbyterian Church of Houston - ECPv6.15.20//NONSGML v1.0//EN
CALSCALE:GREGORIAN
METHOD:PUBLISH
X-WR-CALNAME:Christ Presbyterian Church of Houston
X-ORIGINAL-URL:https://cpchouston.org
X-WR-CALDESC:Events for Christ Presbyterian Church of Houston
REFRESH-INTERVAL;VALUE=DURATION:PT1H
X-Robots-Tag:noindex
X-PUBLISHED-TTL:PT1H
BEGIN:VTIMEZONE
TZID:America/Chicago
BEGIN:DAYLIGHT
TZOFFSETFROM:-0600
TZOFFSETTO:-0500
TZNAME:CDT
DTSTART:20230312T080000
END:DAYLIGHT
BEGIN:STANDARD
TZOFFSETFROM:-0500
TZOFFSETTO:-0600
TZNAME:CST
DTSTART:20231105T070000
END:STANDARD
BEGIN:DAYLIGHT
TZOFFSETFROM:-0600
TZOFFSETTO:-0500
TZNAME:CDT
DTSTART:20240310T080000
END:DAYLIGHT
BEGIN:STANDARD
TZOFFSETFROM:-0500
TZOFFSETTO:-0600
TZNAME:CST
DTSTART:20241103T070000
END:STANDARD
BEGIN:DAYLIGHT
TZOFFSETFROM:-0600
TZOFFSETTO:-0500
TZNAME:CDT
DTSTART:20250309T080000
END:DAYLIGHT
BEGIN:STANDARD
TZOFFSETFROM:-0500
TZOFFSETTO:-0600
TZNAME:CST
DTSTART:20251102T070000
END:STANDARD
END:VTIMEZONE
BEGIN:VEVENT
DTSTART;VALUE=DATE:20240716
DTEND;VALUE=DATE:20240720
DTSTAMP:20260420T141313
CREATED:20240403T221611Z
LAST-MODIFIED:20240710T125458Z
UID:16475-1721088000-1721433599@cpchouston.org
SUMMARY:Vacation Bible School
DESCRIPTION:Please Pray for our Volunteers & Children\nPlease pray for our volunteers and children as they gather for Vacation Bible School! If you signed up to serve\, please plan to attend the volunteer training on Monday\, July 15. Breakfast will be provided at 9:00 am\, and training will begin at 9:30 am.  \n			\n									Volunteer Sign-Up\n					 \nVBS 2024 July 16-19\nWe have reached capacity at this time. If you would like to be added to the wait list\, please contact Angela Ikard. \n We are excited to welcome your child to Christ Presbyterian Church for the week of July 16 – July 19. Children will enjoy games\, crafts\, Bible lessons\, and fellowship with friends! \nJuly 16 – 19 / Tuesday – Friday9:00 am – 12:00 pm \nClasses are offered for children who will be 5 years old by 9/1/2024 and entering kindergarten in the fall of 2024 through children entering 5th grade in the fall of 2024. Full VBS programming will be offered to preschool and nursery age children of volunteers. \nFor more information\, please contact Angela Ikard
URL:https://cpchouston.org/event/vacation-bible-school-3/
LOCATION:CPC\, 8300 Katy Fwy\, Houston\, TX\, 77024\, United States
CATEGORIES:Children,Featured Event
ATTACH;FMTTYPE=image/png:https://cpchouston.org/wp-content/uploads/2024/04/VBS-2024-Digital-NO-DATES.png
END:VEVENT
END:VCALENDAR