BEGIN:VCALENDAR
VERSION:2.0
PRODID:-//Christ Presbyterian Church of Houston - ECPv6.15.20//NONSGML v1.0//EN
CALSCALE:GREGORIAN
METHOD:PUBLISH
X-ORIGINAL-URL:https://cpchouston.org
X-WR-CALDESC:Events for Christ Presbyterian Church of Houston
REFRESH-INTERVAL;VALUE=DURATION:PT1H
X-Robots-Tag:noindex
X-PUBLISHED-TTL:PT1H
BEGIN:VTIMEZONE
TZID:America/Chicago
BEGIN:DAYLIGHT
TZOFFSETFROM:-0600
TZOFFSETTO:-0500
TZNAME:CDT
DTSTART:20220313T080000
END:DAYLIGHT
BEGIN:STANDARD
TZOFFSETFROM:-0500
TZOFFSETTO:-0600
TZNAME:CST
DTSTART:20221106T070000
END:STANDARD
BEGIN:DAYLIGHT
TZOFFSETFROM:-0600
TZOFFSETTO:-0500
TZNAME:CDT
DTSTART:20230312T080000
END:DAYLIGHT
BEGIN:STANDARD
TZOFFSETFROM:-0500
TZOFFSETTO:-0600
TZNAME:CST
DTSTART:20231105T070000
END:STANDARD
BEGIN:DAYLIGHT
TZOFFSETFROM:-0600
TZOFFSETTO:-0500
TZNAME:CDT
DTSTART:20240310T080000
END:DAYLIGHT
BEGIN:STANDARD
TZOFFSETFROM:-0500
TZOFFSETTO:-0600
TZNAME:CST
DTSTART:20241103T070000
END:STANDARD
END:VTIMEZONE
BEGIN:VEVENT
DTSTART;TZID=America/Chicago:20230909T143000
DTEND;TZID=America/Chicago:20230909T173000
DTSTAMP:20260421T085012
CREATED:20230803T182532Z
LAST-MODIFIED:20230803T182658Z
UID:13233-1694269800-1694280600@cpchouston.org
SUMMARY:Family Ministry Fall Kick-Off
DESCRIPTION:Join us for the Family Ministry’s Fall Kickoff event on Saturday\, September 9\, from 2:30 – 5:30 pm in the Barn! Enjoy snacks and fellowship as we watch the A&M at Miami game! Whether you love the Aggies\, or just love a good Aggie joke\, come kick-off a great year with us! Sign up to bring snacks\, dips\, desserts\, and drinks. See you there!!! \nFor the children:We will have bouncy houses\, lawn games\, and crafts for kids of ALL ages! The nursery will be open for children five and younger. \nFor more information\, please contact Angela Ikard at aikard@cpchouston.org. \n			\n						Kick-Off Registration
URL:https://cpchouston.org/event/family-ministry-fall-kick-off/
LOCATION:CPC\, 8300 Katy Fwy\, Houston\, TX\, 77024\, United States
CATEGORIES:Children,Families,Featured Event
ATTACH;FMTTYPE=image/png:https://cpchouston.org/wp-content/uploads/2023/08/Family-Min-KickOff-Football-09-2023-planning-center-2.png
END:VEVENT
END:VCALENDAR