BEGIN:VCALENDAR
VERSION:2.0
PRODID:-//Christ Presbyterian Church of Houston - ECPv6.15.20//NONSGML v1.0//EN
CALSCALE:GREGORIAN
METHOD:PUBLISH
X-ORIGINAL-URL:https://cpchouston.org
X-WR-CALDESC:Events for Christ Presbyterian Church of Houston
REFRESH-INTERVAL;VALUE=DURATION:PT1H
X-Robots-Tag:noindex
X-PUBLISHED-TTL:PT1H
BEGIN:VTIMEZONE
TZID:America/Chicago
BEGIN:DAYLIGHT
TZOFFSETFROM:-0600
TZOFFSETTO:-0500
TZNAME:CDT
DTSTART:20210314T080000
END:DAYLIGHT
BEGIN:STANDARD
TZOFFSETFROM:-0500
TZOFFSETTO:-0600
TZNAME:CST
DTSTART:20211107T070000
END:STANDARD
BEGIN:DAYLIGHT
TZOFFSETFROM:-0600
TZOFFSETTO:-0500
TZNAME:CDT
DTSTART:20220313T080000
END:DAYLIGHT
BEGIN:STANDARD
TZOFFSETFROM:-0500
TZOFFSETTO:-0600
TZNAME:CST
DTSTART:20221106T070000
END:STANDARD
BEGIN:DAYLIGHT
TZOFFSETFROM:-0600
TZOFFSETTO:-0500
TZNAME:CDT
DTSTART:20230312T080000
END:DAYLIGHT
BEGIN:STANDARD
TZOFFSETFROM:-0500
TZOFFSETTO:-0600
TZNAME:CST
DTSTART:20231105T070000
END:STANDARD
END:VTIMEZONE
BEGIN:VEVENT
DTSTART;TZID=America/Chicago:20221203T100000
DTEND;TZID=America/Chicago:20221203T120000
DTSTAMP:20260422T000426
CREATED:20221028T140703Z
LAST-MODIFIED:20221028T140818Z
UID:9630-1670061600-1670068800@cpchouston.org
SUMMARY:Children's Christmas Party
DESCRIPTION:Children of all ages\, 5th grade and under\, are invited to the children’s Christmas party on Saturday\, December 3rd\, from 10-12. Parents\, please drop-off your children for a morning of fun! Children will hear the Christmas story\, enjoy crafts\, games\, a popcorn bar\, and cookie decorating. The nursery will be open for our toddlers and babies as well. \nIf you are able\, please consider donating plain sugar cookies for the children to decorate. Cookies can be dropped off during church or at the church office by noon on December 2. \nPlease register using the button below. \n			\n						Register
URL:https://cpchouston.org/event/childrens-christmas-party/
LOCATION:CPC\, 8300 Katy Fwy\, Houston\, TX\, 77024\, United States
CATEGORIES:Children,Christmas,Featured Event
ATTACH;FMTTYPE=image/png:https://cpchouston.org/wp-content/uploads/2022/10/childrens-christmas-party-2022-events.png
END:VEVENT
END:VCALENDAR