BEGIN:VCALENDAR
VERSION:2.0
PRODID:-//Christ Presbyterian Church of Houston - ECPv6.15.20//NONSGML v1.0//EN
CALSCALE:GREGORIAN
METHOD:PUBLISH
X-WR-CALNAME:Christ Presbyterian Church of Houston
X-ORIGINAL-URL:https://cpchouston.org
X-WR-CALDESC:Events for Christ Presbyterian Church of Houston
REFRESH-INTERVAL;VALUE=DURATION:PT1H
X-Robots-Tag:noindex
X-PUBLISHED-TTL:PT1H
BEGIN:VTIMEZONE
TZID:America/Chicago
BEGIN:DAYLIGHT
TZOFFSETFROM:-0600
TZOFFSETTO:-0500
TZNAME:CDT
DTSTART:20220313T080000
END:DAYLIGHT
BEGIN:STANDARD
TZOFFSETFROM:-0500
TZOFFSETTO:-0600
TZNAME:CST
DTSTART:20221106T070000
END:STANDARD
BEGIN:DAYLIGHT
TZOFFSETFROM:-0600
TZOFFSETTO:-0500
TZNAME:CDT
DTSTART:20230312T080000
END:DAYLIGHT
BEGIN:STANDARD
TZOFFSETFROM:-0500
TZOFFSETTO:-0600
TZNAME:CST
DTSTART:20231105T070000
END:STANDARD
BEGIN:DAYLIGHT
TZOFFSETFROM:-0600
TZOFFSETTO:-0500
TZNAME:CDT
DTSTART:20240310T080000
END:DAYLIGHT
BEGIN:STANDARD
TZOFFSETFROM:-0500
TZOFFSETTO:-0600
TZNAME:CST
DTSTART:20241103T070000
END:STANDARD
END:VTIMEZONE
BEGIN:VEVENT
DTSTART;VALUE=DATE:20230706
DTEND;VALUE=DATE:20230709
DTSTAMP:20260421T121326
CREATED:20230421T124517Z
LAST-MODIFIED:20230517T164346Z
UID:12460-1688601600-1688860799@cpchouston.org
SUMMARY:Soccer Camp 2023
DESCRIPTION:Soccer Camp 2023 registration is now open! Soccer Camp will be held at Christ Presbyterian Church on July 6-8\, 2023. Thursday and Friday camp will run from 8 am to 12 pm. On Saturday we invite your family to come out for our Family Picnic from 10 am to 12 pm. Please use the link below to register your campers. Registration is open for campers who are completing Kindergarten through 5th grade this school year. Soccer Camp 2023 is $20 per camper. Space is limited and registration will close when capacity is reached. Questions? Please contact Axel Sotelo at asotelo@cpchouston.org or 832-710-6193.  \n			\n						Register\n					\n			\n						Volunteer Registration\n					\n			\n						Sign Up to Bring Snacks\n					 \n¡La inscripción para el Campamento de Fútbol 2023 ya está abierta! El campamento de fútbol se llevará a cabo en la iglesia Christ Presbyterian Church del 6 al 8 de julio de 2023. El campamento es jueves y viernes y se llevará a cabo de 8 am a 12 pm. El sábado invitamos a su familia a que venga a nuestro Picnic Familiar de 10 am a 12 pm. Utiliza el siguiente enlace para registrar a tus camperos. La inscripción está abierta para los camperos que están completando el kinder hasta el quinto grado este año escolar. Soccer Camp 2023 cuesta $20 por campero. El cupo es limitado y el registro se cerrará cuando llegue a su capacidad. ¿Preguntas? Comunícate con Axel Sotelo a asotelo@cpchouston.org o 832-710-6193. \n			\n						Registrate
URL:https://cpchouston.org/event/soccer-camp-2023/
LOCATION:CPC\, 8300 Katy Fwy\, Houston\, TX\, 77024\, United States
CATEGORIES:Children,Featured Event
ATTACH;FMTTYPE=image/png:https://cpchouston.org/wp-content/uploads/2023/04/Soccer-Camp-2023-Digital-events.png
END:VEVENT
END:VCALENDAR