BEGIN:VCALENDAR
VERSION:2.0
PRODID:-//Christ Presbyterian Church of Houston - ECPv6.15.20//NONSGML v1.0//EN
CALSCALE:GREGORIAN
METHOD:PUBLISH
X-ORIGINAL-URL:https://cpchouston.org
X-WR-CALDESC:Events for Christ Presbyterian Church of Houston
REFRESH-INTERVAL;VALUE=DURATION:PT1H
X-Robots-Tag:noindex
X-PUBLISHED-TTL:PT1H
BEGIN:VTIMEZONE
TZID:America/Chicago
BEGIN:DAYLIGHT
TZOFFSETFROM:-0600
TZOFFSETTO:-0500
TZNAME:CDT
DTSTART:20210314T080000
END:DAYLIGHT
BEGIN:STANDARD
TZOFFSETFROM:-0500
TZOFFSETTO:-0600
TZNAME:CST
DTSTART:20211107T070000
END:STANDARD
BEGIN:DAYLIGHT
TZOFFSETFROM:-0600
TZOFFSETTO:-0500
TZNAME:CDT
DTSTART:20220313T080000
END:DAYLIGHT
BEGIN:STANDARD
TZOFFSETFROM:-0500
TZOFFSETTO:-0600
TZNAME:CST
DTSTART:20221106T070000
END:STANDARD
BEGIN:DAYLIGHT
TZOFFSETFROM:-0600
TZOFFSETTO:-0500
TZNAME:CDT
DTSTART:20230312T080000
END:DAYLIGHT
BEGIN:STANDARD
TZOFFSETFROM:-0500
TZOFFSETTO:-0600
TZNAME:CST
DTSTART:20231105T070000
END:STANDARD
END:VTIMEZONE
BEGIN:VEVENT
DTSTART;TZID=America/Chicago:20220515T121500
DTEND;TZID=America/Chicago:20220515T140000
DTSTAMP:20260422T110538
CREATED:20220421T162609Z
LAST-MODIFIED:20220421T165637Z
UID:7715-1652616900-1652623200@cpchouston.org
SUMMARY:End of Semester Celebration
DESCRIPTION:Children and their families are invited to join us for a pizza party to celebrate all the rockstars in Children’s Ministry after year of hard work\, lots of learning\, and scripture memory. The celebration will kick off on May 15 after the 11 am worship service and you will not want to miss out on all the fun! Please RSVP so we can plan accordingly.  \n			\n						RSVP
URL:https://cpchouston.org/event/end-of-semester-celebration/
LOCATION:CPC\, 8300 Katy Fwy\, Houston\, TX\, 77024\, United States
CATEGORIES:Children,Families
ATTACH;FMTTYPE=image/png:https://cpchouston.org/wp-content/uploads/2022/04/end-of-semester-celebration-05-2022-b.png
END:VEVENT
END:VCALENDAR