BEGIN:VCALENDAR
VERSION:2.0
PRODID:-//Christ Presbyterian Church of Houston - ECPv6.15.20//NONSGML v1.0//EN
CALSCALE:GREGORIAN
METHOD:PUBLISH
X-ORIGINAL-URL:https://cpchouston.org
X-WR-CALDESC:Events for Christ Presbyterian Church of Houston
REFRESH-INTERVAL;VALUE=DURATION:PT1H
X-Robots-Tag:noindex
X-PUBLISHED-TTL:PT1H
BEGIN:VTIMEZONE
TZID:America/Chicago
BEGIN:DAYLIGHT
TZOFFSETFROM:-0600
TZOFFSETTO:-0500
TZNAME:CDT
DTSTART:20200308T080000
END:DAYLIGHT
BEGIN:STANDARD
TZOFFSETFROM:-0500
TZOFFSETTO:-0600
TZNAME:CST
DTSTART:20201101T070000
END:STANDARD
BEGIN:DAYLIGHT
TZOFFSETFROM:-0600
TZOFFSETTO:-0500
TZNAME:CDT
DTSTART:20210314T080000
END:DAYLIGHT
BEGIN:STANDARD
TZOFFSETFROM:-0500
TZOFFSETTO:-0600
TZNAME:CST
DTSTART:20211107T070000
END:STANDARD
BEGIN:DAYLIGHT
TZOFFSETFROM:-0600
TZOFFSETTO:-0500
TZNAME:CDT
DTSTART:20220313T080000
END:DAYLIGHT
BEGIN:STANDARD
TZOFFSETFROM:-0500
TZOFFSETTO:-0600
TZNAME:CST
DTSTART:20221106T070000
END:STANDARD
BEGIN:DAYLIGHT
TZOFFSETFROM:-0600
TZOFFSETTO:-0500
TZNAME:CDT
DTSTART:20230312T080000
END:DAYLIGHT
BEGIN:STANDARD
TZOFFSETFROM:-0500
TZOFFSETTO:-0600
TZNAME:CST
DTSTART:20231105T070000
END:STANDARD
BEGIN:DAYLIGHT
TZOFFSETFROM:-0600
TZOFFSETTO:-0500
TZNAME:CDT
DTSTART:20240310T080000
END:DAYLIGHT
BEGIN:STANDARD
TZOFFSETFROM:-0500
TZOFFSETTO:-0600
TZNAME:CST
DTSTART:20241103T070000
END:STANDARD
BEGIN:DAYLIGHT
TZOFFSETFROM:-0600
TZOFFSETTO:-0500
TZNAME:CDT
DTSTART:20250309T080000
END:DAYLIGHT
BEGIN:STANDARD
TZOFFSETFROM:-0500
TZOFFSETTO:-0600
TZNAME:CST
DTSTART:20251102T070000
END:STANDARD
END:VTIMEZONE
BEGIN:VEVENT
DTSTART;TZID=America/Chicago:20240910T064500
DTEND;TZID=America/Chicago:20240910T074500
DTSTAMP:20260420T235533
CREATED:20240815T132252Z
LAST-MODIFIED:20241114T132338Z
UID:17378-1725950700-1725954300@cpchouston.org
SUMMARY:Men's Bible Study
DESCRIPTION:Men\, please join us for our Men’s Bible Study on The Life of David led by Pastor Richard Harris! Pastor Harris will lead this time of teaching and small group discussion Tuesday mornings\, 6:45-7:45 AM\, in the Chapel. Breakfast is included. See you there 								\n				\n				\n				\n									\n					\n						\n									Bible Study Registration
URL:https://cpchouston.org/event/mens-bible-study-5/2024-09-10/
LOCATION:CPC\, 8300 Katy Fwy\, Houston\, TX\, 77024\, United States
CATEGORIES:Bible Study,Men
ATTACH;FMTTYPE=image/png:https://cpchouston.org/wp-content/uploads/2023/01/Mens-Bible-Study-01-2023-Digital-events.png
END:VEVENT
BEGIN:VEVENT
DTSTART;TZID=America/Chicago:20230912T190000
DTEND;TZID=America/Chicago:20230912T203000
DTSTAMP:20260420T235533
CREATED:20230822T145044Z
LAST-MODIFIED:20240116T145047Z
UID:13782-1694545200-1694550600@cpchouston.org
SUMMARY:Women's Bible Study
DESCRIPTION:Men\, please join us for our Men’s Bible Study on The Life of David led by Pastor Richard Harris! Pastor Harris will lead this time of teaching and small group discussion Tuesday mornings\, 6:45-7:45 AM\, in the Chapel. Breakfast is included. See you there 								\n				\n				\n				\n									\n					\n						\n									Bible Study Registration
URL:https://cpchouston.org/event/womens-bible-study-4/2023-09-12/
LOCATION:CPC\, 8300 Katy Fwy\, Houston\, TX\, 77024\, United States
CATEGORIES:Bible Study,Women
ATTACH;FMTTYPE=image/png:https://cpchouston.org/wp-content/uploads/2022/08/Womens-Bible-Study-2022-2023-Events.png
END:VEVENT
BEGIN:VEVENT
DTSTART;TZID=America/Chicago:20220913T190000
DTEND;TZID=America/Chicago:20220913T203000
DTSTAMP:20260420T235533
CREATED:20221114T182754Z
LAST-MODIFIED:20221114T182919Z
UID:9815-1663095600-1663101000@cpchouston.org
SUMMARY:Women's Bible Study
DESCRIPTION:Men\, please join us for our Men’s Bible Study on The Life of David led by Pastor Richard Harris! Pastor Harris will lead this time of teaching and small group discussion Tuesday mornings\, 6:45-7:45 AM\, in the Chapel. Breakfast is included. See you there 								\n				\n				\n				\n									\n					\n						\n									Bible Study Registration
URL:https://cpchouston.org/event/womens-bible-study-2/2022-09-13/
LOCATION:CPC\, 8300 Katy Fwy\, Houston\, TX\, 77024\, United States
CATEGORIES:Bible Study,Women
ATTACH;FMTTYPE=image/png:https://cpchouston.org/wp-content/uploads/2022/08/Womens-Bible-Study-2022-2023-Events.png
END:VEVENT
BEGIN:VEVENT
DTSTART;TZID=America/Chicago:20220222T064500
DTEND;TZID=America/Chicago:20220222T074500
DTSTAMP:20260420T235533
CREATED:20210903T034041Z
LAST-MODIFIED:20220502T203447Z
UID:512-1645512300-1645515900@cpchouston.org
SUMMARY:Men's Bible Study
DESCRIPTION:Men\, please join us for our Men’s Bible Study on The Life of David led by Pastor Richard Harris! Pastor Harris will lead this time of teaching and small group discussion Tuesday mornings\, 6:45-7:45 AM\, in the Chapel. Breakfast is included. See you there 								\n				\n				\n				\n									\n					\n						\n									Bible Study Registration
URL:https://cpchouston.org/event/mens-bible-study/2022-02-22/
LOCATION:CPC\, 8300 Katy Fwy\, Houston\, TX\, 77024\, United States
CATEGORIES:Bible Study,Men
ORGANIZER;CN="Rev. Richard Harris":MAILTO:rharris@cepc.org
END:VEVENT
BEGIN:VEVENT
DTSTART;TZID=America/Chicago:20210914T190000
DTEND;TZID=America/Chicago:20210914T203000
DTSTAMP:20260420T235533
CREATED:20210908T131636Z
LAST-MODIFIED:20220303T174044Z
UID:560-1631646000-1631651400@cpchouston.org
SUMMARY:Women's Bible Study
DESCRIPTION:Men\, please join us for our Men’s Bible Study on The Life of David led by Pastor Richard Harris! Pastor Harris will lead this time of teaching and small group discussion Tuesday mornings\, 6:45-7:45 AM\, in the Chapel. Breakfast is included. See you there 								\n				\n				\n				\n									\n					\n						\n									Bible Study Registration
URL:https://cpchouston.org/event/womens-bible-study/2021-09-14/
LOCATION:CPC\, 8300 Katy Fwy\, Houston\, TX\, 77024\, United States
CATEGORIES:Bible Study,Women
END:VEVENT
END:VCALENDAR