BEGIN:VCALENDAR
VERSION:2.0
PRODID:-//Christ Presbyterian Church of Houston - ECPv6.15.20//NONSGML v1.0//EN
CALSCALE:GREGORIAN
METHOD:PUBLISH
X-ORIGINAL-URL:https://cpchouston.org
X-WR-CALDESC:Events for Christ Presbyterian Church of Houston
REFRESH-INTERVAL;VALUE=DURATION:PT1H
X-Robots-Tag:noindex
X-PUBLISHED-TTL:PT1H
BEGIN:VTIMEZONE
TZID:America/Chicago
BEGIN:DAYLIGHT
TZOFFSETFROM:-0600
TZOFFSETTO:-0500
TZNAME:CDT
DTSTART:20250309T080000
END:DAYLIGHT
BEGIN:STANDARD
TZOFFSETFROM:-0500
TZOFFSETTO:-0600
TZNAME:CST
DTSTART:20251102T070000
END:STANDARD
BEGIN:DAYLIGHT
TZOFFSETFROM:-0600
TZOFFSETTO:-0500
TZNAME:CDT
DTSTART:20260308T080000
END:DAYLIGHT
BEGIN:STANDARD
TZOFFSETFROM:-0500
TZOFFSETTO:-0600
TZNAME:CST
DTSTART:20261101T070000
END:STANDARD
BEGIN:DAYLIGHT
TZOFFSETFROM:-0600
TZOFFSETTO:-0500
TZNAME:CDT
DTSTART:20270314T080000
END:DAYLIGHT
BEGIN:STANDARD
TZOFFSETFROM:-0500
TZOFFSETTO:-0600
TZNAME:CST
DTSTART:20271107T070000
END:STANDARD
END:VTIMEZONE
BEGIN:VEVENT
DTSTART;TZID=America/Chicago:20260422T120000
DTEND;TZID=America/Chicago:20260422T140000
DTSTAMP:20260420T065448
CREATED:20250910T193710Z
LAST-MODIFIED:20260302T221556Z
UID:22713-1776859200-1776866400@cpchouston.org
SUMMARY:Lessons & Laughter
DESCRIPTION:We make baby blankets for new babies and prayer shawls for those who are hospitalized and for the grieving. We also make scarves and lap blankets for “Eyes on Me” ministry. We meet Wednesdays at 12 pm in the SonRise Cafe for great fellowship and prayer time. \nIf you don’t already knit or crochet but would love to learn\, this is the place for you! If any questions\, contact the church office. \n 
URL:https://cpchouston.org/event/lessons-laughter-5/2026-04-22/
LOCATION:CPC\, 8300 Katy Fwy\, Houston\, TX\, 77024\, United States
CATEGORIES:Women
END:VEVENT
BEGIN:VEVENT
DTSTART;TZID=America/Chicago:20260422T173000
DTEND;TZID=America/Chicago:20260422T182000
DTSTAMP:20260420T065448
CREATED:20260417T144446Z
LAST-MODIFIED:20260417T144446Z
UID:23215-1776879000-1776882000@cpchouston.org
SUMMARY:Missions Prayer Meeting
DESCRIPTION:Please join for a time of corporate prayer on Wednesday\, April 22\, as we prepare for Missions Weekend on April 24-26. Elders and members on the Missions Committee will lead us in prayer for Missions Weekend and for the missionaries and ministries that CPC supports. The prayer meeting will be in Room 211 and will start around 5:30 pm and end at 6:20 pm\, in time for dinner and scheduled City Groups that meet on Wednesdays. RSVP to Prayer Meeting
URL:https://cpchouston.org/event/missions-prayer-meeting/
LOCATION:CPC\, 8300 Katy Fwy\, Houston\, TX\, 77024\, United States
ATTACH;FMTTYPE=image/png:https://cpchouston.org/wp-content/uploads/2026/04/Missions-Prayer-Meeting.png
END:VEVENT
END:VCALENDAR