BEGIN:VCALENDAR
VERSION:2.0
PRODID:-//Christ Presbyterian Church of Houston - ECPv6.15.20//NONSGML v1.0//EN
CALSCALE:GREGORIAN
METHOD:PUBLISH
X-ORIGINAL-URL:https://cpchouston.org
X-WR-CALDESC:Events for Christ Presbyterian Church of Houston
REFRESH-INTERVAL;VALUE=DURATION:PT1H
X-Robots-Tag:noindex
X-PUBLISHED-TTL:PT1H
BEGIN:VTIMEZONE
TZID:America/Chicago
BEGIN:DAYLIGHT
TZOFFSETFROM:-0600
TZOFFSETTO:-0500
TZNAME:CDT
DTSTART:20240310T080000
END:DAYLIGHT
BEGIN:STANDARD
TZOFFSETFROM:-0500
TZOFFSETTO:-0600
TZNAME:CST
DTSTART:20241103T070000
END:STANDARD
BEGIN:DAYLIGHT
TZOFFSETFROM:-0600
TZOFFSETTO:-0500
TZNAME:CDT
DTSTART:20250309T080000
END:DAYLIGHT
BEGIN:STANDARD
TZOFFSETFROM:-0500
TZOFFSETTO:-0600
TZNAME:CST
DTSTART:20251102T070000
END:STANDARD
BEGIN:DAYLIGHT
TZOFFSETFROM:-0600
TZOFFSETTO:-0500
TZNAME:CDT
DTSTART:20260308T080000
END:DAYLIGHT
BEGIN:STANDARD
TZOFFSETFROM:-0500
TZOFFSETTO:-0600
TZNAME:CST
DTSTART:20261101T070000
END:STANDARD
END:VTIMEZONE
BEGIN:VEVENT
DTSTART;TZID=America/Chicago:20251210T120000
DTEND;TZID=America/Chicago:20251210T140000
DTSTAMP:20260420T211349
CREATED:20250910T193710Z
LAST-MODIFIED:20260302T221541Z
UID:21966-1765368000-1765375200@cpchouston.org
SUMMARY:Lessons & Laughter
DESCRIPTION:We make baby blankets for new babies and prayer shawls for those who are hospitalized and for the grieving. We also make scarves and lap blankets for “Eyes on Me” ministry. We meet Wednesdays at 12 pm in the SonRise Cafe for great fellowship and prayer time. \nIf you don’t already knit or crochet but would love to learn\, this is the place for you! If any questions\, contact the church office. \n 
URL:https://cpchouston.org/event/lessons-laughter-5/2025-12-10/
LOCATION:CPC\, 8300 Katy Fwy\, Houston\, TX\, 77024\, United States
CATEGORIES:Women
END:VEVENT
BEGIN:VEVENT
DTSTART;TZID=America/Chicago:20251210T193000
DTEND;TZID=America/Chicago:20251210T203000
DTSTAMP:20260420T211349
CREATED:20250731T191157Z
LAST-MODIFIED:20251119T185202Z
UID:21331-1765395000-1765398600@cpchouston.org
SUMMARY:Messiah Rehearsal
DESCRIPTION:Rehearsals for Handel’s Messiah are Wednesdays at 7:30 pm in the Sanctuary. Performances are December 11\, 12 & 13. Interested in joining the Concert Choir? Please contact BJ McDougal in the church office for information.
URL:https://cpchouston.org/event/messiah-rehearsal-5/2025-12-10/
LOCATION:CPC\, 8300 Katy Fwy\, Houston\, TX\, 77024\, United States
CATEGORIES:Music & Worship
ATTACH;FMTTYPE=image/jpeg:https://cpchouston.org/wp-content/uploads/2025/09/Messiah-rehearsals-Events.jpg
END:VEVENT
END:VCALENDAR