BEGIN:VCALENDAR
VERSION:2.0
PRODID:-//Christ Presbyterian Church of Houston - ECPv6.15.20//NONSGML v1.0//EN
CALSCALE:GREGORIAN
METHOD:PUBLISH
X-WR-CALNAME:Christ Presbyterian Church of Houston
X-ORIGINAL-URL:https://cpchouston.org
X-WR-CALDESC:Events for Christ Presbyterian Church of Houston
REFRESH-INTERVAL;VALUE=DURATION:PT1H
X-Robots-Tag:noindex
X-PUBLISHED-TTL:PT1H
BEGIN:VTIMEZONE
TZID:America/Chicago
BEGIN:DAYLIGHT
TZOFFSETFROM:-0600
TZOFFSETTO:-0500
TZNAME:CDT
DTSTART:20240310T080000
END:DAYLIGHT
BEGIN:STANDARD
TZOFFSETFROM:-0500
TZOFFSETTO:-0600
TZNAME:CST
DTSTART:20241103T070000
END:STANDARD
BEGIN:DAYLIGHT
TZOFFSETFROM:-0600
TZOFFSETTO:-0500
TZNAME:CDT
DTSTART:20250309T080000
END:DAYLIGHT
BEGIN:STANDARD
TZOFFSETFROM:-0500
TZOFFSETTO:-0600
TZNAME:CST
DTSTART:20251102T070000
END:STANDARD
BEGIN:DAYLIGHT
TZOFFSETFROM:-0600
TZOFFSETTO:-0500
TZNAME:CDT
DTSTART:20260308T080000
END:DAYLIGHT
BEGIN:STANDARD
TZOFFSETFROM:-0500
TZOFFSETTO:-0600
TZNAME:CST
DTSTART:20261101T070000
END:STANDARD
END:VTIMEZONE
BEGIN:VEVENT
DTSTART;TZID=America/Chicago:20251109T083000
DTEND;TZID=America/Chicago:20251109T094500
DTSTAMP:20260420T225948
CREATED:20210916T150630Z
LAST-MODIFIED:20260128T214230Z
UID:18278-1762677000-1762681500@cpchouston.org
SUMMARY:Worship Service
DESCRIPTION:Sunday Morning Schedule\n8:30 am Worship Service in Sanctuary & livestreamed here: Worship Livestream\n10:00 am Sunday School\n11:00 am Worship Service in Sanctuary
URL:https://cpchouston.org/event/test-for-feature/2025-11-09/
LOCATION:CPC\, 8300 Katy Fwy\, Houston\, TX\, 77024\, United States
ATTACH;FMTTYPE=image/png:https://cpchouston.org/wp-content/uploads/2021/09/In-Person-Worship-Events-2020.png
END:VEVENT
BEGIN:VEVENT
DTSTART;TZID=America/Chicago:20251109T094500
DTEND;TZID=America/Chicago:20251109T100000
DTSTAMP:20260420T225948
CREATED:20251015T160158Z
LAST-MODIFIED:20251015T160311Z
UID:21566-1762681500-1762682400@cpchouston.org
SUMMARY:Congregational Meeting
DESCRIPTION:A Congregational Meeting for the purpose of electing the 2026 Officer Nominating Committee (ONC) will be held Sunday\, November 9\, immediately following the 8:30 am worship service. The two elders appointed to the ONC by the Session are Tommy Ikard and Shawn Shoop. The two deacons/diaconal ministry team members appointed by the Diaconate are Long Tran and Gayle Scott. \nIf you have any suggestions for the four at-large members of the ONC\, please send them to Tommy Ikard by Thursday\, October 30. \nA Town Hall meeting to hear a brief budget update from the Finance Committee will follow. Adult Sunday school classes will meet afterward.
URL:https://cpchouston.org/event/congregational-meeting-8/
LOCATION:CPC\, 8300 Katy Fwy\, Houston\, TX\, 77024\, United States
CATEGORIES:Featured Event
ATTACH;FMTTYPE=image/png:https://cpchouston.org/wp-content/uploads/2022/05/Congregational-Meeting.png
END:VEVENT
BEGIN:VEVENT
DTSTART;TZID=America/Chicago:20251109T110000
DTEND;TZID=America/Chicago:20251109T121500
DTSTAMP:20260420T225948
CREATED:20210916T150630Z
LAST-MODIFIED:20260128T214231Z
UID:18279-1762686000-1762690500@cpchouston.org
SUMMARY:Worship Service
DESCRIPTION:Sunday Morning Schedule\n8:30 am Worship Service in Sanctuary & livestreamed here: Worship Livestream\n10:00 am Sunday School\n11:00 am Worship Service in Sanctuary
URL:https://cpchouston.org/event/test-for-feature/2025-11-09/
LOCATION:CPC\, 8300 Katy Fwy\, Houston\, TX\, 77024\, United States
ATTACH;FMTTYPE=image/png:https://cpchouston.org/wp-content/uploads/2021/09/In-Person-Worship-Events-2020.png
END:VEVENT
BEGIN:VEVENT
DTSTART;TZID=America/Chicago:20251109T123000
DTEND;TZID=America/Chicago:20251109T143000
DTSTAMP:20260420T225948
CREATED:20251022T224236Z
LAST-MODIFIED:20251022T224337Z
UID:21629-1762691400-1762698600@cpchouston.org
SUMMARY:Youth & Children's Fellowship Lunches
DESCRIPTION:All students and children are invited to stay after church on Sunday\, November 9\, from 12:30-2:30 to enjoy lunch\, fellowship\, and fun! Students will enjoy time together in the Barn\, and children will be on Main Street in the children’s ministry areas. \nLunch will be Cane’s chicken tenders\, chips\, fruit\, and dessert. Please help us plan appropriately by registering ahead of time. We hope to see you there! \n					\n									Register
URL:https://cpchouston.org/event/youth-childrens-fellowship-lunches/
LOCATION:CPC\, 8300 Katy Fwy\, Houston\, TX\, 77024\, United States
CATEGORIES:Children,Students
ATTACH;FMTTYPE=image/png:https://cpchouston.org/wp-content/uploads/2025/09/Youth-and-Children-Lunches-Digital-Events.png
END:VEVENT
END:VCALENDAR