BEGIN:VCALENDAR
VERSION:2.0
PRODID:-//Christ Presbyterian Church of Houston - ECPv6.15.20//NONSGML v1.0//EN
CALSCALE:GREGORIAN
METHOD:PUBLISH
X-WR-CALNAME:Christ Presbyterian Church of Houston
X-ORIGINAL-URL:https://cpchouston.org
X-WR-CALDESC:Events for Christ Presbyterian Church of Houston
REFRESH-INTERVAL;VALUE=DURATION:PT1H
X-Robots-Tag:noindex
X-PUBLISHED-TTL:PT1H
BEGIN:VTIMEZONE
TZID:America/Chicago
BEGIN:DAYLIGHT
TZOFFSETFROM:-0600
TZOFFSETTO:-0500
TZNAME:CDT
DTSTART:20240310T080000
END:DAYLIGHT
BEGIN:STANDARD
TZOFFSETFROM:-0500
TZOFFSETTO:-0600
TZNAME:CST
DTSTART:20241103T070000
END:STANDARD
BEGIN:DAYLIGHT
TZOFFSETFROM:-0600
TZOFFSETTO:-0500
TZNAME:CDT
DTSTART:20250309T080000
END:DAYLIGHT
BEGIN:STANDARD
TZOFFSETFROM:-0500
TZOFFSETTO:-0600
TZNAME:CST
DTSTART:20251102T070000
END:STANDARD
BEGIN:DAYLIGHT
TZOFFSETFROM:-0600
TZOFFSETTO:-0500
TZNAME:CDT
DTSTART:20260308T080000
END:DAYLIGHT
BEGIN:STANDARD
TZOFFSETFROM:-0500
TZOFFSETTO:-0600
TZNAME:CST
DTSTART:20261101T070000
END:STANDARD
END:VTIMEZONE
BEGIN:VEVENT
DTSTART;TZID=America/Chicago:20251022T093000
DTEND;TZID=America/Chicago:20251022T110000
DTSTAMP:20260421T005001
CREATED:20250731T200036Z
LAST-MODIFIED:20260108T170757Z
UID:20770-1761125400-1761130800@cpchouston.org
SUMMARY:Women's Bible Study
DESCRIPTION:Fall 2025/Spring 2026 \nJudges & Romans: Ruined to Righteous \nJoin Mikie Bellis and the women of CPC for our study of Judges & Romans. \nWeekly lessons are provided free of charge\, and weekly lectures are presented live on Wednesday mornings. The podcast is posted on Tuesdays and the lecture audio is posted on the CPC website on Wednesday afternoons here: Women’s Bible Study. \nSchedule: Small group discussion of the lecture and lesson is offered: \n\nWednesdays from 9:30-11 am at CPC (lunch served at 11 am)\nOnline-only small groups meets on Tuesdays from 7-8 pm and Wednesdays from 1:30-2:30 pm\n\nChildcare \n\nOn Wednesdays\, we offer an enhanced children’s Bible study focusing on the truths of the women’s weekly lessons. Childcare will be provided through lunch\, until 12:00. Women are encouraged to stay for lunch to develop deeper relationships with one another while your children eat lunch with their friends. Childcare is provided for children in 5th grade and under. If you have a homeschool student older than 5th grade\, please contact Angela Ikard for details about our homeschool room. \nRegister online: Women’s Bible Study Registration
URL:https://cpchouston.org/event/womens-bible-study-6/2025-10-22/
LOCATION:CPC\, 8300 Katy Fwy\, Houston\, TX\, 77024\, United States
CATEGORIES:Women
ATTACH;FMTTYPE=image/png:https://cpchouston.org/wp-content/uploads/2022/08/Womens-Bible-Study-2022-2023-Events.png
END:VEVENT
BEGIN:VEVENT
DTSTART;TZID=America/Chicago:20251022T120000
DTEND;TZID=America/Chicago:20251022T140000
DTSTAMP:20260421T005001
CREATED:20250910T193710Z
LAST-MODIFIED:20260302T221530Z
UID:21243-1761134400-1761141600@cpchouston.org
SUMMARY:Lessons & Laughter
DESCRIPTION:We make baby blankets for new babies and prayer shawls for those who are hospitalized and for the grieving. We also make scarves and lap blankets for “Eyes on Me” ministry. We meet Wednesdays at 12 pm in the SonRise Cafe for great fellowship and prayer time. \nIf you don’t already knit or crochet but would love to learn\, this is the place for you! If any questions\, contact the church office. \n 
URL:https://cpchouston.org/event/lessons-laughter-5/2025-10-22/
LOCATION:CPC\, 8300 Katy Fwy\, Houston\, TX\, 77024\, United States
CATEGORIES:Women
END:VEVENT
BEGIN:VEVENT
DTSTART;TZID=America/Chicago:20251022T183000
DTEND;TZID=America/Chicago:20251022T200000
DTSTAMP:20260421T005001
CREATED:20250731T190942Z
LAST-MODIFIED:20251119T185125Z
UID:20735-1761157800-1761163200@cpchouston.org
SUMMARY:Choir Rehearsal
DESCRIPTION:The Worship Choir needs voices this fall! Come be part of leading our congregation in worship. We rehearse Wednesday nights at 6:30 pm in the Sanctuary. Our church has a rich history of choral singing\, and you can be a part of this important ministry here at CPC. Learn more by contacting the church office.
URL:https://cpchouston.org/event/choir-rehearsal-7/2025-10-22/
LOCATION:CPC\, 8300 Katy Fwy\, Houston\, TX\, 77024\, United States
CATEGORIES:Music & Worship
ATTACH;FMTTYPE=image/png:https://cpchouston.org/wp-content/uploads/2022/10/Worship-Choir-08-2022-EVENTS.png
END:VEVENT
BEGIN:VEVENT
DTSTART;TZID=America/Chicago:20251022T193000
DTEND;TZID=America/Chicago:20251022T203000
DTSTAMP:20260421T005001
CREATED:20250731T191157Z
LAST-MODIFIED:20251119T185200Z
UID:21324-1761161400-1761165000@cpchouston.org
SUMMARY:Messiah Rehearsal
DESCRIPTION:Rehearsals for Handel’s Messiah are Wednesdays at 7:30 pm in the Sanctuary. Performances are December 11\, 12 & 13. Interested in joining the Concert Choir? Please contact BJ McDougal in the church office for information.
URL:https://cpchouston.org/event/messiah-rehearsal-5/2025-10-22/
LOCATION:CPC\, 8300 Katy Fwy\, Houston\, TX\, 77024\, United States
CATEGORIES:Music & Worship
ATTACH;FMTTYPE=image/jpeg:https://cpchouston.org/wp-content/uploads/2025/09/Messiah-rehearsals-Events.jpg
END:VEVENT
END:VCALENDAR