BEGIN:VCALENDAR
VERSION:2.0
PRODID:-//Christ Presbyterian Church of Houston - ECPv6.15.20//NONSGML v1.0//EN
CALSCALE:GREGORIAN
METHOD:PUBLISH
X-ORIGINAL-URL:https://cpchouston.org
X-WR-CALDESC:Events for Christ Presbyterian Church of Houston
REFRESH-INTERVAL;VALUE=DURATION:PT1H
X-Robots-Tag:noindex
X-PUBLISHED-TTL:PT1H
BEGIN:VTIMEZONE
TZID:America/Chicago
BEGIN:DAYLIGHT
TZOFFSETFROM:-0600
TZOFFSETTO:-0500
TZNAME:CDT
DTSTART:20240310T080000
END:DAYLIGHT
BEGIN:STANDARD
TZOFFSETFROM:-0500
TZOFFSETTO:-0600
TZNAME:CST
DTSTART:20241103T070000
END:STANDARD
BEGIN:DAYLIGHT
TZOFFSETFROM:-0600
TZOFFSETTO:-0500
TZNAME:CDT
DTSTART:20250309T080000
END:DAYLIGHT
BEGIN:STANDARD
TZOFFSETFROM:-0500
TZOFFSETTO:-0600
TZNAME:CST
DTSTART:20251102T070000
END:STANDARD
BEGIN:DAYLIGHT
TZOFFSETFROM:-0600
TZOFFSETTO:-0500
TZNAME:CDT
DTSTART:20260308T080000
END:DAYLIGHT
BEGIN:STANDARD
TZOFFSETFROM:-0500
TZOFFSETTO:-0600
TZNAME:CST
DTSTART:20261101T070000
END:STANDARD
END:VTIMEZONE
BEGIN:VEVENT
DTSTART;TZID=America/Chicago:20250830T110000
DTEND;TZID=America/Chicago:20250830T140000
DTSTAMP:20260421T084312
CREATED:20250806T161827Z
LAST-MODIFIED:20250808T182937Z
UID:20828-1756551600-1756562400@cpchouston.org
SUMMARY:Family Ministry Fall Kick-Off
DESCRIPTION:Join us for our annual Family Ministry’s Fall Kick-off event on Saturday\, August 30\, from 11:00am–2:00pm in the Barn! Enjoy fellowship as we watch the Texas vs. Ohio State game. Lunch will be provided. Please sign up using the button below and consider bringing your favorite football snack or dessert to share! \nChildcare for 5th grade and under will be available in the main church building and lunch will be provided for the children. \nCome hang out and help us kick off a great year! We hope to see you there! \n\nKick-Off Registration
URL:https://cpchouston.org/event/family-ministry-fall-kick-off-3/
LOCATION:CPC\, 8300 Katy Fwy\, Houston\, TX\, 77024\, United States
CATEGORIES:Families,Featured Event
ATTACH;FMTTYPE=image/png:https://cpchouston.org/wp-content/uploads/2023/08/Family-Min-KickOff-Football-09-2023-planning-center-2.png
END:VEVENT
END:VCALENDAR