BEGIN:VCALENDAR
VERSION:2.0
PRODID:-//Christ Presbyterian Church of Houston - ECPv6.15.20//NONSGML v1.0//EN
CALSCALE:GREGORIAN
METHOD:PUBLISH
X-ORIGINAL-URL:https://cpchouston.org
X-WR-CALDESC:Events for Christ Presbyterian Church of Houston
REFRESH-INTERVAL;VALUE=DURATION:PT1H
X-Robots-Tag:noindex
X-PUBLISHED-TTL:PT1H
BEGIN:VTIMEZONE
TZID:America/Chicago
BEGIN:DAYLIGHT
TZOFFSETFROM:-0600
TZOFFSETTO:-0500
TZNAME:CDT
DTSTART:20240310T080000
END:DAYLIGHT
BEGIN:STANDARD
TZOFFSETFROM:-0500
TZOFFSETTO:-0600
TZNAME:CST
DTSTART:20241103T070000
END:STANDARD
BEGIN:DAYLIGHT
TZOFFSETFROM:-0600
TZOFFSETTO:-0500
TZNAME:CDT
DTSTART:20250309T080000
END:DAYLIGHT
BEGIN:STANDARD
TZOFFSETFROM:-0500
TZOFFSETTO:-0600
TZNAME:CST
DTSTART:20251102T070000
END:STANDARD
BEGIN:DAYLIGHT
TZOFFSETFROM:-0600
TZOFFSETTO:-0500
TZNAME:CDT
DTSTART:20260308T080000
END:DAYLIGHT
BEGIN:STANDARD
TZOFFSETFROM:-0500
TZOFFSETTO:-0600
TZNAME:CST
DTSTART:20261101T070000
END:STANDARD
END:VTIMEZONE
BEGIN:VEVENT
DTSTART;TZID=America/Chicago:20250702T183000
DTEND;TZID=America/Chicago:20250702T200000
DTSTAMP:20260421T071235
CREATED:20250624T141417Z
LAST-MODIFIED:20250624T141417Z
UID:20544-1751481000-1751486400@cpchouston.org
SUMMARY:Women's Ministry Prayer Meeting
DESCRIPTION:Join us for an in-person Women’s Ministry prayer meeting on July 2\, 6:30–8:00 pm. We will meet on Main Street from 6:30–7:00 pm for fellowship and a $5 meal provided by the church. From 7:00–8:00 pm we will head upstairs to pray together. Childcare is provided\, as this prayer time coincides with Wacky Wednesday!
URL:https://cpchouston.org/event/womens-ministry-prayer-meeting-2/
LOCATION:CPC\, 8300 Katy Fwy\, Houston\, TX\, 77024\, United States
CATEGORIES:Featured Event,Women
ATTACH;FMTTYPE=image/png:https://cpchouston.org/wp-content/uploads/2025/06/WIM-Prayer-Meeting-Event.png
END:VEVENT
END:VCALENDAR