BEGIN:VCALENDAR
VERSION:2.0
PRODID:-//Christ Presbyterian Church of Houston - ECPv6.15.20//NONSGML v1.0//EN
CALSCALE:GREGORIAN
METHOD:PUBLISH
X-WR-CALNAME:Christ Presbyterian Church of Houston
X-ORIGINAL-URL:https://cpchouston.org
X-WR-CALDESC:Events for Christ Presbyterian Church of Houston
REFRESH-INTERVAL;VALUE=DURATION:PT1H
X-Robots-Tag:noindex
X-PUBLISHED-TTL:PT1H
BEGIN:VTIMEZONE
TZID:America/Chicago
BEGIN:DAYLIGHT
TZOFFSETFROM:-0600
TZOFFSETTO:-0500
TZNAME:CDT
DTSTART:20240310T080000
END:DAYLIGHT
BEGIN:STANDARD
TZOFFSETFROM:-0500
TZOFFSETTO:-0600
TZNAME:CST
DTSTART:20241103T070000
END:STANDARD
BEGIN:DAYLIGHT
TZOFFSETFROM:-0600
TZOFFSETTO:-0500
TZNAME:CDT
DTSTART:20250309T080000
END:DAYLIGHT
BEGIN:STANDARD
TZOFFSETFROM:-0500
TZOFFSETTO:-0600
TZNAME:CST
DTSTART:20251102T070000
END:STANDARD
BEGIN:DAYLIGHT
TZOFFSETFROM:-0600
TZOFFSETTO:-0500
TZNAME:CDT
DTSTART:20260308T080000
END:DAYLIGHT
BEGIN:STANDARD
TZOFFSETFROM:-0500
TZOFFSETTO:-0600
TZNAME:CST
DTSTART:20261101T070000
END:STANDARD
END:VTIMEZONE
BEGIN:VEVENT
DTSTART;TZID=America/Chicago:20250606T110000
DTEND;TZID=America/Chicago:20250606T123000
DTSTAMP:20260421T102842
CREATED:20250605T161720Z
LAST-MODIFIED:20250606T171848Z
UID:20406-1749207600-1749213000@cpchouston.org
SUMMARY:Memorial Service for Kay Luther
DESCRIPTION:We extend our sympathy to Monroe Luther in the loss of his wife\, Kay\, on May 30. May the comfort of Christ be with Monroe and his family during this difficult time. Memorial arrangements are below. \nVisitation: Thursday\, June 5\, 4-6 pm in the Chapel of CPCMemorial Service: Friday\, June 6\, 11 am in the CPC Sanctuary \nMemorial Service Recording
URL:https://cpchouston.org/event/memorial-service-for-kay-luther/
LOCATION:CPC\, 8300 Katy Fwy\, Houston\, TX\, 77024\, United States
CATEGORIES:Featured Event
ATTACH;FMTTYPE=image/png:https://cpchouston.org/wp-content/uploads/2025/06/Memorial-Service-Kay-Luther.png
END:VEVENT
BEGIN:VEVENT
DTSTART;TZID=America/Chicago:20250606T160000
DTEND;TZID=America/Chicago:20250606T170000
DTSTAMP:20260421T102842
CREATED:20250605T162238Z
LAST-MODIFIED:20250606T221618Z
UID:20419-1749225600-1749229200@cpchouston.org
SUMMARY:Bellorin-Wall Wedding
DESCRIPTION:Bellorin-Wall Wedding
URL:https://cpchouston.org/event/bellorin-wall-wedding/
LOCATION:CPC\, 8300 Katy Fwy\, Houston\, TX\, 77024\, United States
ATTACH;FMTTYPE=image/png:https://cpchouston.org/wp-content/uploads/2025/06/Bellorin-Wall-Wedding.png
END:VEVENT
END:VCALENDAR