BEGIN:VCALENDAR
VERSION:2.0
PRODID:-//Christ Presbyterian Church of Houston - ECPv6.15.20//NONSGML v1.0//EN
CALSCALE:GREGORIAN
METHOD:PUBLISH
X-ORIGINAL-URL:https://cpchouston.org
X-WR-CALDESC:Events for Christ Presbyterian Church of Houston
REFRESH-INTERVAL;VALUE=DURATION:PT1H
X-Robots-Tag:noindex
X-PUBLISHED-TTL:PT1H
BEGIN:VTIMEZONE
TZID:America/Chicago
BEGIN:DAYLIGHT
TZOFFSETFROM:-0600
TZOFFSETTO:-0500
TZNAME:CDT
DTSTART:20240310T080000
END:DAYLIGHT
BEGIN:STANDARD
TZOFFSETFROM:-0500
TZOFFSETTO:-0600
TZNAME:CST
DTSTART:20241103T070000
END:STANDARD
BEGIN:DAYLIGHT
TZOFFSETFROM:-0600
TZOFFSETTO:-0500
TZNAME:CDT
DTSTART:20250309T080000
END:DAYLIGHT
BEGIN:STANDARD
TZOFFSETFROM:-0500
TZOFFSETTO:-0600
TZNAME:CST
DTSTART:20251102T070000
END:STANDARD
BEGIN:DAYLIGHT
TZOFFSETFROM:-0600
TZOFFSETTO:-0500
TZNAME:CDT
DTSTART:20260308T080000
END:DAYLIGHT
BEGIN:STANDARD
TZOFFSETFROM:-0500
TZOFFSETTO:-0600
TZNAME:CST
DTSTART:20261101T070000
END:STANDARD
END:VTIMEZONE
BEGIN:VEVENT
DTSTART;TZID=America/Chicago:20250516T110000
DTEND;TZID=America/Chicago:20250516T120000
DTSTAMP:20260422T073307
CREATED:20250514T173710Z
LAST-MODIFIED:20250516T175306Z
UID:20173-1747393200-1747396800@cpchouston.org
SUMMARY:Memorial Service for Ken Allison
DESCRIPTION:CPC member and our brother in Christ Ken Allison went home to the Lord on May 7. A memorial service will be held in the Sanctuary Friday\, May 16\, at 11 am\, followed by a light reception on Main Street. Please be in prayer for Wanda and her family during this difficult time. \nhttps://vimeo.com/1083316263?share=copy#t=0
URL:https://cpchouston.org/event/memorial-service-for-ken-allison/
LOCATION:CPC\, 8300 Katy Fwy\, Houston\, TX\, 77024\, United States
CATEGORIES:Featured Event
ATTACH;FMTTYPE=image/png:https://cpchouston.org/wp-content/uploads/2025/05/Memorial-Service-Ken-Allison.png
END:VEVENT
END:VCALENDAR