BEGIN:VCALENDAR
VERSION:2.0
PRODID:-//Christ Presbyterian Church of Houston - ECPv6.15.20//NONSGML v1.0//EN
CALSCALE:GREGORIAN
METHOD:PUBLISH
X-ORIGINAL-URL:https://cpchouston.org
X-WR-CALDESC:Events for Christ Presbyterian Church of Houston
REFRESH-INTERVAL;VALUE=DURATION:PT1H
X-Robots-Tag:noindex
X-PUBLISHED-TTL:PT1H
BEGIN:VTIMEZONE
TZID:America/Chicago
BEGIN:DAYLIGHT
TZOFFSETFROM:-0600
TZOFFSETTO:-0500
TZNAME:CDT
DTSTART:20240310T080000
END:DAYLIGHT
BEGIN:STANDARD
TZOFFSETFROM:-0500
TZOFFSETTO:-0600
TZNAME:CST
DTSTART:20241103T070000
END:STANDARD
BEGIN:DAYLIGHT
TZOFFSETFROM:-0600
TZOFFSETTO:-0500
TZNAME:CDT
DTSTART:20250309T080000
END:DAYLIGHT
BEGIN:STANDARD
TZOFFSETFROM:-0500
TZOFFSETTO:-0600
TZNAME:CST
DTSTART:20251102T070000
END:STANDARD
BEGIN:DAYLIGHT
TZOFFSETFROM:-0600
TZOFFSETTO:-0500
TZNAME:CDT
DTSTART:20260308T080000
END:DAYLIGHT
BEGIN:STANDARD
TZOFFSETFROM:-0500
TZOFFSETTO:-0600
TZNAME:CST
DTSTART:20261101T070000
END:STANDARD
END:VTIMEZONE
BEGIN:VEVENT
DTSTART;VALUE=DATE:20250413
DTEND;VALUE=DATE:20250421
DTSTAMP:20260420T083212
CREATED:20240215T180952Z
LAST-MODIFIED:20250416T144148Z
UID:15821-1744502400-1745193599@cpchouston.org
SUMMARY:Holy Week & Easter
DESCRIPTION:Please join the family of Christ Presbyterian Church for our Holy Week worship services and events. \nPalm Sunday | April 13\n8:30 am Worship Service10:00-10:50 am Sunday School11:00 am Worship Service12:15 pm Palm Sunday Picnic \nChildren of all ages are invited to process in with palms and sing a hymn at the beginning of the 11:00 worship service. \nMaundy Thursday | April 17\n7:00 pm Worship Service & Communion \nMaundy comes from the Latin word mandatum\, which is the first word of the phrase “A new commandment I give unto you\, that you love one another\, as I have loved you\,” spoken by Jesus to his disciples in the upper room. \nThis is a full worship service with communion\, as we remember Jesus sharing the Last Supper with his disciples before his betrayal\, arrest\, and crucifixion. \nChildcare for kindergarten and younger will be provided. \nGood Friday | April 18\n7:00 pm Tenebrae Service \nBefore there was the bright glow of Easter\, there was darkening…a time when events and situations worked deviously to a glorious end; a time when Jesus’ disciples were confounded and confused\, when the darkness seemed to win. And yet\, during those days…even then…God the Father worked his will. \nThe church has observed this service of Tenebrae (Latin meaning the darkening) in some form since the 12th century. This quiet service of word and song acknowledges\, once again\, the love that Jesus has for us and what he would subject himself to for our benefit. \nChildcare for kindergarten and younger will be provided. \nEaster Sunday | April 20\n7:00 am Sunrise Service in the Chapel9:00 am Worship Service in the Sanctuary11:00 am Worship Service in the Sanctuary \nThere will be no Sunday School on Easter Sunday. Children’s Church will be held at the 9 & 11 am services.
URL:https://cpchouston.org/event/holy-week-easter-3/
LOCATION:CPC\, 8300 Katy Fwy\, Houston\, TX\, 77024\, United States
CATEGORIES:Featured Event,Holy Week & Easter
ATTACH;FMTTYPE=image/png:https://cpchouston.org/wp-content/uploads/2024/02/Holy-Week-Easter-2025-Events.png
END:VEVENT
BEGIN:VEVENT
DTSTART;TZID=America/Chicago:20250420T070000
DTEND;TZID=America/Chicago:20250420T080000
DTSTAMP:20260420T083212
CREATED:20250313T205845Z
LAST-MODIFIED:20250313T205845Z
UID:19809-1745132400-1745136000@cpchouston.org
SUMMARY:Easter Sunday Worship
DESCRIPTION:7:00 am Sunrise Service in the Chapel\n9:00 am Worship Service in the Sanctuary\n11:00 am Worship Service in the Sanctuary \nThere will be no Sunday School on Easter Sunday. \nSee all Holy Week & Easter Services
URL:https://cpchouston.org/event/easter-sunday-worship-7/
LOCATION:CPC\, 8300 Katy Fwy\, Houston\, TX\, 77024\, United States
CATEGORIES:Holy Week & Easter
ATTACH;FMTTYPE=image/png:https://cpchouston.org/wp-content/uploads/2024/02/Holy-Week-Easter-2024-EASTER-EVENTS.png
END:VEVENT
BEGIN:VEVENT
DTSTART;TZID=America/Chicago:20250420T090000
DTEND;TZID=America/Chicago:20250420T101500
DTSTAMP:20260420T083212
CREATED:20250313T210002Z
LAST-MODIFIED:20250313T210002Z
UID:19811-1745139600-1745144100@cpchouston.org
SUMMARY:Easter Sunday Worship
DESCRIPTION:7:00 am Sunrise Service in the Chapel\n9:00 am Worship Service in the Sanctuary\n11:00 am Worship Service in the Sanctuary \nThere will be no Sunday School on Easter Sunday. \nSee all Holy Week & Easter Services
URL:https://cpchouston.org/event/easter-sunday-worship-8/
LOCATION:CPC\, 8300 Katy Fwy\, Houston\, TX\, 77024\, United States
CATEGORIES:Holy Week & Easter
ATTACH;FMTTYPE=image/png:https://cpchouston.org/wp-content/uploads/2024/02/Holy-Week-Easter-2024-EASTER-EVENTS.png
END:VEVENT
BEGIN:VEVENT
DTSTART;TZID=America/Chicago:20250420T110000
DTEND;TZID=America/Chicago:20250420T121500
DTSTAMP:20260420T083212
CREATED:20250313T210051Z
LAST-MODIFIED:20250313T210051Z
UID:19813-1745146800-1745151300@cpchouston.org
SUMMARY:Easter Sunday Worship
DESCRIPTION:7:00 am Sunrise Service in the Chapel\n9:00 am Worship Service in the Sanctuary\n11:00 am Worship Service in the Sanctuary \nThere will be no Sunday School on Easter Sunday. \nSee all Holy Week & Easter Services
URL:https://cpchouston.org/event/easter-sunday-worship-9/
LOCATION:CPC\, 8300 Katy Fwy\, Houston\, TX\, 77024\, United States
CATEGORIES:Holy Week & Easter
ATTACH;FMTTYPE=image/png:https://cpchouston.org/wp-content/uploads/2024/02/Holy-Week-Easter-2024-EASTER-EVENTS.png
END:VEVENT
END:VCALENDAR