BEGIN:VCALENDAR
VERSION:2.0
PRODID:-//Christ Presbyterian Church of Houston - ECPv6.15.20//NONSGML v1.0//EN
CALSCALE:GREGORIAN
METHOD:PUBLISH
X-ORIGINAL-URL:https://cpchouston.org
X-WR-CALDESC:Events for Christ Presbyterian Church of Houston
REFRESH-INTERVAL;VALUE=DURATION:PT1H
X-Robots-Tag:noindex
X-PUBLISHED-TTL:PT1H
BEGIN:VTIMEZONE
TZID:America/Chicago
BEGIN:DAYLIGHT
TZOFFSETFROM:-0600
TZOFFSETTO:-0500
TZNAME:CDT
DTSTART:20210314T080000
END:DAYLIGHT
BEGIN:STANDARD
TZOFFSETFROM:-0500
TZOFFSETTO:-0600
TZNAME:CST
DTSTART:20211107T070000
END:STANDARD
BEGIN:DAYLIGHT
TZOFFSETFROM:-0600
TZOFFSETTO:-0500
TZNAME:CDT
DTSTART:20220313T080000
END:DAYLIGHT
BEGIN:STANDARD
TZOFFSETFROM:-0500
TZOFFSETTO:-0600
TZNAME:CST
DTSTART:20221106T070000
END:STANDARD
BEGIN:DAYLIGHT
TZOFFSETFROM:-0600
TZOFFSETTO:-0500
TZNAME:CDT
DTSTART:20230312T080000
END:DAYLIGHT
BEGIN:STANDARD
TZOFFSETFROM:-0500
TZOFFSETTO:-0600
TZNAME:CST
DTSTART:20231105T070000
END:STANDARD
END:VTIMEZONE
BEGIN:VEVENT
DTSTART;TZID=America/Chicago:20220913T190000
DTEND;TZID=America/Chicago:20220913T203000
DTSTAMP:20260421T034842
CREATED:20221114T182754Z
LAST-MODIFIED:20221114T182919Z
UID:9815-1663095600-1663101000@cpchouston.org
SUMMARY:Women's Bible Study
DESCRIPTION:Fall 2022/Spring 2023 \nJoshua & Peter: The Sufficiency of God \n“And after you have suffered a little while\, the God of all grace\, who has called you to His eternal glory in Christ\, will Himself restore\, confirm\, strengthen\, and establish you.”~1 Peter 5.10 \n\nJoin Mikie Bellis and the women of CEPC for a 20-week Bible study focused on the sufficiency of God. We will examine how God continually restored\, confirmed\, strengthened\, and established two very different men: Joshua and Peter. As we study the books of Joshua and 1 & 2 Peter\, we will see how perfectly God provided for their greatest needs as they faced many challenges in life and in service to him. Again and again\, God proves to Joshua and to Peter that he is an All-Sufficient God. As we study the books bearing their names ~ Joshua\, 1 Peter\, and 2 Peter ~ we will meet the same All-Sufficient God. We will learn that he alone is able to still our fearful hearts\, quiet our anxious thoughts\, mend our broken spirits\, and comfort us in our times of suffering. Indeed\, he alone faithfully provides all we need. Come and spend time with the God of all grace\, who has called you to his eternal glory in Christ. he himself will restore\, confirm\, strengthen\, and establish you! \nWeekly lectures will be presented live and the lecture videos will be posted on the CEPC website on Wednesday afternoons here: Women’s Bible Study Videos. Lecture is also available on podcast: Apple Podcast or Spotify. \nSchedule: Small group discussion of the lecture and lesson will be offered: \n\nTuesdays from 7-8:30 pm (dinner will be served at 6:45 pm)\nWednesdays from 9:30-11 am (lunch will be served at 11 am)\nAn online small group will also meet on Wednesdays from 1:30-2:30 pm\n\nRegister online: Women’s Bible Study
URL:https://cpchouston.org/event/womens-bible-study-2/2022-09-13/
LOCATION:CPC\, 8300 Katy Fwy\, Houston\, TX\, 77024\, United States
CATEGORIES:Bible Study,Women
ATTACH;FMTTYPE=image/png:https://cpchouston.org/wp-content/uploads/2022/08/Womens-Bible-Study-2022-2023-Events.png
END:VEVENT
END:VCALENDAR